Report for Test-Pod-LinkCheck-0.007

Back
From: metabase:user:8286d1fc-3d52-11e2-9ec4-cb9cdd236785
Subject: PASS Test-Pod-LinkCheck-0.007 v5.12.4 GNU/Linux
Date: 2014-03-12T15:30:16Z

This distribution has been tested as part of the CPAN Testers
project, supporting the Perl programming language.  See
http://wiki.cpantesters.org/ for more information or email
questions to cpan-testers-discuss@perl.org


--
Dear Apocalypse,

This is a computer-generated report for Test-Pod-LinkCheck-0.007
on perl 5.12.4, created by CPAN-Reporter-1.2010.

Thank you for uploading your work to CPAN.  Congratulations!
All tests were successful.

Sections of this report:

    * Tester comments
    * Program output
    * Prerequisites
    * Environment and other context

------------------------------
TESTER COMMENTS
------------------------------

Additional comments from tester:

this report is from an automated smoke testing program
and was not reviewed by a human for accuracy

------------------------------
PROGRAM OUTPUT
------------------------------

Output from '/usr/local/bin/make test':

PERL_DL_NONLAZY=1 /opt/perl420-27-5.12.4/bin/perl "-MExtUtils::Command::MM" "-MTest::Harness" "-e" "undef *Test::Harness::Switches; test_harness(0, 'blib/lib', 'blib/arch')" t/*.t
t/00-compile.t ................ ok
# 
You should load Test::Tester before Test::Builder (or anything that loads Test::Builder) at /opt/perl420-27-5.12.4/lib/5.12.4/Test/Tester.pm line 9.
# 
# Generated by Dist::Zilla::Plugin::ReportVersions::Tiny v1.03
# perl: v5.12.4 (wanted 5.006) on linux from /opt/perl420-27-5.12.4/bin/perl
# 
# App::PodLinkCheck::ParseLinks                 => 12         (want 4)      
# App::PodLinkCheck::ParseSections              => 12         (want any version)
# Capture::Tiny                                 => 0.24       (want any version)
# Config                                        => <undef>    (want any version)
# Exporter                                      => 5.68       (want any version)
# File::Find                                    => 1.15       (want any version)
# File::Spec                                    => 3.40       (want any version)
# File::Temp                                    => 0.22       (want any version)
# Module::Build                                 => 0.4205     (want 0.3601) 
# Moose                                         => 2.1204     (want 1.01)   
# Moose::Util::TypeConstraints                  => 2.1204     (want 1.01)   
# Pod::Find                                     => 1.35       (want any version)
# Test::Builder                                 => 1.001002   (want 0.94)   
# Test::More                                    => 1.001002   (want 0.88)   
# Test::Pod                                     => 1.48       (want 1.44)   
# Test::Tester                                  => 0.109      (want any version)
# parent                                        => 0.223      (want any version)
# 
# Thanks for using my code.  I hope it works for you.
# If not, please try and include this output in the bug report.
# That will help me reproduce the issue and solve your problem.
# 
t/000-report-versions-tiny.t .. ok
t/apocalypse.t ................ skipped: Test::Apocalypse required for validating the distribution
[ERROR] No such key 'allow_unknown_prereqs' in field 'conf'

[ERROR] No such key 'histfile' in field 'conf'

t/cpan_backend.t .............. ok
t/functions.t ................. ok
[ERROR] No such key 'allow_unknown_prereqs' in field 'conf'

[ERROR] No such key 'histfile' in field 'conf'

t/simple.t .................... ok
All tests successful.

Test Summary Report
-------------------
t/cpan_backend.t            (Wstat: 0 Tests: 12 Failed: 0)
  TODO passed:   1-8
Files=6, Tests=118, 106 wallclock secs ( 0.21 usr  0.03 sys + 40.94 cusr  3.91 csys = 45.09 CPU)
Result: PASS

------------------------------
PREREQUISITES
------------------------------

Prerequisite modules loaded:

requires:

    Module                           Need   Have    
    -------------------------------- ------ --------
    App::PodLinkCheck::ParseLinks    4      12      
    App::PodLinkCheck::ParseSections 0      12      
    Capture::Tiny                    0      0.24    
    Config                           0      0       
    Exporter                         0      5.68    
    File::Spec                       0      3.40    
    Moose                            1.01   2.1204  
    Moose::Util::TypeConstraints     1.01   2.1204  
    parent                           0      0.223   
    Pod::Find                        0      1.35    
    Test::Builder                    0.94   1.001002
    Test::Pod                        1.44   1.48    

build_requires:

    Module                           Need   Have    
    -------------------------------- ------ --------
    ExtUtils::MakeMaker              6.31   6.90    
    File::Find                       0      1.15    
    File::Temp                       0      0.22    
    Test::More                       0.88   1.001002
    Test::Tester                     0      0.109   

configure_requires:

    Module                           Need   Have    
    -------------------------------- ------ --------
    Module::Build                    0.3601 0.4205  


------------------------------
ENVIRONMENT AND OTHER CONTEXT
------------------------------

Environment variables:

    AUTOMATED_TESTING = 1
    LANG = en_US.UTF-8
    LD_LIBRARY_PATH = /usr/local/lib
    PATH = /usr/lib/qt-3.3/bin:/usr/kerberos/sbin:/usr/kerberos/bin:/usr/lib/ccache:/usr/local/sbin:/usr/local/bin:/sbin:/bin:/usr/sbin:/usr/bin:/usr/X11R6/bin:/usr/lib/alliance/bin:/opt/real/RealPlayer:/root/bin:/usr/lib/alliance/bin:/opt/real/RealPlayer
    PERL5LIB = 
    PERL5OPT = 
    PERL5_CPANPLUS_IS_RUNNING = 6108
    PERL5_CPAN_IS_RUNNING = 6108
    PERL_ANYEVENT_MODEL = POE
    PERL_MM_NONINTERACTIVE = 1
    PERL_MM_USE_DEFAULT = 1
    SHELL = /bin/bash
    TERM = xterm

Perl special variables (and OS-specific diagnostics, for MSWin32):

    $^X = /opt/perl420-27-5.12.4/bin/perl
    $UID/$EUID = 0 / 0
    $GID = 0 0 1 2 3 4 6 10
    $EGID = 0 0 1 2 3 4 6 10

Perl module toolchain versions installed:

    Module              Have    
    ------------------- --------
    CPAN                1.94_56 
    CPAN::Meta          2.140640
    Cwd                 3.40    
    ExtUtils::CBuilder  0.280216
    ExtUtils::Command   1.16    
    ExtUtils::Install   1.55    
    ExtUtils::MakeMaker 6.90    
    ExtUtils::Manifest  1.60    
    ExtUtils::ParseXS   3.24    
    File::Spec          3.40    
    JSON                2.90    
    JSON::PP            2.27203 
    Module::Build       0.4205  
    Module::Signature   0.73    
    Parse::CPAN::Meta   1.4414  
    Test::Harness       3.30    
    Test::More          1.001002
    YAML                0.90    
    YAML::Syck          1.27    
    version             0.9908  


--

Summary of my perl5 (revision 5 version 12 subversion 4) configuration:
   
  Platform:
    osname=linux, osvers=2.6.27-repin.1, archname=i686-linux-thread-multi-64int-ld
    uname='linux localhost.localdomain 2.6.27-repin.1 #1 smp tue jan 25 20:07:21 msk 2011 i686 i686 i386 gnulinux '
    config_args='-Dcc=/opt/420/bin/gcc -Dprefix=/opt/perl420-27-5.12.4 -DDEBUGGING'
    hint=recommended, useposix=true, d_sigaction=define
    useithreads=define, usemultiplicity=define
    useperlio=define, d_sfio=undef, uselargefiles=define, usesocks=undef
    use64bitint=define, use64bitall=undef, uselongdouble=define
    usemymalloc=y, bincompat5005=undef
  Compiler:
    cc='/opt/420/bin/gcc', ccflags ='-D_REENTRANT -D_GNU_SOURCE -DDEBUGGING -fno-strict-aliasing -pipe -fstack-protector -I/usr/local/include -I/opt/gnu/include -D_LARGEFILE_SOURCE -D_FILE_OFFSET_BITS=64',
    optimize='-O2 -g',
    cppflags='-D_REENTRANT -D_GNU_SOURCE -DDEBUGGING -fno-strict-aliasing -pipe -fstack-protector -I/usr/local/include -I/opt/gnu/include'
    ccversion='', gccversion='4.2.0', gccosandvers=''
    intsize=4, longsize=4, ptrsize=4, doublesize=8, byteorder=12345678
    d_longlong=define, longlongsize=8, d_longdbl=define, longdblsize=12
    ivtype='long long', ivsize=8, nvtype='long double', nvsize=12, Off_t='off_t', lseeksize=8
    alignbytes=4, prototype=define
  Linker and Libraries:
    ld='/opt/420/bin/gcc', ldflags =' -fstack-protector -L/usr/local/lib'
    libpth=/usr/local/lib /lib /usr/lib
    libs=-lnsl -lgdbm -ldb -ldl -lm -lcrypt -lutil -lpthread -lc
    perllibs=-lnsl -ldl -lm -lcrypt -lutil -lpthread -lc
    libc=/lib/libc-2.5.so, so=so, useshrplib=true, libperl=libperl.so
    gnulibc_version='2.5'
  Dynamic Linking:
    dlsrc=dl_dlopen.xs, dlext=so, d_dlsymun=undef, ccdlflags='-Wl,-E -Wl,-rpath,/opt/perl420-27-5.12.4/lib/5.12.4/i686-linux-thread-multi-64int-ld/CORE'
    cccdlflags='-fPIC', lddlflags='-shared -O2 -g -L/usr/local/lib -fstack-protector'


Characteristics of this binary (from libperl): 
  Compile-time options: DEBUGGING MULTIPLICITY MYMALLOC PERL_DONT_CREATE_GVSV
                        PERL_IMPLICIT_CONTEXT PERL_MAD PERL_MALLOC_WRAP
                        PERL_TRACK_MEMPOOL USE_64_BIT_INT USE_FAST_STDIO
                        USE_ITHREADS USE_LARGE_FILES USE_LONG_DOUBLE
                        USE_PERLIO USE_PERL_ATOF USE_REENTRANT_API
  Built under linux
  Compiled at Mar 11 2014 23:01:50
  %ENV:
    PERL5LIB=""
    PERL5OPT=""
    PERL5_CPANPLUS_IS_RUNNING="6108"
    PERL5_CPAN_IS_RUNNING="6108"
    PERL_ANYEVENT_MODEL="POE"
    PERL_MM_NONINTERACTIVE="1"
    PERL_MM_USE_DEFAULT="1"
  @INC:
    /opt/perl420-27-5.12.4/lib/site_perl/5.12.4/i686-linux-thread-multi-64int-ld
    /opt/perl420-27-5.12.4/lib/site_perl/5.12.4
    /opt/perl420-27-5.12.4/lib/5.12.4/i686-linux-thread-multi-64int-ld
    /opt/perl420-27-5.12.4/lib/5.12.4
    .