Report for Class-MethodMaker-2.18

Back
From: metabase:user:b831f9ac-fc35-11e1-ae77-bd7e89445e80
Subject: PASS Class-MethodMaker-2.18 v5.17.6 GNU/Linux
Date: 2012-10-25T14:13:55Z

This distribution has been tested as part of the CPAN Testers
project, supporting the Perl programming language.  See
http://wiki.cpantesters.org/ for more information or email
questions to cpan-testers-discuss@perl.org


--
Dear Steffen Schwigon,

This is a computer-generated report for Class-MethodMaker-2.18
on perl 5.17.6, created by CPAN-Reporter-1.2006.

Thank you for uploading your work to CPAN.  Congratulations!
All tests were successful.

Sections of this report:

    * Tester comments
    * Program output
    * Prerequisites
    * Environment and other context

------------------------------
TESTER COMMENTS
------------------------------

Additional comments from tester:

none provided

------------------------------
PROGRAM OUTPUT
------------------------------

Output from '/usr/bin/make test':

PERL_DL_NONLAZY=1 /opt/perlafe/bin/perl "-MExtUtils::Command::MM" "-e" "test_harness(0, 'blib/lib', 'blib/arch')" t/*.t
t/array.t .................. ok
t/basic.t .................. ok
t/diffclass.t .............. ok
t/hash.t ................... ok
t/new.t .................... ok
t/redefine-warnings.t ...... ok
t/scalar.t ................. ok
Unescaped left brace in regex is deprecated, passed through in regex; marked by <-- HERE in m/(TEST\s{ <-- HERE )/ at t/test_v1.pm line 48.
t/v1_abstract.t ............ ok
Unescaped left brace in regex is deprecated, passed through in regex; marked by <-- HERE in m/(TEST\s{ <-- HERE )/ at t/test_v1.pm line 48.
t/v1_boolean.t ............. ok
Unescaped left brace in regex is deprecated, passed through in regex; marked by <-- HERE in m/(TEST\s{ <-- HERE )/ at t/test_v1.pm line 48.
t/v1_code.t ................ ok
Unescaped left brace in regex is deprecated, passed through in regex; marked by <-- HERE in m/(TEST\s{ <-- HERE )/ at t/test_v1.pm line 48.
t/v1_copy.t ................ ok
Unescaped left brace in regex is deprecated, passed through in regex; marked by <-- HERE in m/(TEST\s{ <-- HERE )/ at t/test_v1.pm line 48.
t/v1_counter.t ............. ok
Unescaped left brace in regex is deprecated, passed through in regex; marked by <-- HERE in m/(TEST\s{ <-- HERE )/ at t/test_v1.pm line 48.
t/v1_get_concat.t .......... ok
Unescaped left brace in regex is deprecated, passed through in regex; marked by <-- HERE in m/(TEST\s{ <-- HERE )/ at t/test_v1.pm line 48.
t/v1_get_set.t ............. ok
Unescaped left brace in regex is deprecated, passed through in regex; marked by <-- HERE in m/(TEST\s{ <-- HERE )/ at t/test_v1.pm line 48.
t/v1_get_set_hi.t .......... ok
Unescaped left brace in regex is deprecated, passed through in regex; marked by <-- HERE in m/(TEST\s{ <-- HERE )/ at t/test_v1.pm line 48.
t/v1_hash.t ................ ok
Unescaped left brace in regex is deprecated, passed through in regex; marked by <-- HERE in m/(TEST\s{ <-- HERE )/ at t/test_v1.pm line 48.
t/v1_key_attrib.t .......... ok
Unescaped left brace in regex is deprecated, passed through in regex; marked by <-- HERE in m/(TEST\s{ <-- HERE )/ at t/test_v1.pm line 48.
t/v1_key_with_create.t ..... ok
Unescaped left brace in regex is deprecated, passed through in regex; marked by <-- HERE in m/(TEST\s{ <-- HERE )/ at t/test_v1.pm line 48.
t/v1_list.t ................ ok
Unescaped left brace in regex is deprecated, passed through in regex; marked by <-- HERE in m/(TEST\s{ <-- HERE )/ at t/test_v1.pm line 48.
t/v1_method.t .............. ok
Unescaped left brace in regex is deprecated, passed through in regex; marked by <-- HERE in m/(TEST\s{ <-- HERE )/ at t/test_v1.pm line 48.
t/v1_new.t ................. ok
Unescaped left brace in regex is deprecated, passed through in regex; marked by <-- HERE in m/(TEST\s{ <-- HERE )/ at t/test_v1.pm line 48.
t/v1_new_hash_with_init.t .. ok
Unescaped left brace in regex is deprecated, passed through in regex; marked by <-- HERE in m/(TEST\s{ <-- HERE )/ at t/test_v1.pm line 48.
t/v1_object.t .............. ok
Unescaped left brace in regex is deprecated, passed through in regex; marked by <-- HERE in m/(TEST\s{ <-- HERE )/ at t/test_v1.pm line 48.
t/v1_object_list.t ......... ok
Unescaped left brace in regex is deprecated, passed through in regex; marked by <-- HERE in m/(TEST\s{ <-- HERE )/ at t/test_v1.pm line 48.
t/v1_object_tie_hash.t ..... ok
Unescaped left brace in regex is deprecated, passed through in regex; marked by <-- HERE in m/(TEST\s{ <-- HERE )/ at t/test_v1.pm line 48.
t/v1_object_tie_list.t ..... ok
Unescaped left brace in regex is deprecated, passed through in regex; marked by <-- HERE in m/(TEST\s{ <-- HERE )/ at t/test_v1.pm line 48.
t/v1_set_once.t ............ ok
Unescaped left brace in regex is deprecated, passed through in regex; marked by <-- HERE in m/(TEST\s{ <-- HERE )/ at t/test_v1.pm line 48.
t/v1_set_once_static.t ..... ok
Unescaped left brace in regex is deprecated, passed through in regex; marked by <-- HERE in m/(TEST\s{ <-- HERE )/ at t/test_v1.pm line 48.
t/v1_singleton.t ........... ok
Unescaped left brace in regex is deprecated, passed through in regex; marked by <-- HERE in m/(TEST\s{ <-- HERE )/ at t/test_v1.pm line 48.
t/v1_static_get_set.t ...... ok
Unescaped left brace in regex is deprecated, passed through in regex; marked by <-- HERE in m/(TEST\s{ <-- HERE )/ at t/test_v1.pm line 48.
t/v1_static_hash.t ......... ok
Unescaped left brace in regex is deprecated, passed through in regex; marked by <-- HERE in m/(TEST\s{ <-- HERE )/ at t/test_v1.pm line 48.
t/v1_static_list.t ......... ok
Unescaped left brace in regex is deprecated, passed through in regex; marked by <-- HERE in m/(TEST\s{ <-- HERE )/ at t/test_v1.pm line 48.
t/v1_tie_hash.t ............ ok
Unescaped left brace in regex is deprecated, passed through in regex; marked by <-- HERE in m/(TEST\s{ <-- HERE )/ at t/test_v1.pm line 48.
t/v1_tie_list.t ............ ok
Unescaped left brace in regex is deprecated, passed through in regex; marked by <-- HERE in m/(TEST\s{ <-- HERE )/ at t/test_v1.pm line 48.
t/v1_tie_scalar.t .......... ok
t/warnings.t ............... ok
All tests successful.
Files=36, Tests=1757, 27 wallclock secs ( 1.15 usr  0.11 sys + 11.87 cusr  1.33 csys = 14.46 CPU)
Result: PASS

------------------------------
PREREQUISITES
------------------------------

Prerequisite modules loaded:

requires:

    Module              Need  Have    
    ------------------- ----- --------
    perl                5.006 5.017006

build_requires:

    Module              Need  Have    
    ------------------- ----- --------
    ExtUtils::MakeMaker 0     6.63_02 

configure_requires:

    Module              Need  Have    
    ------------------- ----- --------
    ExtUtils::MakeMaker 0     6.63_02 


------------------------------
ENVIRONMENT AND OTHER CONTEXT
------------------------------

Environment variables:

    LANG = en_US.UTF-8
    PATH = /usr/lib/qt-3.3/bin:/usr/kerberos/sbin:/usr/kerberos/bin:/usr/lib/ccache:/usr/local/sbin:/usr/local/bin:/sbin:/bin:/usr/sbin:/usr/bin:/usr/X11R6/bin:/usr/lib/alliance/bin:/root/bin:/usr/lib/alliance/bin
    PERL5LIB = 
    PERL5OPT = 
    PERL5_CPANPLUS_IS_RUNNING = 5276
    PERL5_CPAN_IS_RUNNING = 5276
    SHELL = /bin/bash
    TERM = xterm

Perl special variables (and OS-specific diagnostics, for MSWin32):

    $^X = /opt/perlafe/bin/perl
    $UID/$EUID = 0 / 0
    $GID = 0 0 1 2 3 4 6 10
    $EGID = 0 0 1 2 3 4 6 10

Perl module toolchain versions installed:

    Module              Have    
    ------------------- --------
    CPAN                1.99_51 
    CPAN::Meta          2.120921
    Cwd                 3.39_02 
    ExtUtils::CBuilder  0.280209
    ExtUtils::Command   1.17    
    ExtUtils::Install   1.58    
    ExtUtils::MakeMaker 6.63_02 
    ExtUtils::Manifest  1.61    
    ExtUtils::ParseXS   3.18    
    File::Spec          3.39_02 
    JSON                2.53    
    JSON::PP            2.27200 
    Module::Build       0.4003  
    Module::Signature   n/a     
    Parse::CPAN::Meta   1.4404  
    Test::Harness       3.25_01 
    Test::More          0.98    
    YAML                0.84    
    YAML::Syck          1.21    
    version             0.9901  


--

Summary of my perl5 (revision 5 version 17 subversion 6) configuration:
  Snapshot of: af2fe5eb7afec48a3c828cbfe5de7011288fb6d2
  Platform:
    osname=linux, osvers=2.6.22.14-72.fc6, archname=i686-linux-thread-multi-64int-ld
    uname='linux localhost.localdomain 2.6.22.14-72.fc6 #1 smp wed nov 21 15:12:59 est 2007 i686 i686 i386 gnulinux '
    config_args='-Dcc=gcc -Dprefix=/opt/perlafe -DDEBUGGING'
    hint=recommended, useposix=true, d_sigaction=define
    useithreads=define, usemultiplicity=define
    useperlio=define, d_sfio=undef, uselargefiles=define, usesocks=undef
    use64bitint=define, use64bitall=undef, uselongdouble=define
    usemymalloc=y, bincompat5005=undef
  Compiler:
    cc='gcc', ccflags ='-D_REENTRANT -D_GNU_SOURCE -DDEBUGGING -fno-strict-aliasing -pipe -fstack-protector -I/usr/local/include -D_LARGEFILE_SOURCE -D_FILE_OFFSET_BITS=64',
    optimize='-O2 -g',
    cppflags='-D_REENTRANT -D_GNU_SOURCE -DDEBUGGING -fno-strict-aliasing -pipe -fstack-protector -I/usr/local/include'
    ccversion='', gccversion='4.1.2 20070626 (Red Hat 4.1.2-13)', gccosandvers=''
    intsize=4, longsize=4, ptrsize=4, doublesize=8, byteorder=12345678
    d_longlong=define, longlongsize=8, d_longdbl=define, longdblsize=12
    ivtype='long long', ivsize=8, nvtype='long double', nvsize=12, Off_t='off_t', lseeksize=8
    alignbytes=4, prototype=define
  Linker and Libraries:
    ld='gcc', ldflags =' -fstack-protector -L/usr/local/lib'
    libpth=/usr/local/lib /lib /usr/lib
    libs=-lnsl -lgdbm -ldb -ldl -lm -lcrypt -lutil -lpthread -lc
    perllibs=-lnsl -ldl -lm -lcrypt -lutil -lpthread -lc
    libc=/lib/libc-2.5.so, so=so, useshrplib=true, libperl=libperl.so
    gnulibc_version='2.5'
  Dynamic Linking:
    dlsrc=dl_dlopen.xs, dlext=so, d_dlsymun=undef, ccdlflags='-Wl,-E -Wl,-rpath,/opt/perlafe/lib/5.17.6/i686-linux-thread-multi-64int-ld/CORE'
    cccdlflags='-fPIC', lddlflags='-shared -O2 -g -L/usr/local/lib -fstack-protector'


Characteristics of this binary (from libperl): 
  Compile-time options: DEBUGGING HAS_TIMES MULTIPLICITY MYMALLOC
                        PERLIO_LAYERS PERL_DONT_CREATE_GVSV
                        PERL_IMPLICIT_CONTEXT PERL_MAD PERL_MALLOC_WRAP
                        PERL_PRESERVE_IVUV PERL_TRACK_MEMPOOL USE_64_BIT_INT
                        USE_FAST_STDIO USE_ITHREADS USE_LARGE_FILES
                        USE_LOCALE USE_LOCALE_COLLATE USE_LOCALE_CTYPE
                        USE_LOCALE_NUMERIC USE_LONG_DOUBLE USE_PERLIO
                        USE_PERL_ATOF USE_REENTRANT_API
  Built under linux
  Compiled at Oct 23 2012 16:36:15
  %ENV:
    PERL5LIB=""
    PERL5OPT=""
    PERL5_CPANPLUS_IS_RUNNING="5276"
    PERL5_CPAN_IS_RUNNING="5276"
  @INC:
    /opt/perlafe/lib/site_perl/5.17.6/i686-linux-thread-multi-64int-ld
    /opt/perlafe/lib/site_perl/5.17.6
    /opt/perlafe/lib/5.17.6/i686-linux-thread-multi-64int-ld
    /opt/perlafe/lib/5.17.6
    .