Back
From: metabase:user:9820532a-708b-1014-9a05-b18a96298da1
Subject: PASS HTTP-Engine-0.03005 v5.15.5 FreeBSD
Date: 2011-11-24T00:14:01Z
This distribution has been tested as part of the CPAN Testers
project, supporting the Perl programming language. See
http://wiki.cpantesters.org/ for more information or email
questions to cpan-testers-discuss@perl.org
--
Dear Kazuhiro Osawa,
This is a computer-generated report for HTTP-Engine-0.03005
on perl 5.15.5, created by CPAN-Reporter-1.2002.
Thank you for uploading your work to CPAN. Congratulations!
All tests were successful.
Sections of this report:
* Tester comments
* Program output
* Prerequisites
* Environment and other context
------------------------------
TESTER COMMENTS
------------------------------
Additional comments from tester:
this report is from an automated smoke testing program
and was not reviewed by a human for accuracy
------------------------------
PROGRAM OUTPUT
------------------------------
Output from '/usr/bin/make test':
PERL_DL_NONLAZY=1 /usr/home/test/perl5/perlbrew/perls/perl-5.15.5/bin/perl5.15.5 "-MExtUtils::Command::MM" "-e" "test_harness(0, 'inc', 'blib/lib', 'blib/arch')" t/*.t t/*/*.t t/moose/*/*.t
# Soft dependency versions:
# Any::Moose 0.18
# Mouse 0.97
# MooseX::Types 0.30
t/00_compile.t .............................................. ok
t/010_core/builder_options-upload_tmp.t ..................... ok
t/010_core/interface-require.t .............................. ok
t/010_core/interface.t ...................................... ok
t/010_core/load_requestbuilder_cgi.t ........................ ok
t/010_core/request-absolute_uri.t ........................... ok
t/010_core/request-as_http_request.t ........................ ok
t/010_core/request-as_string.t .............................. ok
t/010_core/request-body.t ................................... ok
t/010_core/request-content.t ................................ ok
t/010_core/request-cookie.t ................................. ok
t/010_core/request-hostname.t ............................... ok
t/010_core/request-many_upload.t ............................ ok
t/010_core/request-parameters.t ............................. ok
t/010_core/request-params.t ................................. ok
t/010_core/request-parse.t .................................. ok
t/010_core/request-proxy_request.t .......................... ok
t/010_core/request-raw_body.t ............................... ok
t/010_core/request-readbody.t ............................... ok
t/010_core/request-secure.t ................................. ok
t/010_core/request-upload.t ................................. ok
t/010_core/request-uri.t .................................... ok
t/010_core/request.t ........................................ ok
t/010_core/request_builder-noenv.t .......................... ok
t/010_core/request_processor-catch_error.t .................. ok
t/010_core/request_processor-make_request.t ................. ok
t/010_core/request_processor-response_error.t ............... ok
t/010_core/request_upload-basename.t ........................ ok
t/010_core/response-code.t .................................. ok
t/010_core/response-coerce_headers.t ........................ ok
t/010_core/response-content_length.t ........................ ok
t/010_core/response-cookie.t ................................ ok
t/010_core/response-new.t ................................... ok
t/010_core/response-set_http_response.t ..................... ok
t/010_core/response-status.t ................................ ok
t/010_core/response.t ....................................... ok
t/010_core/response_finalizer.t ............................. ok
t/010_core/response_writer.t ................................ ok
t/010_core/responsewriter-broken_io.t ....................... ok
t/010_core/responsewriter-with_io.t ......................... ok
t/020_interface/cgi.t ....................................... ok
t/020_interface/lighty-fcgi.t ............................... skipped: set TEST_LIGHTTPD to enable this test
t/020_interface/modperl_wildcard_hostname.t ................. skipped: this test requires mod_perl 2
t/020_interface/poe-proxy.t ................................. skipped: this test requires POE::Component::Client::HTTP
t/020_interface/poe-uri.t ................................... skipped: this test requires POE::Component::Client::HTTP
t/020_interface/poe.t ....................................... skipped: this test requires POE::Component::Client::HTTP
t/020_interface/psgi-with_plack.t ........................... ok
t/020_interface/psgi.t ...................................... ok
t/020_interface/server_simple-net_server_configure.t ........ ok
t/020_interface/server_simple-not-send-header-bug.t ......... ok
t/020_interface/server_simple-print_banner.t ................ ok
t/020_interface/server_simple.t ............................. ok
t/020_interface/standalone-keep_alive.t ..................... skipped: Interface::Standalone will be removed
t/020_interface/standalone-restart.t ........................ skipped: Interface::Standalone will be removed
t/020_interface/streaming_response.t ........................ ok
t/020_interface/test-validation.t ........................... ok
t/020_interface/test-warn_at_utf8.t ......................... ok
t/020_interface/test.t ...................................... ok
t/020_interface/test_response-with_io.t ..................... ok
t/020_interface/test_upload.t ............................... ok
t/030_daemonize/connection_info.t ........................... ok
t/030_daemonize/headers.t ................................... ok
t/030_daemonize/proxy_path.t ................................ ok
t/030_daemonize/raw_body.t .................................. ok
t/030_daemonize/request_independence.t ...................... ok
t/030_daemonize/responsewriter_io.t ......................... ok
t/030_daemonize/upload-methods.t ............................ ok
t/030_daemonize/upload.t .................................... ok
t/030_daemonize/uri.t ....................................... ok
t/030_daemonize/utf8flagged-uri.t ........................... ok
t/040_minimal/001_simple.t .................................. ok
t/050_tests/request.t ....................................... ok
# Soft dependency versions:
# Any::Moose 0.18
# Mouse 0.97
# MooseX::Types 0.30
t/moose/00_compile.t ........................................ ok
t/moose/010_core/builder_options-upload_tmp.t ............... ok
t/moose/010_core/interface-require.t ........................ ok
t/moose/010_core/interface.t ................................ ok
t/moose/010_core/load_requestbuilder_cgi.t .................. ok
t/moose/010_core/request-absolute_uri.t ..................... ok
t/moose/010_core/request-as_http_request.t .................. ok
t/moose/010_core/request-as_string.t ........................ ok
t/moose/010_core/request-body.t ............................. ok
t/moose/010_core/request-content.t .......................... ok
t/moose/010_core/request-cookie.t ........................... ok
t/moose/010_core/request-hostname.t ......................... ok
t/moose/010_core/request-many_upload.t ...................... ok
t/moose/010_core/request-parameters.t ....................... ok
t/moose/010_core/request-params.t ........................... ok
t/moose/010_core/request-parse.t ............................ ok
t/moose/010_core/request-proxy_request.t .................... ok
t/moose/010_core/request-raw_body.t ......................... ok
t/moose/010_core/request-readbody.t ......................... ok
t/moose/010_core/request-secure.t ........................... ok
t/moose/010_core/request-upload.t ........................... ok
t/moose/010_core/request-uri.t .............................. ok
t/moose/010_core/request.t .................................. ok
t/moose/010_core/request_builder-noenv.t .................... ok
t/moose/010_core/request_processor-catch_error.t ............ ok
t/moose/010_core/request_processor-make_request.t ........... ok
t/moose/010_core/request_processor-response_error.t ......... ok
t/moose/010_core/request_upload-basename.t .................. ok
t/moose/010_core/response-code.t ............................ ok
t/moose/010_core/response-coerce_headers.t .................. ok
t/moose/010_core/response-content_length.t .................. ok
t/moose/010_core/response-cookie.t .......................... ok
t/moose/010_core/response-new.t ............................. ok
t/moose/010_core/response-set_http_response.t ............... ok
t/moose/010_core/response-status.t .......................... ok
t/moose/010_core/response.t ................................. ok
t/moose/010_core/response_finalizer.t ....................... ok
t/moose/010_core/response_writer.t .......................... ok
t/moose/010_core/responsewriter-broken_io.t ................. ok
t/moose/010_core/responsewriter-with_io.t ................... ok
t/moose/020_interface/cgi.t ................................. ok
t/moose/020_interface/lighty-fcgi.t ......................... skipped: set TEST_LIGHTTPD to enable this test
t/moose/020_interface/modperl_wildcard_hostname.t ........... skipped: this test requires mod_perl 2
t/moose/020_interface/poe-proxy.t ........................... skipped: this test requires POE::Component::Client::HTTP
t/moose/020_interface/poe-uri.t ............................. skipped: this test requires POE::Component::Client::HTTP
t/moose/020_interface/poe.t ................................. skipped: this test requires POE::Component::Client::HTTP
t/moose/020_interface/psgi-with_plack.t ..................... ok
t/moose/020_interface/psgi.t ................................ ok
t/moose/020_interface/server_simple-net_server_configure.t .. ok
t/moose/020_interface/server_simple-not-send-header-bug.t ... ok
t/moose/020_interface/server_simple-print_banner.t .......... ok
t/moose/020_interface/server_simple.t ....................... ok
t/moose/020_interface/standalone-keep_alive.t ............... skipped: Interface::Standalone will be removed
t/moose/020_interface/standalone-restart.t .................. skipped: Interface::Standalone will be removed
t/moose/020_interface/streaming_response.t .................. ok
t/moose/020_interface/test-validation.t ..................... ok
t/moose/020_interface/test-warn_at_utf8.t ................... ok
t/moose/020_interface/test.t ................................ ok
t/moose/020_interface/test_response-with_io.t ............... ok
t/moose/020_interface/test_upload.t ......................... ok
t/moose/030_daemonize/connection_info.t ..................... ok
t/moose/030_daemonize/headers.t ............................. ok
t/moose/030_daemonize/proxy_path.t .......................... ok
t/moose/030_daemonize/raw_body.t ............................ ok
t/moose/030_daemonize/request_independence.t ................ ok
t/moose/030_daemonize/responsewriter_io.t ................... ok
t/moose/030_daemonize/upload-methods.t ...................... ok
t/moose/030_daemonize/upload.t .............................. ok
t/moose/030_daemonize/uri.t ................................. ok
t/moose/030_daemonize/utf8flagged-uri.t ..................... ok
t/moose/040_minimal/001_simple.t ............................ ok
t/moose/050_tests/request.t ................................. ok
All tests successful.
Files=144, Tests=1362, 100 wallclock secs ( 1.47 usr 3.29 sys + 56.01 cusr 23.07 csys = 83.84 CPU)
Result: PASS
------------------------------
PREREQUISITES
------------------------------
Prerequisite modules loaded:
requires:
Module Need Have
-------------------- ------ --------
Any::Moose 0.13 0.18
CGI::Simple::Cookie 1.103 1.113
File::Copy 0 2.21
File::Spec::Unix 3.2701 3.34
Filter::Util::Call 0 1.39
HTTP::Body 1.05 1.14
HTTP::Headers::Fast 0.11 0.13
HTTP::Server::Simple 0.35 0.44
Mouse 0.62 0.97
MouseX::Types 0.05 0.06
perl 5.008 5.015005
Scalar::Util 1.19 1.23
URI 1.36 1.59
build_requires:
Module Need Have
-------------------- ------ --------
ExtUtils::MakeMaker 6.42 6.62
File::Temp 0.20 0.22
HTTP::Request::AsCGI 0 1.2
IO::File 1.14 1.15
IO::Scalar 0 2.110
IO::Socket 1.3 1.33
IO::Socket::INET 0 1.32
Test::More 0 0.98
! Test::SharedFork 0.11 broken
Test::TCP 0.16 1.13
YAML 0 0.77
configure_requires:
Module Need Have
-------------------- ------ --------
ExtUtils::MakeMaker 6.42 6.62
------------------------------
ENVIRONMENT AND OTHER CONTEXT
------------------------------
Environment variables:
AUTOMATED_TESTING = 1
LANG = C
LC_ALL = C
PATH = /home/test/perl5/perlbrew/bin:/home/test/perl5/perlbrew/perls/perl-5.15.5/bin:~/bin:/sbin:/bin:/usr/sbin:/usr/bin:/usr/games:/usr/local/sbin:/usr/local/bin:/home/test/bin
PATH_WITHOUT_PERLBREW = ~/bin:/sbin:/bin:/usr/sbin:/usr/bin:/usr/games:/usr/local/sbin:/usr/local/bin:/home/test/bin
PERL5LIB =
PERL5OPT =
PERL5_CPANPLUS_IS_RUNNING = 26689
PERL5_CPAN_IS_RUNNING = 26689
PERL5_CPAN_IS_RUNNING_IN_RECURSION = 46569,26689
PERLBREW_BASHRC_VERSION = 0.33
PERLBREW_HOME = /home/test/.perlbrew
PERLBREW_PATH = /home/test/perl5/perlbrew/bin:/home/test/perl5/perlbrew/perls/perl-5.15.5/bin
PERLBREW_PERL = perl-5.15.5
PERLBREW_ROOT = /home/test/perl5/perlbrew
PERLBREW_VERSION = 0.33
PERL_CPANM_OPT = --prompt --mirror http://172.16.1.3/cpan/
PERL_CR_SMOKER_CURRENT = HTTP-Engine-0.03005
PERL_EXTUTILS_AUTOINSTALL = --defaultdeps
PERL_MM_USE_DEFAULT = 1
SHELL = /usr/local/bin/bash
TERM = linux
Perl special variables (and OS-specific diagnostics, for MSWin32):
$^X = /usr/home/test/perl5/perlbrew/perls/perl-5.15.5/bin/perl5.15.5
$UID/$EUID = 1002 / 1002
$GID = 1002 1002
$EGID = 1002 1002
Perl module toolchain versions installed:
Module Have
------------------- --------
CPAN 1.9800
CPAN::Meta 2.112621
Cwd 3.37
ExtUtils::CBuilder 0.280204
ExtUtils::Command 1.17
ExtUtils::Install 1.57
ExtUtils::MakeMaker 6.62
ExtUtils::Manifest 1.60
ExtUtils::ParseXS 3.05
File::Spec 3.34
JSON 2.53
JSON::PP 2.27200
Module::Build 0.39_01
Module::Signature n/a
Parse::CPAN::Meta 1.4401
Test::Harness 3.23
Test::More 0.98
YAML 0.77
YAML::Syck 1.19
version 0.95
--
Summary of my perl5 (revision 5 version 15 subversion 5) configuration:
Platform:
osname=freebsd, osvers=8.1-release, archname=amd64-freebsd
uname='freebsd fbsd.local 8.1-release freebsd 8.1-release #0: mon jul 19 02:36:49 utc 2010 root@mason.cse.buffalo.edu:usrobjusrsrcsysgeneric amd64 '
config_args='-de -Dprefix=/home/test/perl5/perlbrew/perls/perl-5.15.5 -Dusedevel'
hint=recommended, useposix=true, d_sigaction=define
useithreads=undef, usemultiplicity=undef
useperlio=define, d_sfio=undef, uselargefiles=define, usesocks=undef
use64bitint=define, use64bitall=define, uselongdouble=undef
usemymalloc=n, bincompat5005=undef
Compiler:
cc='cc', ccflags ='-DHAS_FPSETMASK -DHAS_FLOATINGPOINT_H -fno-strict-aliasing -pipe -fstack-protector -I/usr/local/include',
optimize='-O',
cppflags='-DHAS_FPSETMASK -DHAS_FLOATINGPOINT_H -fno-strict-aliasing -pipe -fstack-protector -I/usr/local/include'
ccversion='', gccversion='4.2.1 20070719 [FreeBSD]', gccosandvers=''
intsize=4, longsize=8, ptrsize=8, doublesize=8, byteorder=12345678
d_longlong=define, longlongsize=8, d_longdbl=define, longdblsize=16
ivtype='long', ivsize=8, nvtype='double', nvsize=8, Off_t='off_t', lseeksize=8
alignbytes=8, prototype=define
Linker and Libraries:
ld='cc', ldflags ='-Wl,-E -fstack-protector -L/usr/local/lib'
libpth=/usr/lib /usr/local/lib
libs=-lm -lcrypt -lutil -lc
perllibs=-lm -lcrypt -lutil -lc
libc=, so=so, useshrplib=false, libperl=libperl.a
gnulibc_version=''
Dynamic Linking:
dlsrc=dl_dlopen.xs, dlext=so, d_dlsymun=undef, ccdlflags=' '
cccdlflags='-DPIC -fPIC', lddlflags='-shared -L/usr/local/lib -fstack-protector'
Characteristics of this binary (from libperl):
Compile-time options: HAS_TIMES PERLIO_LAYERS PERL_DONT_CREATE_GVSV
PERL_MALLOC_WRAP PERL_PRESERVE_IVUV PERL_USE_DEVEL
USE_64_BIT_ALL USE_64_BIT_INT USE_LARGE_FILES
USE_LOCALE USE_LOCALE_COLLATE USE_LOCALE_CTYPE
USE_LOCALE_NUMERIC USE_PERLIO USE_PERL_ATOF
Built under freebsd
Compiled at Nov 22 2011 00:07:42
%ENV:
PERL5LIB=""
PERL5OPT=""
PERL5_CPANPLUS_IS_RUNNING="26689"
PERL5_CPAN_IS_RUNNING="26689"
PERL5_CPAN_IS_RUNNING_IN_RECURSION="46569,26689"
PERLBREW_BASHRC_VERSION="0.33"
PERLBREW_HOME="/home/test/.perlbrew"
PERLBREW_PATH="/home/test/perl5/perlbrew/bin:/home/test/perl5/perlbrew/perls/perl-5.15.5/bin"
PERLBREW_PERL="perl-5.15.5"
PERLBREW_ROOT="/home/test/perl5/perlbrew"
PERLBREW_VERSION="0.33"
PERL_CPANM_OPT="--prompt --mirror http://172.16.1.3/cpan/"
PERL_CR_SMOKER_CURRENT="HTTP-Engine-0.03005"
PERL_EXTUTILS_AUTOINSTALL="--defaultdeps"
PERL_MM_USE_DEFAULT="1"
@INC:
/home/test/perl5/perlbrew/perls/perl-5.15.5/lib/site_perl/5.15.5/amd64-freebsd
/home/test/perl5/perlbrew/perls/perl-5.15.5/lib/site_perl/5.15.5
/home/test/perl5/perlbrew/perls/perl-5.15.5/lib/5.15.5/amd64-freebsd
/home/test/perl5/perlbrew/perls/perl-5.15.5/lib/5.15.5
.