Back
From: metabase:user:314402c4-2aae-11df-837a-5e0a49663a4f
Subject: PASS Catalyst-View-RRDGraph-0.10 v5.20.1 RC2 GNU/Linux
Date: 2014-09-10T11:11:28Z
This distribution has been tested as part of the CPAN Testers
project, supporting the Perl programming language. See
http://wiki.cpantesters.org/ for more information or email
questions to cpan-testers-discuss@perl.org
--
Dear Miquel Ruiz Martin,
This is a computer-generated report for Catalyst-View-RRDGraph-0.10
on perl 5.20.1, created by CPAN-Reporter-1.2011.
Thank you for uploading your work to CPAN. Congratulations!
All tests were successful.
Sections of this report:
* Tester comments
* Program output
* Prerequisites
* Environment and other context
------------------------------
TESTER COMMENTS
------------------------------
Additional comments from tester:
none provided
------------------------------
PROGRAM OUTPUT
------------------------------
Output from '/usr/bin/make test':
PERL_DL_NONLAZY=1 /bbbike/perl-5.20.1-RC2/bin/perl "-MExtUtils::Command::MM" "-MTest::Harness" "-e" "undef *Test::Harness::Switches; test_harness(0, 'blib/lib', 'blib/arch')" t/*.t
t/001_load.t ............ ok
t/002_process.t ......... ok
[debug] Debug messages enabled
[debug] Statistics enabled
[debug] Loaded PSGI Middleware:
.-----------------------------------------------------------------------------------------------------------------------------------------------------------------------------------------------------------------------------------------------------------------------.
| Catalyst::Middleware::Stash |
| Plack::Middleware::HTTPExceptions |
| Plack::Middleware::RemoveRedundantBody 0.04 |
| Plack::Middleware::FixMissingBodyInRedirect 0.10 |
| Plack::Middleware::ContentLength |
| Plack::Middleware::MethodOverride 0.10 |
| Plack::Middleware::Head |
'-----------------------------------------------------------------------------------------------------------------------------------------------------------------------------------------------------------------------------------------------------------------------'
[debug] Loaded Request Data Handlers:
.-----------------------------------------------------------------------------------------------------------------------------------------------------------------------------------------------------------------------------------------------------------------------.
| application/json |
| application/x-www-form-urlencoded |
'-----------------------------------------------------------------------------------------------------------------------------------------------------------------------------------------------------------------------------------------------------------------------'
[debug] Loaded dispatcher "Catalyst::Dispatcher"
[debug] Loaded engine "Catalyst::Engine"
[debug] Found home "/tmpfs/.cpan-build/Catalyst-View-RRDGraph-0.10-qqG3hQ/t/lib/RRDGraphTest003"
[debug] Loaded components:
.------------------------------------------------------------------------------------------------------------------------------------------------------------------------------------------------------------------------------------------------------------+----------.
| Class | Type |
+------------------------------------------------------------------------------------------------------------------------------------------------------------------------------------------------------------------------------------------------------------+----------+
| RRDGraphTest003::Controller::Root | instance |
| RRDGraphTest003::View::RRDNormal | instance |
| RRDGraphTest003::View::RRDOnServe | instance |
| RRDGraphTest003::View::RRDOnServeFunction | instance |
'------------------------------------------------------------------------------------------------------------------------------------------------------------------------------------------------------------------------------------------------------------+----------'
[debug] Loaded Private actions:
.-----------------------------------------------------------------+---------------------------------------------------------------------------------------------------------------------------------+-------------------------------------------------------------------.
| Private | Class | Method |
+-----------------------------------------------------------------+---------------------------------------------------------------------------------------------------------------------------------+-------------------------------------------------------------------+
| /zero_byte_error_normal | RRDGraphTest003::Controller::Root | zero_byte_error_normal |
| /zero_byte_error_function | RRDGraphTest003::Controller::Root | zero_byte_error_function |
| /image_error_normal | RRDGraphTest003::Controller::Root | image_error_normal |
| /zero_byte_error | RRDGraphTest003::Controller::Root | zero_byte_error |
| /image_error_function | RRDGraphTest003::Controller::Root | image_error_function |
| /image_error | RRDGraphTest003::Controller::Root | image_error |
'-----------------------------------------------------------------+---------------------------------------------------------------------------------------------------------------------------------+-------------------------------------------------------------------'
[debug] Loaded Path actions:
.-----------------------------------------------------------------------------------------------------------------------------------+-----------------------------------------------------------------------------------------------------------------------------------.
| Path | Private |
+-----------------------------------------------------------------------------------------------------------------------------------+-----------------------------------------------------------------------------------------------------------------------------------+
| /image_error/... | /image_error |
| /image_error_function/... | /image_error_function |
| /image_error_normal/... | /image_error_normal |
| /zero_byte_error/... | /zero_byte_error |
| /zero_byte_error_function/... | /zero_byte_error_function |
| /zero_byte_error_normal/... | /zero_byte_error_normal |
'-----------------------------------------------------------------------------------------------------------------------------------+-----------------------------------------------------------------------------------------------------------------------------------'
[info] RRDGraphTest003 powered by Catalyst 5.90071
[info] *** Request 1 (1.000/s) [21330] [Wed Sep 10 11:11:53 2014] ***
[debug] Path is "zero_byte_error"
[debug] "GET" request for "zero_byte_error" from "127.0.0.1"
[error] RRDgraph is 0 bytes
[debug] Static::Simple: Serving static file: error_image.png as image/png
[debug] Response Code: 200; Content-Type: image/png; Content-Length: 14
[info] Request took 0.005954s (167.954/s)
.-------------------------------------------------------------------------------------------------------------------------------------------------------------------------------------------------------------------------------------------------------+-----------.
| Action | Time |
+-------------------------------------------------------------------------------------------------------------------------------------------------------------------------------------------------------------------------------------------------------+-----------+
| /zero_byte_error | 0.003694s |
| -> RRDGraphTest003::View::RRDOnServe->process | 0.003382s |
'-------------------------------------------------------------------------------------------------------------------------------------------------------------------------------------------------------------------------------------------------------+-----------'
[info] *** Request 2 (2.000/s) [21330] [Wed Sep 10 11:11:53 2014] ***
[debug] Path is "image_error"
[debug] "GET" request for "image_error" from "127.0.0.1"
[error] Unknown option
[debug] Static::Simple: Serving static file: error_image.png as image/png
[debug] Response Code: 200; Content-Type: image/png; Content-Length: 14
[info] Request took 0.002682s (372.856/s)
.-------------------------------------------------------------------------------------------------------------------------------------------------------------------------------------------------------------------------------------------------------+-----------.
| Action | Time |
+-------------------------------------------------------------------------------------------------------------------------------------------------------------------------------------------------------------------------------------------------------+-----------+
| /image_error | 0.000985s |
| -> RRDGraphTest003::View::RRDOnServe->process | 0.000739s |
'-------------------------------------------------------------------------------------------------------------------------------------------------------------------------------------------------------------------------------------------------------+-----------'
[info] *** Request 3 (3.000/s) [21330] [Wed Sep 10 11:11:53 2014] ***
[debug] Path is "zero_byte_error_normal"
[debug] "GET" request for "zero_byte_error_normal" from "127.0.0.1"
[error] RRDgraph is 0 bytes
[debug] Response Code: 500; Content-Type: text/html; charset=utf-8; Content-Length: unknown
[info] Request took 0.005245s (190.658/s)
.-------------------------------------------------------------------------------------------------------------------------------------------------------------------------------------------------------------------------------------------------------+-----------.
| Action | Time |
+-------------------------------------------------------------------------------------------------------------------------------------------------------------------------------------------------------------------------------------------------------+-----------+
| /zero_byte_error_normal | 0.000937s |
| -> RRDGraphTest003::View::RRDNormal->process | 0.000625s |
'-------------------------------------------------------------------------------------------------------------------------------------------------------------------------------------------------------------------------------------------------------+-----------'
[info] *** Request 4 (4.000/s) [21330] [Wed Sep 10 11:11:53 2014] ***
[debug] Path is "image_error_normal"
[debug] "GET" request for "image_error_normal" from "127.0.0.1"
[error] Unknown option
[debug] Response Code: 500; Content-Type: text/html; charset=utf-8; Content-Length: unknown
[info] Request took 0.005066s (197.394/s)
.-------------------------------------------------------------------------------------------------------------------------------------------------------------------------------------------------------------------------------------------------------+-----------.
| Action | Time |
+-------------------------------------------------------------------------------------------------------------------------------------------------------------------------------------------------------------------------------------------------------+-----------+
| /image_error_normal | 0.000801s |
| -> RRDGraphTest003::View::RRDNormal->process | 0.000524s |
'-------------------------------------------------------------------------------------------------------------------------------------------------------------------------------------------------------------------------------------------------------+-----------'
[info] *** Request 5 (5.000/s) [21330] [Wed Sep 10 11:11:53 2014] ***
[debug] Path is "zero_byte_error_function"
[debug] "GET" request for "zero_byte_error_function" from "127.0.0.1"
[debug] Response Code: 200; Content-Type: unknown; Content-Length: unknown
[info] Request took 0.002415s (414.079/s)
.-------------------------------------------------------------------------------------------------------------------------------------------------------------------------------------------------------------------------------------------------------+-----------.
| Action | Time |
+-------------------------------------------------------------------------------------------------------------------------------------------------------------------------------------------------------------------------------------------------------+-----------+
| /zero_byte_error_function | 0.000762s |
| -> RRDGraphTest003::View::RRDOnServeFunction->process | 0.000506s |
'-------------------------------------------------------------------------------------------------------------------------------------------------------------------------------------------------------------------------------------------------------+-----------'
[info] *** Request 6 (6.000/s) [21330] [Wed Sep 10 11:11:53 2014] ***
[debug] Path is "image_error_function"
[debug] "GET" request for "image_error_function" from "127.0.0.1"
[debug] Response Code: 200; Content-Type: unknown; Content-Length: unknown
[info] Request took 0.002454s (407.498/s)
.-------------------------------------------------------------------------------------------------------------------------------------------------------------------------------------------------------------------------------------------------------+-----------.
| Action | Time |
+-------------------------------------------------------------------------------------------------------------------------------------------------------------------------------------------------------------------------------------------------------+-----------+
| /image_error_function | 0.000784s |
| -> RRDGraphTest003::View::RRDOnServeFunction->process | 0.000519s |
'-------------------------------------------------------------------------------------------------------------------------------------------------------------------------------------------------------------------------------------------------------+-----------'
t/003_on_error_serve.t .. ok
All tests successful.
Files=3, Tests=17, 1 wallclock secs ( 0.02 usr 0.02 sys + 0.88 cusr 0.13 csys = 1.05 CPU)
Result: PASS
------------------------------
PREREQUISITES
------------------------------
Prerequisite modules loaded:
requires:
Module Need Have
-------------------------------- ---- ----------
Catalyst::Plugin::Static::Simple 0 0.32
Catalyst::Runtime 5.7 5.90071
MRO::Compat 0 0.12
build_requires:
Module Need Have
-------------------------------- ---- ----------
Catalyst::Test 0 0
Test::MockObject 0 1.20140408
Test::More 0 1.001006
configure_requires:
Module Need Have
-------------------------------- ---- ----------
ExtUtils::MakeMaker 6.30 6.98
------------------------------
ENVIRONMENT AND OTHER CONTEXT
------------------------------
Environment variables:
DBIC_NO_WARN_BAD_PERL = 1
LANG = C
LC_ALL = de_DE.UTF-8
PATH = /usr/local/bin:/usr/bin:/bin:/usr/local/sbin:/usr/sbin:/sbin:/home/eserte/bin/linux-gnu:/home/eserte/bin/sh:/home/eserte/bin:/usr/games:/home/eserte/devel:/home/eserte/src/srezic-misc/scripts
PERL5LIB =
PERL5OPT =
PERL5_CPANPLUS_IS_RUNNING = 15792
PERL5_CPAN_IS_RUNNING = 15792
PERL5_CPAN_IS_RUNNING_IN_RECURSION = 14589,15792
PERLDOC = -MPod::Perldoc::ToTextOverstrike
PERL_BATCH = yes
PERL_CPAN_REPORTER_CONFIG = /var/tmp/cpansmoker-1001/_pX0Kk1bS0_config.ini
PERL_EXTUTILS_AUTOINSTALL = --defaultdeps
PERL_HTML_DISPLAY_CLASS = HTML::Display::Mozilla
PERL_PARALLEL_SMOKER = yes
SHELL = /bin/zsh
TERM = screen
TMPDIR = /var/tmp/cpansmoker-1001
Perl special variables (and OS-specific diagnostics, for MSWin32):
$^X = /bbbike/perl-5.20.1-RC2/bin/perl
$UID/$EUID = 1001 / 1001
$GID = 1001 109 1001
$EGID = 1001 109 1001
Perl module toolchain versions installed:
Module Have
------------------- --------
CPAN 2.05
CPAN::Meta 2.142060
Cwd 3.48
ExtUtils::CBuilder 0.280219
ExtUtils::Command 1.18
ExtUtils::Install 1.67
ExtUtils::MakeMaker 6.98
ExtUtils::Manifest 1.66
ExtUtils::ParseXS 3.24
File::Spec 3.48
JSON 2.90
JSON::PP 2.27203
Module::Build 0.4210
Module::Signature 0.73
Parse::CPAN::Meta 1.4414
Test::Harness 3.30
Test::More 1.001006
YAML 1.11
YAML::Syck 1.27
version 0.9909
--
Summary of my perl5 (revision 5 version 20 subversion 1) configuration:
Platform:
osname=linux, osvers=3.2.0-4-amd64, archname=x86_64-linux
uname='linux eserte 3.2.0-4-amd64 #1 smp debian 3.2.60-1+deb7u3 x86_64 gnulinux '
config_args='-ds -e -Dprefix=/opt/perl-5.20.1-RC2'
hint=recommended, useposix=true, d_sigaction=define
useithreads=undef, usemultiplicity=undef
use64bitint=define, use64bitall=define, uselongdouble=undef
usemymalloc=n, bincompat5005=undef
Compiler:
cc='cc', ccflags ='-fwrapv -fno-strict-aliasing -pipe -fstack-protector -I/usr/local/include -D_LARGEFILE_SOURCE -D_FILE_OFFSET_BITS=64',
optimize='-O2',
cppflags='-fwrapv -fno-strict-aliasing -pipe -fstack-protector -I/usr/local/include'
ccversion='', gccversion='4.7.2', gccosandvers=''
intsize=4, longsize=8, ptrsize=8, doublesize=8, byteorder=12345678
d_longlong=define, longlongsize=8, d_longdbl=define, longdblsize=16
ivtype='long', ivsize=8, nvtype='double', nvsize=8, Off_t='off_t', lseeksize=8
alignbytes=8, prototype=define
Linker and Libraries:
ld='cc', ldflags =' -fstack-protector -L/usr/local/lib'
libpth=/usr/local/lib /usr/lib/gcc/x86_64-linux-gnu/4.7/include-fixed /usr/include/x86_64-linux-gnu /usr/lib /lib/x86_64-linux-gnu /lib/../lib /usr/lib/x86_64-linux-gnu /usr/lib/../lib /lib
libs=-lnsl -ldb -ldl -lm -lcrypt -lutil -lc
perllibs=-lnsl -ldl -lm -lcrypt -lutil -lc
libc=libc-2.13.so, so=so, useshrplib=false, libperl=libperl.a
gnulibc_version='2.13'
Dynamic Linking:
dlsrc=dl_dlopen.xs, dlext=so, d_dlsymun=undef, ccdlflags='-Wl,-E'
cccdlflags='-fPIC', lddlflags='-shared -O2 -L/usr/local/lib -fstack-protector'
Characteristics of this binary (from libperl):
Compile-time options: HAS_TIMES PERLIO_LAYERS PERL_DONT_CREATE_GVSV
PERL_HASH_FUNC_ONE_AT_A_TIME_HARD PERL_MALLOC_WRAP
PERL_NEW_COPY_ON_WRITE PERL_PRESERVE_IVUV
USE_64_BIT_ALL USE_64_BIT_INT USE_LARGE_FILES
USE_LOCALE USE_LOCALE_COLLATE USE_LOCALE_CTYPE
USE_LOCALE_NUMERIC USE_PERLIO USE_PERL_ATOF
Locally applied patches:
RC2
Built under linux
Compiled at Sep 7 2014 19:23:47
%ENV:
PERL5LIB=""
PERL5OPT=""
PERL5_CPANPLUS_IS_RUNNING="15792"
PERL5_CPAN_IS_RUNNING="15792"
PERL5_CPAN_IS_RUNNING_IN_RECURSION="14589,15792"
PERLDOC="-MPod::Perldoc::ToTextOverstrike"
PERL_BATCH="yes"
PERL_CPAN_REPORTER_CONFIG="/var/tmp/cpansmoker-1001/_pX0Kk1bS0_config.ini"
PERL_EXTUTILS_AUTOINSTALL="--defaultdeps"
PERL_HTML_DISPLAY_CLASS="HTML::Display::Mozilla"
PERL_PARALLEL_SMOKER="yes"
@INC:
/opt/perl-5.20.1-RC2/lib/site_perl/5.20.1/x86_64-linux
/opt/perl-5.20.1-RC2/lib/site_perl/5.20.1
/opt/perl-5.20.1-RC2/lib/5.20.1/x86_64-linux
/opt/perl-5.20.1-RC2/lib/5.20.1
.