Back
From: metabase:user:0d96120c-29e2-11e5-b049-ede3035d37de
Subject: PASS CatalystX-SimpleLogin-0.18 v5.23.1 GNU/Linux
Date: 2015-11-13T01:38:16Z
This distribution has been tested as part of the CPAN Testers
project, supporting the Perl programming language. See
http://wiki.cpantesters.org/ for more information or email
questions to cpan-testers-discuss@perl.org
--
Dear Tomas Doran,
This is a computer-generated report for CatalystX-SimpleLogin-0.18
on perl 5.23.1, created by CPAN-Reporter-1.2015.
Thank you for uploading your work to CPAN. Congratulations!
All tests were successful.
Sections of this report:
* Tester comments
* Program output
* Prerequisites
* Environment and other context
------------------------------
TESTER COMMENTS
------------------------------
Additional comments from tester:
MEMORY : 1.96 GB
ARCH : armv7l
OS : Debian 8.1
KERNEL : Linux 4.1.3-armv7-x2
VIRTUALIZATION : No Virtualization
------------------------------
PROGRAM OUTPUT
------------------------------
Output from '/usr/bin/make test':
PERL_DL_NONLAZY=1 "/home/jmaslak/perl5/perlbrew/perls/perl-5.23.1-64int/bin/perl5.23.1" "-MExtUtils::Command::MM" "-MTest::Harness" "-e" "undef *Test::Harness::Switches; test_harness(0, 'inc', 'blib/lib', 'blib/arch')" t/*.t
t/00-load.t ........................... ok
[warn] Attempted to use view 'TestApp::View::HTML', but does not exist
t/01-live-test.t ...................... ok
[warn] Attempted to use view 'TestAppRedirect::View::HTML', but does not exist
t/02-redirect-test.t .................. ok
t/03-login-form.t ..................... ok
[warn] Attempted to use view 'TestAppRedirect::View::HTML', but does not exist
t/04-test-role-apply-order.t .......... ok
[warn] Attempted to use view 'TestAppRedirect::View::HTML', but does not exist
t/05-login-redirect-custom-message.t .. ok
[warn] Attempted to use view 'TestAppRenderTT::View::HTML', but does not exist
t/06-rendertt.t ....................... ok
t/07-openid-live.t .................... skipped: OpenID dependencies not installed
Class::MOP::load_class is deprecated at /home/jmaslak/perl5/perlbrew/perls/perl-5.23.1-64int/lib/site_perl/5.23.1/armv7l-linux-64int/Class/MOP.pm line 69.
Class::MOP::load_class("Catalyst::Model::DBIC::Schema") called at t/08-dbic-mappedfields.t line 18
eval {...} called at t/08-dbic-mappedfields.t line 17
main::BEGIN() called at t/08-dbic-mappedfields.t line 22
eval {...} called at t/08-dbic-mappedfields.t line 22
t/08-dbic-mappedfields.t .............. skipped: One of the required classes for this test Can't locate Catalyst/Model/DBIC/Schema.pm in @INC (you may need to install the Catalyst::Model::DBIC::Schema module) (@INC contains: /home/jmaslak/.cpan/build/CatalystX-SimpleLogin-0.18-ihjCgc/t/lib /home/jmaslak/.cpan/build/CatalystX-SimpleLogin-0.18-ihjCgc/inc /home/jmaslak/.cpan/build/CatalystX-SimpleLogin-0.18-ihjCgc/blib/lib /home/jmaslak/.cpan/build/CatalystX-SimpleLogin-0.18-ihjCgc/blib/arch /home/jmaslak/perl5/perlbrew/perls/perl-5.23.1-64int/lib/site_perl/5.23.1/armv7l-linux-64int /home/jmaslak/perl5/perlbrew/perls/perl-5.23.1-64int/lib/site_perl/5.23.1 /home/jmaslak/perl5/perlbrew/perls/perl-5.23.1-64int/lib/5.23.1/armv7l-linux-64int /home/jmaslak/perl5/perlbrew/perls/perl-5.23.1-64int/lib/5.23.1 .) at t/08-dbic-mappedfields.t line 18.
[warn] Attempted to use view 'TestAppClearSession::View::HTML', but does not exist
t/09-clearsession.t ................... ok
[warn] Attempted to use view 'TestAppFormArgs::View::HTML', but does not exist
t/10-form-args.t ...................... ok
[warn] Attempted to use view 'TestApp::View::HTML', but does not exist
t/chained_parts.t ..................... ok
All tests successful.
Files=12, Tests=92, 109 wallclock secs ( 0.25 usr 0.07 sys + 106.14 cusr 2.26 csys = 108.72 CPU)
Result: PASS
------------------------------
PREREQUISITES
------------------------------
Prerequisite modules loaded:
requires:
Module Need Have
---------------------------------------- ------- --------
Catalyst::Action::RenderView 0 0.16
Catalyst::Action::REST 0.74 1.20
Catalyst::ActionRole::ACL 0 0.07
Catalyst::Plugin::Authentication 0 0.10023
Catalyst::Plugin::Session 0.27 0.40
Catalyst::Plugin::Session::State::Cookie 0 0.17
Catalyst::Plugin::Session::Store::File 0 0.18
Catalyst::Runtime 5.80013 5.90102
Catalyst::View::TT 0 0.44
CatalystX::Component::Traits 0.13 0.19
CatalystX::InjectComponent 0 0.025
File::Temp 0 0.2304
HTML::FormHandler 0.28001 0.40064
HTTP::Request::Common 0 6.10
Moose 0 2.1600
Moose::Autobox 0 0.15
MooseX::MethodAttributes 0.18 0.31
MooseX::RelatedClassRoles 0.004 0.004
MooseX::Types 0 0.45
MooseX::Types::Common 0 0.001013
namespace::autoclean 0 0.26
SQL::Translator 0 0.11021
Test::Exception 0 0.40
Test::More 0.94 1.001014
build_requires:
Module Need Have
---------------------------------------- ------- --------
Catalyst::Action::RenderView 0 0.16
Catalyst::ActionRole::ACL 0 0.07
Catalyst::Plugin::Session::State::Cookie 0 0.17
Catalyst::Plugin::Session::Store::File 0 0.18
CatalystX::InjectComponent 0 0.025
ExtUtils::MakeMaker 6.36 7.04_01
File::Temp 0 0.2304
HTTP::Request::Common 0 6.10
SQL::Translator 0 0.11021
Test::Exception 0 0.40
Test::More 0.94 1.001014
configure_requires:
Module Need Have
---------------------------------------- ------- --------
ExtUtils::MakeMaker 6.36 7.04_01
------------------------------
ENVIRONMENT AND OTHER CONTEXT
------------------------------
Environment variables:
LANG = en_US.UTF-8
NONINTERACTIVE_TESTING = 1
PATH = /home/jmaslak/perl5/perlbrew/bin:/home/jmaslak/perl5/perlbrew/perls/perl-5.23.1-64int/bin:/home/jmaslak/perl5/perlbrew/bin:/home/jmaslak/perl5/perlbrew/perls/perl-5.22.0/bin:/usr/local/bin:/usr/bin:/bin:/usr/local/games:/usr/games:/usr/sbin:~/perltest/bin
PERL5LIB =
PERL5OPT =
PERL5_CPANPLUS_IS_RUNNING = 22668
PERL5_CPAN_IS_RUNNING = 22668
PERLBREW_BASHRC_VERSION = 0.73
PERLBREW_HOME = /home/jmaslak/.perlbrew
PERLBREW_LIB =
PERLBREW_MANPATH = /home/jmaslak/perl5/perlbrew/perls/perl-5.23.1-64int/man
PERLBREW_PATH = /home/jmaslak/perl5/perlbrew/bin:/home/jmaslak/perl5/perlbrew/perls/perl-5.23.1-64int/bin
PERLBREW_PERL = perl-5.23.1-64int
PERLBREW_ROOT = /home/jmaslak/perl5/perlbrew
PERLBREW_VERSION = 0.73
PERL_LOCAL_LIB_ROOT =
PERL_MM_USE_DEFAULT = 1
SHELL = /bin/bash
TERM = vt100
Perl special variables (and OS-specific diagnostics, for MSWin32):
$^X = /home/jmaslak/perl5/perlbrew/perls/perl-5.23.1-64int/bin/perl5.23.1
$UID/$EUID = 1000 / 1000
$GID = 1000 27 1000
$EGID = 1000 27 1000
Perl module toolchain versions installed:
Module Have
------------------- --------
CPAN 2.11
CPAN::Meta 2.150005
Cwd 3.56
ExtUtils::CBuilder 0.280223
ExtUtils::Command 1.20
ExtUtils::Install 2.04
ExtUtils::MakeMaker 7.04_01
ExtUtils::Manifest 1.70
ExtUtils::ParseXS 3.28
File::Spec 3.56
JSON 2.90
JSON::PP 2.27300
Module::Build 0.4214
Module::Signature n/a
Parse::CPAN::Meta 1.4417
Test::Harness 3.35
Test::More 1.001014
YAML 1.15
YAML::Syck n/a
version 0.9909
--
Summary of my perl5 (revision 5 version 23 subversion 1) configuration:
Platform:
osname=linux, osvers=4.1.3-armv7-x2, archname=armv7l-linux-64int
uname='linux armperl.antelope.net 4.1.3-armv7-x2 #1 smp wed jul 29 12:23:30 mdt 2015 armv7l gnulinux '
config_args='-de -Dprefix=/home/jmaslak/perl5/perlbrew/perls/perl-5.23.1-64int -Duse64bitint -Dusedevel -Aeval:scriptdir=/home/jmaslak/perl5/perlbrew/perls/perl-5.23.1-64int/bin'
hint=recommended, useposix=true, d_sigaction=define
useithreads=undef, usemultiplicity=undef
use64bitint=define, use64bitall=undef, uselongdouble=undef
usemymalloc=n, bincompat5005=undef
Compiler:
cc='cc', ccflags ='-fwrapv -fno-strict-aliasing -pipe -fstack-protector-strong -I/usr/local/include -D_LARGEFILE_SOURCE -D_FILE_OFFSET_BITS=64 -D_FORTIFY_SOURCE=2',
optimize='-O2',
cppflags='-fwrapv -fno-strict-aliasing -pipe -fstack-protector-strong -I/usr/local/include'
ccversion='', gccversion='4.9.2', gccosandvers=''
intsize=4, longsize=4, ptrsize=4, doublesize=8, byteorder=12345678, doublekind=3
d_longlong=define, longlongsize=8, d_longdbl=define, longdblsize=8, longdblkind=0
ivtype='long long', ivsize=8, nvtype='double', nvsize=8, Off_t='off_t', lseeksize=8
alignbytes=8, prototype=define
Linker and Libraries:
ld='cc', ldflags =' -fstack-protector-strong -L/usr/local/lib'
libpth=/usr/local/lib /usr/lib/gcc/arm-linux-gnueabihf/4.9/include-fixed /usr/include/arm-linux-gnueabihf /usr/lib /lib/arm-linux-gnueabihf /lib /usr/lib/arm-linux-gnueabihf
libs=-lpthread -lnsl -ldl -lm -lcrypt -lutil -lc
perllibs=-lpthread -lnsl -ldl -lm -lcrypt -lutil -lc
libc=libc-2.19.so, so=so, useshrplib=false, libperl=libperl.a
gnulibc_version='2.19'
Dynamic Linking:
dlsrc=dl_dlopen.xs, dlext=so, d_dlsymun=undef, ccdlflags='-Wl,-E'
cccdlflags='-fPIC', lddlflags='-shared -O2 -L/usr/local/lib -fstack-protector-strong'
Characteristics of this binary (from libperl):
Compile-time options: HAS_TIMES PERLIO_LAYERS PERL_COPY_ON_WRITE
PERL_DONT_CREATE_GVSV
PERL_HASH_FUNC_ONE_AT_A_TIME_HARD PERL_MALLOC_WRAP
PERL_PRESERVE_IVUV PERL_USE_DEVEL USE_64_BIT_INT
USE_LARGE_FILES USE_LOCALE USE_LOCALE_COLLATE
USE_LOCALE_CTYPE USE_LOCALE_NUMERIC USE_LOCALE_TIME
USE_PERLIO USE_PERL_ATOF
Locally applied patches:
Devel::PatchPerl 1.38
Built under linux
Compiled at Aug 1 2015 19:53:13
%ENV:
PERL5LIB=""
PERL5OPT=""
PERL5_CPANPLUS_IS_RUNNING="22668"
PERL5_CPAN_IS_RUNNING="22668"
PERLBREW_BASHRC_VERSION="0.73"
PERLBREW_HOME="/home/jmaslak/.perlbrew"
PERLBREW_LIB=""
PERLBREW_MANPATH="/home/jmaslak/perl5/perlbrew/perls/perl-5.23.1-64int/man"
PERLBREW_PATH="/home/jmaslak/perl5/perlbrew/bin:/home/jmaslak/perl5/perlbrew/perls/perl-5.23.1-64int/bin"
PERLBREW_PERL="perl-5.23.1-64int"
PERLBREW_ROOT="/home/jmaslak/perl5/perlbrew"
PERLBREW_VERSION="0.73"
PERL_LOCAL_LIB_ROOT=""
PERL_MM_USE_DEFAULT="1"
@INC:
/home/jmaslak/perl5/perlbrew/perls/perl-5.23.1-64int/lib/site_perl/5.23.1/armv7l-linux-64int
/home/jmaslak/perl5/perlbrew/perls/perl-5.23.1-64int/lib/site_perl/5.23.1
/home/jmaslak/perl5/perlbrew/perls/perl-5.23.1-64int/lib/5.23.1/armv7l-linux-64int
/home/jmaslak/perl5/perlbrew/perls/perl-5.23.1-64int/lib/5.23.1
.