Report for IO-Iron-0.09

Back
From: metabase:user:314402c4-2aae-11df-837a-5e0a49663a4f
Subject: PASS IO-Iron-0.09 v5.18.2 GNU/Linux
Date: 2014-05-07T23:35:01Z

This distribution has been tested as part of the CPAN Testers
project, supporting the Perl programming language.  See
http://wiki.cpantesters.org/ for more information or email
questions to cpan-testers-discuss@perl.org


--
Dear Mikko Koivunalho,

This is a computer-generated report for IO-Iron-0.09
on perl 5.18.2, created by CPAN-Reporter-1.2011.

Thank you for uploading your work to CPAN.  Congratulations!
All tests were successful.

Sections of this report:

    * Tester comments
    * Program output
    * Prerequisites
    * Environment and other context

------------------------------
TESTER COMMENTS
------------------------------

Additional comments from tester:

none provided

------------------------------
PROGRAM OUTPUT
------------------------------

Output from '/usr/bin/make test':

PERL_DL_NONLAZY=1 /bbbike/perl-5.18.2/bin/perl5.18.2 "-MExtUtils::Command::MM" "-MTest::Harness" "-e" "undef *Test::Harness::Switches; test_harness(0, 'blib/lib', 'blib/arch')" t/*.t t/Iron/*.t t/IronCache/*.t t/IronMQ/*.t t/IronWorker/*.t
t/boilerplate.t ............. ok
# Testing IO::Iron::IronMQ 0.09, Perl 5.018002, /bbbike/perl-5.18.2/bin/perl5.18.2
# test ReadIronMQConfig
# Current dir config filename: ./iron.json
# Extra config filename: t/.IronMQTestConfig.json
t/Iron/client_readconfig.t .. ok
# Testing IO::Iron 0.09, Perl 5.018002, /bbbike/perl-5.18.2/bin/perl5.18.2
t/Iron/load.t ............... ok
# Testing IO::Iron::IronCache 0.09, Perl 5.018002, /bbbike/perl-5.18.2/bin/perl5.18.2
t/IronCache/load.t .......... ok
# Testing IO::Iron::IronMQ 0.09, Perl 5.018002, /bbbike/perl-5.18.2/bin/perl5.18.2
t/IronMQ/load.t ............. ok
# Testing IO::Iron::IronWorker 0.09, Perl 5.018002, /bbbike/perl-5.18.2/bin/perl5.18.2
t/IronWorker/load.t ......... ok
t/release-kwalitee.t ........ skipped: these tests are for release candidate testing
t/release-pod-coverage.t .... skipped: these tests are for release candidate testing
t/release-pod-syntax.t ...... skipped: these tests are for release candidate testing
All tests successful.

Test Summary Report
-------------------
t/boilerplate.t           (Wstat: 0 Tests: 3 Failed: 0)
  TODO passed:   1-3
Files=9, Tests=91,  1 wallclock secs ( 0.12 usr  0.11 sys +  0.48 cusr  0.14 csys =  0.85 CPU)
Result: PASS

------------------------------
PREREQUISITES
------------------------------

Prerequisite modules loaded:

requires:

    Module             Need Have    
    ------------------ ---- --------
    Carp               0    1.3301  
    Carp::Assert       0    0.20    
    Carp::Assert::More 0    1.14    
    constant           0    1.27    
    Data::Dumper       0    2.151   
    Data::UUID         0    1.219   
    English            0    1.06_01 
    Exception::Class   0    1.38    
    Exporter           0    5.70    
    File::HomeDir      0    1.00    
    File::Slurp        0    9999.19 
    File::Spec         0    3.40    
    Hash::Util         0.06 0.16    
    JSON               0    2.90    
    Log::Any           0    0.15    
    Params::Validate   0    1.09    
    parent             0    0.228   
    REST::Client       0    271     
    Scalar::Util       0    1.38    
    strict             0    1.07    
    Try::Tiny          0    0.22    
    URI::Escape        0    3.31    
    warnings           0    1.18    

build_requires:

    Module             Need Have    
    ------------------ ---- --------
    File::Copy         0    2.26    
    File::Remove       0    1.52    
    Test::More         0    1.001003


------------------------------
ENVIRONMENT AND OTHER CONTEXT
------------------------------

Environment variables:

    DBIC_NO_WARN_BAD_PERL = 1
    LANG = C
    PATH = /usr/local/bin:/usr/bin:/bin:/usr/local/sbin:/usr/sbin:/sbin:/home/eserte/bin/linux-gnu:/home/eserte/bin/sh:/home/eserte/bin:/usr/games:/home/eserte/devel:/home/eserte/src/srezic-misc/scripts
    PERL5LIB = 
    PERL5OPT = 
    PERL5_CPANPLUS_IS_RUNNING = 12636
    PERL5_CPAN_IS_RUNNING = 12636
    PERL5_CPAN_IS_RUNNING_IN_RECURSION = 13677,12636
    PERLDOC = -MPod::Perldoc::ToTextOverstrike
    PERL_BATCH = yes
    PERL_CPAN_REPORTER_CONFIG = /var/tmp/cpansmoker-1001/kw7IzqdGMS_config.ini
    PERL_EXTUTILS_AUTOINSTALL = --defaultdeps
    PERL_HTML_DISPLAY_CLASS = HTML::Display::Mozilla
    PERL_PARALLEL_SMOKER = yes
    SHELL = /bin/zsh
    TERM = screen
    TMPDIR = /var/tmp/cpansmoker-1001

Perl special variables (and OS-specific diagnostics, for MSWin32):

    $^X = /bbbike/perl-5.18.2/bin/perl5.18.2
    $UID/$EUID = 1001 / 1001
    $GID = 1001 109 1001
    $EGID = 1001 109 1001

Perl module toolchain versions installed:

    Module              Have    
    ------------------- --------
    CPAN                2.05    
    CPAN::Meta          2.141170
    Cwd                 3.40    
    ExtUtils::CBuilder  0.280210
    ExtUtils::Command   1.17    
    ExtUtils::Install   1.67    
    ExtUtils::MakeMaker 6.98    
    ExtUtils::Manifest  1.63    
    ExtUtils::ParseXS   3.24    
    File::Spec          3.40    
    JSON                2.90    
    JSON::PP            2.27203 
    Module::Build       0.4205  
    Module::Signature   0.73    
    Parse::CPAN::Meta   1.4414  
    Test::Harness       3.30    
    Test::More          1.001003
    YAML                0.90    
    YAML::Syck          1.27    
    version             0.9908  


--

Summary of my perl5 (revision 5 version 18 subversion 2) configuration:
   
  Platform:
    osname=linux, osvers=3.2.0-4-amd64, archname=x86_64-linux
    uname='linux eserte 3.2.0-4-amd64 #1 smp debian 3.2.57-3 x86_64 gnulinux '
    config_args='-ds -e -Dprefix=/opt/perl-5.18.2'
    hint=recommended, useposix=true, d_sigaction=define
    useithreads=undef, usemultiplicity=undef
    useperlio=define, d_sfio=undef, uselargefiles=define, usesocks=undef
    use64bitint=define, use64bitall=define, uselongdouble=undef
    usemymalloc=n, bincompat5005=undef
  Compiler:
    cc='cc', ccflags ='-fno-strict-aliasing -pipe -fstack-protector -I/usr/local/include -D_LARGEFILE_SOURCE -D_FILE_OFFSET_BITS=64',
    optimize='-O2',
    cppflags='-fno-strict-aliasing -pipe -fstack-protector -I/usr/local/include'
    ccversion='', gccversion='4.7.2', gccosandvers=''
    intsize=4, longsize=8, ptrsize=8, doublesize=8, byteorder=12345678
    d_longlong=define, longlongsize=8, d_longdbl=define, longdblsize=16
    ivtype='long', ivsize=8, nvtype='double', nvsize=8, Off_t='off_t', lseeksize=8
    alignbytes=8, prototype=define
  Linker and Libraries:
    ld='cc', ldflags =' -fstack-protector -L/usr/local/lib'
    libpth=/usr/local/lib /lib/x86_64-linux-gnu /lib/../lib /usr/lib/x86_64-linux-gnu /usr/lib/../lib /lib /usr/lib
    libs=-lnsl -ldb -ldl -lm -lcrypt -lutil -lc
    perllibs=-lnsl -ldl -lm -lcrypt -lutil -lc
    libc=, so=so, useshrplib=false, libperl=libperl.a
    gnulibc_version='2.13'
  Dynamic Linking:
    dlsrc=dl_dlopen.xs, dlext=so, d_dlsymun=undef, ccdlflags='-Wl,-E'
    cccdlflags='-fPIC', lddlflags='-shared -O2 -L/usr/local/lib -fstack-protector'


Characteristics of this binary (from libperl): 
  Compile-time options: HAS_TIMES PERLIO_LAYERS PERL_DONT_CREATE_GVSV
                        PERL_HASH_FUNC_ONE_AT_A_TIME_HARD PERL_MALLOC_WRAP
                        PERL_PRESERVE_IVUV PERL_SAWAMPERSAND USE_64_BIT_ALL
                        USE_64_BIT_INT USE_LARGE_FILES USE_LOCALE
                        USE_LOCALE_COLLATE USE_LOCALE_CTYPE
                        USE_LOCALE_NUMERIC USE_PERLIO USE_PERL_ATOF
  Built under linux
  Compiled at May  7 2014 07:25:45
  %ENV:
    PERL5LIB=""
    PERL5OPT=""
    PERL5_CPANPLUS_IS_RUNNING="12636"
    PERL5_CPAN_IS_RUNNING="12636"
    PERL5_CPAN_IS_RUNNING_IN_RECURSION="13677,12636"
    PERLDOC="-MPod::Perldoc::ToTextOverstrike"
    PERL_BATCH="yes"
    PERL_CPAN_REPORTER_CONFIG="/var/tmp/cpansmoker-1001/kw7IzqdGMS_config.ini"
    PERL_EXTUTILS_AUTOINSTALL="--defaultdeps"
    PERL_HTML_DISPLAY_CLASS="HTML::Display::Mozilla"
    PERL_PARALLEL_SMOKER="yes"
  @INC:
    /opt/perl-5.18.2/lib/site_perl/5.18.2/x86_64-linux
    /opt/perl-5.18.2/lib/site_perl/5.18.2
    /opt/perl-5.18.2/lib/5.18.2/x86_64-linux
    /opt/perl-5.18.2/lib/5.18.2
    .