Unicode-Collate v1.31 Perl 5 v5.41.2 x86_64-linux-thread-multi

Status
Pass
From
Carlos Guevara
Dist
Unicode-Collate v1.31
Platform
Perl 5 v5.41.2 x86_64-linux-thread-multi
Date
2024-07-08 01:48:43
ID
3560c49c-3ccc-11ef-8d16-c4f7dba3ac2d
This distribution has been tested as part of the CPAN Testers
project, supporting the Perl programming language.  See
http://wiki.cpantesters.org/ for more information or email
questions to cpan-testers-discuss@perl.org


--
Dear SADAHIRO Tomoyuki,

This is a computer-generated report for Unicode-Collate-1.31
on perl 5.41.2, created by CPAN-Reporter-1.2019.

Thank you for uploading your work to CPAN.  Congratulations!
All tests were successful.

Sections of this report:

    * Tester comments
    * Program output
    * Prerequisites
    * Environment and other context

------------------------------
TESTER COMMENTS
------------------------------

Additional comments from tester:

this report is from an automated smoke testing program
and was not reviewed by a human for accuracy

------------------------------
PROGRAM OUTPUT
------------------------------

Output from '/usr/bin/make test':

"/home/cpan/bin/perl/bin/perl5.41.2" -MExtUtils::Command::MM -e 'cp_nonempty' -- Collate.bs blib/arch/auto/Unicode/Collate/Collate.bs 644
PERL_DL_NONLAZY=1 "/home/cpan/bin/perl/bin/perl5.41.2" "-MExtUtils::Command::MM" "-MTest::Harness" "-e" "undef *Test::Harness::Switches; test_harness(0, 'blib/lib', 'blib/arch')" t/*.t
t/altern.t .... ok
t/backwds.t ... ok
t/cjk_b5.t .... ok
t/cjk_gb.t .... ok
t/cjk_ja.t .... ok
t/cjk_ko.t .... ok
t/cjk_py.t .... ok
t/cjk_st.t .... ok
t/cjk_zy.t .... ok
t/cjkrange.t .. ok
t/compatui.t .. ok
t/contract.t .. ok
t/default.t ... ok
t/hangtype.t .. ok
t/hangul.t .... ok
t/ident.t ..... ok
t/iglevel2.t .. ok
t/ignor.t ..... ok
t/illegal.t ... ok
t/illegalp.t .. ok
t/index.t ..... ok
t/khitan.t .... ok
t/loc_af.t .... ok
t/loc_ar.t .... ok
t/loc_as.t .... ok
t/loc_az.t .... ok
t/loc_be.t .... ok
t/loc_bg.t .... ok
t/loc_bn.t .... ok
t/loc_bs.t .... ok
t/loc_bscy.t .. ok
t/loc_ca.t .... ok
t/loc_cjk.t ... ok
t/loc_cjkc.t .. ok
t/loc_cs.t .... ok
t/loc_cu.t .... ok
t/loc_cy.t .... ok
t/loc_cyrl.t .. ok
t/loc_da.t .... ok
t/loc_de.t .... ok
t/loc_deat.t .. ok
t/loc_deph.t .. ok
t/loc_dsb.t ... ok
t/loc_ee.t .... ok
t/loc_eo.t .... ok
t/loc_es.t .... ok
t/loc_estr.t .. ok
t/loc_et.t .... ok
t/loc_fa.t .... ok
t/loc_fi.t .... ok
t/loc_fil.t ... ok
t/loc_fiph.t .. ok
t/loc_fo.t .... ok
t/loc_fr.t .... ok
t/loc_frca.t .. ok
t/loc_gu.t .... ok
t/loc_ha.t .... ok
t/loc_haw.t ... ok
t/loc_he.t .... ok
t/loc_hi.t .... ok
t/loc_hr.t .... ok
t/loc_hu.t .... ok
t/loc_hy.t .... ok
t/loc_ig.t .... ok
t/loc_is.t .... ok
t/loc_ja.t .... ok
t/loc_jait.t .. ok
t/loc_japr.t .. ok
t/loc_kk.t .... ok
t/loc_kl.t .... ok
t/loc_kn.t .... ok
t/loc_ko.t .... ok
t/loc_kok.t ... ok
t/loc_lkt.t ... ok
t/loc_ln.t .... ok
t/loc_lt.t .... ok
t/loc_lv.t .... ok
t/loc_mk.t .... ok
t/loc_ml.t .... ok
t/loc_mncy.t .. ok
t/loc_mr.t .... ok
t/loc_mt.t .... ok
t/loc_nb.t .... ok
t/loc_nn.t .... ok
t/loc_nso.t ... ok
t/loc_om.t .... ok
t/loc_or.t .... ok
t/loc_pa.t .... ok
t/loc_pl.t .... ok
t/loc_ro.t .... ok
t/loc_ru.t .... ok
t/loc_sa.t .... ok
t/loc_se.t .... ok
t/loc_si.t .... ok
t/loc_sidt.t .. ok
t/loc_sk.t .... ok
t/loc_sl.t .... ok
t/loc_sq.t .... ok
t/loc_sr.t .... ok
t/loc_srla.t .. ok
t/loc_sv.t .... ok
t/loc_svrf.t .. ok
t/loc_sw.t .... ok
t/loc_ta.t .... ok
t/loc_te.t .... ok
t/loc_test.t .. ok
t/loc_th.t .... ok
t/loc_tn.t .... ok
t/loc_to.t .... ok
t/loc_tr.t .... ok
t/loc_ugcy.t .. ok
t/loc_uk.t .... ok
t/loc_ur.t .... ok
t/loc_vi.t .... ok
t/loc_vo.t .... ok
t/loc_wae.t ... ok
t/loc_wo.t .... ok
t/loc_yo.t .... ok
t/loc_zh.t .... ok
t/loc_zhb5.t .. ok
t/loc_zhgb.t .. ok
t/loc_zhpy.t .. ok
t/loc_zhst.t .. ok
t/loc_zhzy.t .. ok
t/nonchar.t ... ok
t/normal.t .... ok
t/notable.t ... ok
t/nushu.t ..... ok
t/overcjk0.t .. ok
t/overcjk1.t .. ok
t/override.t .. ok
t/rearrang.t .. ok
t/rewrite.t ... ok
t/tangut.t .... ok
t/test.t ...... ok
t/trailwt.t ... ok
t/variable.t .. ok
t/version.t ... ok
t/view.t ...... ok
All tests successful.
Files=139, Tests=31005,  5 wallclock secs ( 0.85 usr  0.14 sys +  3.27 cusr  0.83 csys =  5.09 CPU)
Result: PASS

------------------------------
PREREQUISITES
------------------------------

Prerequisite modules loaded:

requires:

    Module              Need Have
    ------------------- ---- ----
    Carp                0    1.54
    constant            0    1.33
    File::Spec          0    3.90
    strict              0    1.13
    warnings            0    1.70
    XSLoader            0    0.32

build_requires:

    Module              Need Have
    ------------------- ---- ----
    ExtUtils::MakeMaker 0    7.70

configure_requires:

    Module              Need Have
    ------------------- ---- ----
    ExtUtils::MakeMaker 0    7.70


------------------------------
ENVIRONMENT AND OTHER CONTEXT
------------------------------

Environment variables:

    AUTOMATED_TESTING = 1
    DATE_MANIP_TEST_DM5 = 1
    LANG = en_US.UTF-8
    LC_ALL = C
    NONINTERACTIVE_TESTING = 1
    NO_NETWORK_TESTING = 1
    PATH = /home/cpan/bin/perl/bin:/home/cpan/bin:/usr/share/Modules/bin:/home/cpan/bin:/usr/local/bin:/usr/bin:/usr/local/sbin:/usr/sbin
    PERL5LIB = /home/cpan/.cpan/build/Net-SSLeay-1.94-0/blib/arch:/home/cpan/.cpan/build/Net-SSLeay-1.94-0/blib/lib:/home/cpan/.cpan/build/Tie-RefHash-1.40-0/blib/arch:/home/cpan/.cpan/build/Tie-RefHash-1.40-0/blib/lib:/home/cpan/.cpan/build/Test-Warnings-0.033-0/blib/arch:/home/cpan/.cpan/build/Test-Warnings-0.033-0/blib/lib:/home/cpan/.cpan/build/Module-Loaded-0.08-0/blib/arch:/home/cpan/.cpan/build/Module-Loaded-0.08-0/blib/lib:/home/cpan/.cpan/build/URI-5.28-0/blib/arch:/home/cpan/.cpan/build/URI-5.28-0/blib/lib:/home/cpan/.cpan/build/libnet-3.15-0/blib/arch:/home/cpan/.cpan/build/libnet-3.15-0/blib/lib:/home/cpan/.cpan/build/bignum-0.67-0/blib/arch:/home/cpan/.cpan/build/bignum-0.67-0/blib/lib:/home/cpan/.cpan/build/CPAN-2.36-0/blib/arch:/home/cpan/.cpan/build/CPAN-2.36-0/blib/lib:/home/cpan/.cpan/build/Scalar-List-Utils-1.63-0/blib/arch:/home/cpan/.cpan/build/Scalar-List-Utils-1.63-0/blib/lib:/home/cpan/.cpan/build/Encode-3.21-0/blib/arch:/home/cpan/.cpan/build/Encode-3.21-0/blib/lib:/home/cpan/.cpan/build/ExtUtils-MakeMaker-7.70-0/blib/arch:/home/cpan/.cpan/build/ExtUtils-MakeMaker-7.70-0/blib/lib:/home/cpan/.cpan/build/Test2-Suite-0.000163-0/blib/arch:/home/cpan/.cpan/build/Test2-Suite-0.000163-0/blib/lib
    PERL5OPT = 
    PERL5_CPANPLUS_IS_RUNNING = 1295470
    PERL5_CPAN_IS_RUNNING = 1295470
    PERL_MM_USE_DEFAULT = 1
    PERL_USE_UNSAFE_INC = 1
    SHELL = /bin/bash
    TERM = screen
    TMPDIR = /home/cpan/tmp

Perl special variables (and OS-specific diagnostics, for MSWin32):

    $^X = /home/cpan/bin/perl/bin/perl5.41.2
    $UID/$EUID = 1001 / 1001
    $GID = 1001 1001
    $EGID = 1001 1001

Perl module toolchain versions installed:

    Module              Have    
    ------------------- --------
    CPAN                2.36    
    CPAN::Meta          2.150010
    Cwd                 3.90    
    ExtUtils::CBuilder  0.280240
    ExtUtils::Command   7.70    
    ExtUtils::Install   2.22    
    ExtUtils::MakeMaker 7.70    
    ExtUtils::Manifest  1.75    
    ExtUtils::ParseXS   3.52    
    File::Spec          3.90    
    JSON                4.10    
    JSON::PP            4.16    
    Module::Build       0.4234  
    Module::Signature   0.88    
    Parse::CPAN::Meta   2.150010
    Test2               1.302199
    Test::Harness       3.48    
    Test::More          1.302199
    YAML                1.31    
    YAML::Syck          1.34    
    version             0.9932  


--

Summary of my perl5 (revision 5 version 41 subversion 2) configuration:
  Commit id: b786e5e6e5e961082d2f48dac2a1f3ab69339b14
  Platform:
    osname=linux
    osvers=5.14.0-427.22.1.el9_4.x86_64
    archname=x86_64-linux-thread-multi
    uname='linux cjg-rhel9 5.14.0-427.22.1.el9_4.x86_64 #1 smp preempt_dynamic mon jun 10 09:23:36 edt 2024 x86_64 x86_64 x86_64 gnulinux '
    config_args='-des -Dprefix=/home/cpan/bin/perl -Dscriptdir=/home/cpan/bin/perl/bin -Dusedevel -Duse64bitall -Duseithreads'
    hint=recommended
    useposix=true
    d_sigaction=define
    useithreads=define
    usemultiplicity=define
    use64bitint=define
    use64bitall=define
    uselongdouble=undef
    usemymalloc=n
    default_inc_excludes_dot=define
  Compiler:
    cc='cc'
    ccflags ='-D_REENTRANT -D_GNU_SOURCE -fwrapv -fno-strict-aliasing -pipe -fstack-protector-strong -I/usr/local/include -D_LARGEFILE_SOURCE -D_FILE_OFFSET_BITS=64 -D_FORTIFY_SOURCE=2'
    optimize='-O2'
    cppflags='-D_REENTRANT -D_GNU_SOURCE -fwrapv -fno-strict-aliasing -pipe -fstack-protector-strong -I/usr/local/include'
    ccversion=''
    gccversion='11.4.1 20231218 (Red Hat 11.4.1-3)'
    gccosandvers=''
    intsize=4
    longsize=8
    ptrsize=8
    doublesize=8
    byteorder=12345678
    doublekind=3
    d_longlong=define
    longlongsize=8
    d_longdbl=define
    longdblsize=16
    longdblkind=3
    ivtype='long'
    ivsize=8
    nvtype='double'
    nvsize=8
    Off_t='off_t'
    lseeksize=8
    alignbytes=8
    prototype=define
  Linker and Libraries:
    ld='cc'
    ldflags =' -fstack-protector-strong -L/usr/local/lib'
    libpth=/usr/local/lib /usr/lib /usr/lib64 /usr/local/lib64
    libs=-lpthread -ldb -ldl -lm -lcrypt -lutil -lc
    perllibs=-lpthread -ldl -lm -lcrypt -lutil -lc
    libc=/lib/../lib64/libc.so.6
    so=so
    useshrplib=false
    libperl=libperl.a
    gnulibc_version='2.34'
  Dynamic Linking:
    dlsrc=dl_dlopen.xs
    dlext=so
    d_dlsymun=undef
    ccdlflags='-Wl,-E'
    cccdlflags='-fPIC'
    lddlflags='-shared -O2 -L/usr/local/lib -fstack-protector-strong'


Characteristics of this binary (from libperl): 
  Compile-time options:
    HAS_LONG_DOUBLE
    HAS_STRTOLD
    HAS_TIMES
    MULTIPLICITY
    PERLIO_LAYERS
    PERL_COPY_ON_WRITE
    PERL_DONT_CREATE_GVSV
    PERL_HASH_FUNC_SIPHASH13
    PERL_HASH_USE_SBOX32
    PERL_MALLOC_WRAP
    PERL_OP_PARENT
    PERL_PRESERVE_IVUV
    PERL_USE_DEVEL
    PERL_USE_SAFE_PUTENV
    USE_64_BIT_ALL
    USE_64_BIT_INT
    USE_ITHREADS
    USE_LARGE_FILES
    USE_LOCALE
    USE_LOCALE_COLLATE
    USE_LOCALE_CTYPE
    USE_LOCALE_NUMERIC
    USE_LOCALE_TIME
    USE_PERLIO
    USE_PERL_ATOF
    USE_REENTRANT_API
    USE_THREAD_SAFE_LOCALE
  Built under linux
  Compiled at Jul  7 2024 08:46:24
  %ENV:
    PERL5LIB="/home/cpan/.cpan/build/Net-SSLeay-1.94-0/blib/arch:/home/cpan/.cpan/build/Net-SSLeay-1.94-0/blib/lib:/home/cpan/.cpan/build/Tie-RefHash-1.40-0/blib/arch:/home/cpan/.cpan/build/Tie-RefHash-1.40-0/blib/lib:/home/cpan/.cpan/build/Test-Warnings-0.033-0/blib/arch:/home/cpan/.cpan/build/Test-Warnings-0.033-0/blib/lib:/home/cpan/.cpan/build/Module-Loaded-0.08-0/blib/arch:/home/cpan/.cpan/build/Module-Loaded-0.08-0/blib/lib:/home/cpan/.cpan/build/URI-5.28-0/blib/arch:/home/cpan/.cpan/build/URI-5.28-0/blib/lib:/home/cpan/.cpan/build/libnet-3.15-0/blib/arch:/home/cpan/.cpan/build/libnet-3.15-0/blib/lib:/home/cpan/.cpan/build/bignum-0.67-0/blib/arch:/home/cpan/.cpan/build/bignum-0.67-0/blib/lib:/home/cpan/.cpan/build/CPAN-2.36-0/blib/arch:/home/cpan/.cpan/build/CPAN-2.36-0/blib/lib:/home/cpan/.cpan/build/Scalar-List-Utils-1.63-0/blib/arch:/home/cpan/.cpan/build/Scalar-List-Utils-1.63-0/blib/lib:/home/cpan/.cpan/build/Encode-3.21-0/blib/arch:/home/cpan/.cpan/build/Encode-3.21-0/blib/lib:/home/cpan/.cpan/build/ExtUtils-MakeMaker-7.70-0/blib/arch:/home/cpan/.cpan/build/ExtUtils-MakeMaker-7.70-0/blib/lib:/home/cpan/.cpan/build/Test2-Suite-0.000163-0/blib/arch:/home/cpan/.cpan/build/Test2-Suite-0.000163-0/blib/lib"
    PERL5OPT=""
    PERL5_CPANPLUS_IS_RUNNING="1295470"
    PERL5_CPAN_IS_RUNNING="1295470"
    PERL_MM_USE_DEFAULT="1"
    PERL_USE_UNSAFE_INC="1"
  @INC:
    /home/cpan/.cpan/build/Net-SSLeay-1.94-0/blib/arch
    /home/cpan/.cpan/build/Net-SSLeay-1.94-0/blib/lib
    /home/cpan/.cpan/build/Tie-RefHash-1.40-0/blib/arch
    /home/cpan/.cpan/build/Tie-RefHash-1.40-0/blib/lib
    /home/cpan/.cpan/build/Test-Warnings-0.033-0/blib/arch
    /home/cpan/.cpan/build/Test-Warnings-0.033-0/blib/lib
    /home/cpan/.cpan/build/Module-Loaded-0.08-0/blib/arch
    /home/cpan/.cpan/build/Module-Loaded-0.08-0/blib/lib
    /home/cpan/.cpan/build/URI-5.28-0/blib/arch
    /home/cpan/.cpan/build/URI-5.28-0/blib/lib
    /home/cpan/.cpan/build/libnet-3.15-0/blib/arch
    /home/cpan/.cpan/build/libnet-3.15-0/blib/lib
    /home/cpan/.cpan/build/bignum-0.67-0/blib/arch
    /home/cpan/.cpan/build/bignum-0.67-0/blib/lib
    /home/cpan/.cpan/build/CPAN-2.36-0/blib/arch
    /home/cpan/.cpan/build/CPAN-2.36-0/blib/lib
    /home/cpan/.cpan/build/Scalar-List-Utils-1.63-0/blib/arch
    /home/cpan/.cpan/build/Scalar-List-Utils-1.63-0/blib/lib
    /home/cpan/.cpan/build/Encode-3.21-0/blib/arch
    /home/cpan/.cpan/build/Encode-3.21-0/blib/lib
    /home/cpan/.cpan/build/ExtUtils-MakeMaker-7.70-0/blib/arch
    /home/cpan/.cpan/build/ExtUtils-MakeMaker-7.70-0/blib/lib
    /home/cpan/.cpan/build/Test2-Suite-0.000163-0/blib/arch
    /home/cpan/.cpan/build/Test2-Suite-0.000163-0/blib/lib
    /home/cpan/bin/perl/lib/site_perl/5.41.2/x86_64-linux-thread-multi
    /home/cpan/bin/perl/lib/site_perl/5.41.2
    /home/cpan/bin/perl/lib/5.41.2/x86_64-linux-thread-multi
    /home/cpan/bin/perl/lib/5.41.2
    .