Report for Class-InsideOut-1.13

Back
From: metabase:user:1eed3a18-483e-11e2-a87b-a3931c712682
Subject: PASS Class-InsideOut-1.13 v5.21.6 Mac OS X
Date: 2014-11-23T06:23:15Z

This distribution has been tested as part of the CPAN Testers
project, supporting the Perl programming language.  See
http://wiki.cpantesters.org/ for more information or email
questions to cpan-testers-discuss@perl.org


--
Dear David Golden,

This is a computer-generated report for Class-InsideOut-1.13
on perl 5.21.6, created by CPAN-Reporter-1.2011.

Thank you for uploading your work to CPAN.  Congratulations!
All tests were successful.

Sections of this report:

    * Tester comments
    * Program output
    * Prerequisites
    * Environment and other context

------------------------------
TESTER COMMENTS
------------------------------

Additional comments from tester:

none provided

------------------------------
PROGRAM OUTPUT
------------------------------

Output from '/usr/bin/make test':

PERL_DL_NONLAZY=1 "/Users/stas/perl5/perlbrew/perls/perl-5.21.6/bin/perl5.21.6" "-MExtUtils::Command::MM" "-MTest::Harness" "-e" "undef *Test::Harness::Switches; test_harness(0, 'blib/lib', 'blib/arch')" t/*.t
t/00-compile.t ..................... ok
# Prerequisite Report:
#        Version Module               
#   ------------ ---------------------
#         1.3301 Carp                 
#           0.36 Class::ISA           
#       5.021006 Config               
#           1.28 DynaLoader           
#           5.72 Exporter             
#           7.02 ExtUtils::MakeMaker  
#           1.29 File::Find           
#           3.51 File::Spec           
#           3.51 File::Spec::Functions
#         0.2304 File::Temp           
#           1.16 IO::File             
#           1.41 List::Util           
#           1.41 Scalar::Util         
#           2.51 Storable             
#   1.301001_075 Test::More           
#           0.19 XSLoader             
#           1.24 overload             
#           1.08 strict               
#           1.96 threads              
#           1.03 vars                 
#           1.29 warnings             
t/00-report-prereqs.t .............. ok
t/01_load.t ........................ ok
t/02_register.t .................... ok
t/03_properties.t .................. ok
t/04_threaded.t .................... skipped: perl ithreads not available
t/05_forking.t ..................... ok
t/06_export_ok.t ................... ok
t/07_synopsis_obj.t ................ ok
t/08_DEMOLISH.t .................... ok
t/09_foreign.t ..................... ok
t/10_storable_values.t ............. ok
t/11_storable_refs.t ............... ok
t/12_storable_hooks.t .............. ok
t/13_options.t ..................... ok
t/14_accessor_hooks.t .............. ok
t/15_no_weaken_fallback.t .......... skipped: Your Scalar::Util is XS only
t/16_property_argument_checking.t .. ok
t/17_option_argument_checking.t .... ok
t/18_register_argument_checking.t .. ok
t/19_storable_singleton.t .......... ok
t/20_storable_singleton_error.t .... ok
t/21_optional_new.t ................ ok
t/22_readonly.t .................... ok
t/23_accessor_hooks_blessed.t ...... ok
t/24_accessor_hooks_overloaded.t ... ok
t/25_accessor_hooks_typetiny.t ..... skipped: test requires Perl 5.8.3 and Type::Tiny
All tests successful.
Files=27, Tests=414,  2 wallclock secs ( 0.11 usr  0.05 sys +  1.51 cusr  0.20 csys =  1.87 CPU)
Result: PASS

------------------------------
PREREQUISITES
------------------------------

Prerequisite modules loaded:

requires:

    Module                Need Have        
    --------------------- ---- ------------
    Carp                  0    1.3301      
    Class::ISA            0    0.36        
    Exporter              0    5.72        
    overload              0    1.24        
    Scalar::Util          1.09 1.41        
    Storable              0    2.51        
    strict                0    1.08        
    vars                  0    1.03        

build_requires:

    Module                Need Have        
    --------------------- ---- ------------
    Config                0    5.021006    
    DynaLoader            0    1.28        
    ExtUtils::MakeMaker   0    7.02        
    File::Find            0    1.29        
    File::Spec            0    3.51        
    File::Spec::Functions 0    3.51        
    File::Temp            0    0.2304      
    IO::File              0    1.16        
    List::Util            0    1.41        
    Test::More            0.45 1.301001_075
  ! threads               0    broken      
    warnings              0    1.29        
    XSLoader              0    0.19        

configure_requires:

    Module                Need Have        
    --------------------- ---- ------------
    ExtUtils::MakeMaker   6.30 7.02        


------------------------------
ENVIRONMENT AND OTHER CONTEXT
------------------------------

Environment variables:

    LANG = en_US.UTF-8
    LC_ALL = en_US.UTF-8
    LC_CTYPE = en_US.UTF-8
    PATH = /Users/stas/perl5/perlbrew/bin:/Users/stas/perl5/perlbrew/perls/perl-5.21.6/bin:/Users/stas/.vim/bin:/Users/stas/bin:/Users/stas/node_modules/.bin:/opt/local/Library/Frameworks/Python.framework/Versions/2.7/bin:/opt/local/lib/postgresql92/bin:/opt/local/bin:/opt/local/sbin:/opt/local/libexec/ccache:/usr/local/bin:/usr/bin:/bin:/usr/sbin:/sbin:/opt/X11/bin:/Users/stas/.vim/bin:/Users/stas/bin:/Users/stas/node_modules/.bin:/opt/local/Library/Frameworks/Python.framework/Versions/2.7/bin:/opt/local/lib/postgresql92/bin:/opt/local/bin:/opt/local/sbin:/opt/local/libexec/ccache
    PERL5LIB = 
    PERL5OPT = 
    PERL5_CPANPLUS_IS_RUNNING = 52268
    PERL5_CPAN_IS_RUNNING = 52268
    PERLBREW_BASHRC_VERSION = 0.72
    PERLBREW_HOME = /Users/stas/.perlbrew
    PERLBREW_MANPATH = /Users/stas/perl5/perlbrew/perls/perl-5.21.6/man
    PERLBREW_PATH = /Users/stas/perl5/perlbrew/bin:/Users/stas/perl5/perlbrew/perls/perl-5.21.6/bin
    PERLBREW_PERL = perl-5.21.6
    PERLBREW_ROOT = /Users/stas/perl5/perlbrew
    PERLBREW_VERSION = 0.72
    PERL_MM_USE_DEFAULT = 1
    SHELL = /opt/local/bin/zsh
    TERM = screen
    TMPDIR = /var/folders/k7/cj2hxbn162362g2150r7t9480000gn/T/

Perl special variables (and OS-specific diagnostics, for MSWin32):

    $^X = /Users/stas/perl5/perlbrew/perls/perl-5.21.6/bin/perl5.21.6
    $UID/$EUID = 501 / 501
    $GID = 20 20 508 12 61 79 80 81 98 398 399 33 100 204
    $EGID = 20 20 508 12 61 79 80 81 98 398 399 33 100 204

Perl module toolchain versions installed:

    Module              Have        
    ------------------- ------------
    CPAN                2.05        
    CPAN::Meta          2.143240    
    Cwd                 3.51        
    ExtUtils::CBuilder  0.280220    
    ExtUtils::Command   1.18        
    ExtUtils::Install   2.04        
    ExtUtils::MakeMaker 7.02        
    ExtUtils::Manifest  1.69        
    ExtUtils::ParseXS   3.26        
    File::Spec          3.51        
    JSON                2.90        
    JSON::PP            2.27300     
    Module::Build       0.4210      
    Module::Signature   n/a         
    Parse::CPAN::Meta   1.4414      
    Test::Harness       3.34        
    Test::More          1.301001_075
    YAML                1.13        
    YAML::Syck          n/a         
    version             0.9909      


--

Summary of my perl5 (revision 5 version 21 subversion 6) configuration:
   
  Platform:
    osname=darwin, osvers=14.0.0, archname=darwin-2level
    uname='darwin stas-macbook.local 14.0.0 darwin kernel version 14.0.0: fri sep 19 00:26:44 pdt 2014; root:xnu-2782.1.97~2release_x86_64 x86_64 '
    config_args='-de -Dprefix=/Users/stas/perl5/perlbrew/perls/perl-5.21.6 -Dusedevel -Aeval:scriptdir=/Users/stas/perl5/perlbrew/perls/perl-5.21.6/bin'
    hint=recommended, useposix=true, d_sigaction=define
    useithreads=undef, usemultiplicity=undef
    use64bitint=define, use64bitall=define, uselongdouble=undef
    usemymalloc=n, bincompat5005=undef
  Compiler:
    cc='cc', ccflags ='-fno-common -DPERL_DARWIN -fno-strict-aliasing -pipe -fstack-protector -I/opt/local/include',
    optimize='-O3',
    cppflags='-fno-common -DPERL_DARWIN -fno-strict-aliasing -pipe -fstack-protector -I/opt/local/include'
    ccversion='', gccversion='4.2.1 Compatible Apple LLVM 6.0 (clang-600.0.54)', gccosandvers=''
    intsize=4, longsize=8, ptrsize=8, doublesize=8, byteorder=12345678, doublekind=3
    d_longlong=define, longlongsize=8, d_longdbl=define, longdblsize=16, longdblkind=3
    ivtype='long', ivsize=8, nvtype='double', nvsize=8, Off_t='off_t', lseeksize=8
    alignbytes=8, prototype=define
  Linker and Libraries:
    ld='env MACOSX_DEPLOYMENT_TARGET=10.3 cc', ldflags =' -fstack-protector -L/usr/local/lib -L/opt/local/lib'
    libpth=/Applications/Xcode.app/Contents/Developer/Toolchains/XcodeDefault.xctoolchain/usr/bin/../lib/clang/6.0/lib /Applications/Xcode.app/Contents/Developer/Toolchains/XcodeDefault.xctoolchain/usr/lib /usr/lib /usr/local/lib /opt/local/lib
    libs=-lgdbm -ldbm -ldl -lm -lutil -lc
    perllibs=-ldl -lm -lutil -lc
    libc=, so=dylib, useshrplib=false, libperl=libperl.a
    gnulibc_version=''
  Dynamic Linking:
    dlsrc=dl_dlopen.xs, dlext=bundle, d_dlsymun=undef, ccdlflags=' '
    cccdlflags=' ', lddlflags=' -bundle -undefined dynamic_lookup -L/usr/local/lib -L/opt/local/lib -fstack-protector'


Characteristics of this binary (from libperl): 
  Compile-time options: HAS_TIMES PERLIO_LAYERS PERL_DONT_CREATE_GVSV
                        PERL_HASH_FUNC_ONE_AT_A_TIME_HARD PERL_MALLOC_WRAP
                        PERL_NEW_COPY_ON_WRITE PERL_PRESERVE_IVUV
                        PERL_USE_DEVEL USE_64_BIT_ALL USE_64_BIT_INT
                        USE_LARGE_FILES USE_LOCALE USE_LOCALE_COLLATE
                        USE_LOCALE_CTYPE USE_LOCALE_NUMERIC USE_LOCALE_TIME
                        USE_PERLIO USE_PERL_ATOF
  Built under darwin
  Compiled at Nov 22 2014 19:02:57
  %ENV:
    PERL5LIB=""
    PERL5OPT=""
    PERL5_CPANPLUS_IS_RUNNING="52268"
    PERL5_CPAN_IS_RUNNING="52268"
    PERLBREW_BASHRC_VERSION="0.72"
    PERLBREW_HOME="/Users/stas/.perlbrew"
    PERLBREW_MANPATH="/Users/stas/perl5/perlbrew/perls/perl-5.21.6/man"
    PERLBREW_PATH="/Users/stas/perl5/perlbrew/bin:/Users/stas/perl5/perlbrew/perls/perl-5.21.6/bin"
    PERLBREW_PERL="perl-5.21.6"
    PERLBREW_ROOT="/Users/stas/perl5/perlbrew"
    PERLBREW_VERSION="0.72"
    PERL_MM_USE_DEFAULT="1"
  @INC:
    /Users/stas/perl5/perlbrew/perls/perl-5.21.6/lib/site_perl/5.21.6/darwin-2level
    /Users/stas/perl5/perlbrew/perls/perl-5.21.6/lib/site_perl/5.21.6
    /Users/stas/perl5/perlbrew/perls/perl-5.21.6/lib/5.21.6/darwin-2level
    /Users/stas/perl5/perlbrew/perls/perl-5.21.6/lib/5.21.6
    .