Pod-Weaver-Section-CollectWithIntro v0.001 Perl 5 v5.24.1 x86_64-linux-thread-multi

Status
Pass
From
Slaven Rezić (SREZIC)
Dist
Pod-Weaver-Section-CollectWithIntro v0.001
Platform
Perl 5 v5.24.1 x86_64-linux-thread-multi
Date
2019-07-27 17:30:20
ID
3516e742-b094-11e9-b33e-a85b1f24ea8f
This distribution has been tested as part of the CPAN Testers
project, supporting the Perl programming language.  See
http://wiki.cpantesters.org/ for more information or email
questions to cpan-testers-discuss@perl.org


--
Dear Chris Weyl,

This is a computer-generated report for Pod-Weaver-Section-CollectWithIntro-0.001
on perl 5.24.1, created by CPAN-Reporter-1.2018.

Thank you for uploading your work to CPAN.  Congratulations!
All tests were successful.

Sections of this report:

    * Tester comments
    * Program output
    * Prerequisites
    * Environment and other context

------------------------------
TESTER COMMENTS
------------------------------

Additional comments from tester:

none provided

------------------------------
PROGRAM OUTPUT
------------------------------

Output from '/usr/bin/make test':

PERL_DL_NONLAZY=1 "/opt/perl-5.24.1t/bin/perl" "-MExtUtils::Command::MM" "-MTest::Harness" "-e" "undef *Test::Harness::Switches; test_harness(0, 'blib/lib', 'blib/arch')" t/*.t
t/00-compile.t .................. ok
# 
# 
# Generated by Dist::Zilla::Plugin::ReportVersions::Tiny v1.08
# perl: 5.024001 (wanted 5.006) on linux from /opt/perl-5.24.1t/bin/perl
# 
# ExtUtils::MakeMaker                           => 7.1002     (want 6.30)   
# File::Find                                    => 1.34       (want any version)
# File::Temp                                    => 0.2304     (want any version)
# Moose                                         => 2.2005     (want any version)
# Moose::Autobox                                => 0.16       (want 0.10)   
# PPI                                           => 1.236      (want any version)
# Pod::Coverage::TrustPod                       => module not found. (want any version)
# Pod::Elemental                                => 0.103004   (want any version)
# Pod::Elemental::Element::Pod5::Ordinary       => 0.103004   (want any version)
# Pod::Elemental::Selectors                     => 0.103004   (want any version)
# Pod::Elemental::Transformer::Nester           => 0.103004   (want any version)
# Pod::Elemental::Transformer::Pod5             => 0.103004   (want any version)
# Pod::Weaver                                   => 4.015      (want any version)
# Pod::Weaver::Section::Collect                 => 4.015      (want any version)
# Test::Differences                             => 0.64       (want any version)
# Test::More                                    => 1.302086   (want 0.88)   
# Test::Pod                                     => 1.51       (want 1.41)   
# Test::Pod::Coverage                           => 1.10       (want 1.08)   
# aliased                                       => 0.34       (want any version)
# autobox::Core                                 => 1.33       (want any version)
# namespace::autoclean                          => 0.28       (want any version)
# strict                                        => 1.11       (want any version)
# version                                       => 0.9916     (want 0.9901) 
# warnings                                      => 1.36       (want any version)
# 
# Thanks for using my code.  I hope it works for you.
# If not, please try and include this output in the bug report.
# That will help me reproduce the issue and solve your problem.
# 
t/000-report-versions-tiny.t .... ok
t/author-pod-spell.t ............ skipped: these tests are for testing by the author
t/basic.t ....................... ok
t/release-consistent-version.t .. skipped: these tests are for release candidate testing
t/release-eol.t ................. skipped: these tests are for release candidate testing
t/release-has-version.t ......... skipped: these tests are for release candidate testing
t/release-no-smart-comments.t ... skipped: these tests are for release candidate testing
t/release-no-tabs.t ............. skipped: these tests are for release candidate testing
t/release-pod-coverage.t ........ skipped: these tests are for release candidate testing
t/release-pod-syntax.t .......... skipped: these tests are for release candidate testing
t/release-portability.t ......... skipped: these tests are for release candidate testing
All tests successful.
Files=12, Tests=3,  3 wallclock secs ( 0.05 usr  0.06 sys +  2.19 cusr  0.42 csys =  2.72 CPU)
Result: PASS

------------------------------
PREREQUISITES
------------------------------

Prerequisite modules loaded:

requires:

    Module                                  Need Have    
    --------------------------------------- ---- --------
    aliased                                 0    0.34    
    autobox::Core                           0    1.33    
    Moose                                   0    2.2005  
    namespace::autoclean                    0    0.28    
    Pod::Elemental::Element::Pod5::Ordinary 0    0.103004
    Pod::Weaver::Section::Collect           0    4.015   

build_requires:

    Module                                  Need Have    
    --------------------------------------- ---- --------
    File::Find                              0    1.34    
    File::Temp                              0    0.2304  
    Moose::Autobox                          0.10 0.16    
    Pod::Elemental                          0    0.103004
    Pod::Elemental::Selectors               0    0.103004
    Pod::Elemental::Transformer::Nester     0    0.103004
    Pod::Elemental::Transformer::Pod5       0    0.103004
    Pod::Weaver                             0    4.015   
    PPI                                     0    1.236   
    strict                                  0    1.11    
    Test::Differences                       0    0.64    
    Test::More                              0.88 1.302086
    warnings                                0    1.36    

configure_requires:

    Module                                  Need Have    
    --------------------------------------- ---- --------
    ExtUtils::MakeMaker                     6.30 7.10_02 


------------------------------
ENVIRONMENT AND OTHER CONTEXT
------------------------------

Environment variables:

    LANG = C
    PATH = /usr/local/bin:/usr/bin:/bin:/usr/local/sbin:/usr/sbin:/sbin:/home/cpansand/bin/linux-gnu:/home/cpansand/bin/sh:/home/cpansand/bin:/usr/games:/home/cpansand/devel:/home/eserte/src/srezic-misc/scripts
    PERL5LIB = /home/cpansand/.cpan/build/2019072717/Moose-Autobox-0.16-uYR8AS/blib/arch:/home/cpansand/.cpan/build/2019072717/Moose-Autobox-0.16-uYR8AS/blib/lib:/home/cpansand/.cpan/build/2019072717/Syntax-Keyword-Junction-0.003008-d_31ei/blib/arch:/home/cpansand/.cpan/build/2019072717/Syntax-Keyword-Junction-0.003008-d_31ei/blib/lib:/home/cpansand/.cpan/build/2019072717/syntax-0.004-9PDtGq/blib/arch:/home/cpansand/.cpan/build/2019072717/syntax-0.004-9PDtGq/blib/lib:/home/cpansand/.cpan/build/2019072717/Pod-Weaver-4.015-H8q8Yc/blib/arch:/home/cpansand/.cpan/build/2019072717/Pod-Weaver-4.015-H8q8Yc/blib/lib:/home/cpansand/.cpan/build/2019072717/Pod-Elemental-0.103004-4iyvNF/blib/arch:/home/cpansand/.cpan/build/2019072717/Pod-Elemental-0.103004-4iyvNF/blib/lib:/home/cpansand/.cpan/build/2019072717/String-Truncate-1.100602-rybhxV/blib/arch:/home/cpansand/.cpan/build/2019072717/String-Truncate-1.100602-rybhxV/blib/lib:/home/cpansand/.cpan/build/2019072717/autobox-Core-1.33-TfgW3S/blib/arch:/home/cpansand/.cpan/build/2019072717/autobox-Core-1.33-TfgW3S/blib/lib:/home/cpansand/.cpan/build/2019072717/autobox-v3.0.1-2o3pls/blib/arch:/home/cpansand/.cpan/build/2019072717/autobox-v3.0.1-2o3pls/blib/lib:/home/cpansand/.cpan/build/2019072717/IPC-System-Simple-1.25-PQjIc5/blib/arch:/home/cpansand/.cpan/build/2019072717/IPC-System-Simple-1.25-PQjIc5/blib/lib:/home/cpansand/.cpan/build/2019072717/Want-0.29-0nKtna/blib/arch:/home/cpansand/.cpan/build/2019072717/Want-0.29-0nKtna/blib/lib
    PERL5OPT = 
    PERL5_CPANPLUS_IS_RUNNING = 5472
    PERL5_CPAN_IS_RUNNING = 5472
    PERL5_CPAN_IS_RUNNING_IN_RECURSION = 5450,5472
    PERLDOC = -MPod::Perldoc::ToTextOverstrike
    PERL_BATCH = yes
    PERL_CANARY_STABILITY_NOPROMPT = 1
    PERL_CPAN_REPORTER_CONFIG = /var/tmp/cpansmoker-1023/2019072717/cpanreporter_000_config.ini
    PERL_EXTUTILS_AUTOINSTALL = --defaultdeps
    SHELL = /usr/bin/zsh
    TERM = screen
    TMPDIR = /var/tmp/cpansmoker-1023/2019072717

Perl special variables (and OS-specific diagnostics, for MSWin32):

    $^X = /opt/perl-5.24.1t/bin/perl
    $UID/$EUID = 1023 / 1023
    $GID = 1023 1023
    $EGID = 1023 1023

Perl module toolchain versions installed:

    Module              Have      
    ------------------- ----------
    CPAN                2.11_01   
    CPAN::Meta          2.150005  
    Cwd                 3.63_01   
    ExtUtils::CBuilder  0.280225  
    ExtUtils::Command   7.10_02   
    ExtUtils::Install   2.04      
    ExtUtils::MakeMaker 7.10_02   
    ExtUtils::Manifest  1.70      
    ExtUtils::ParseXS   3.31      
    File::Spec          3.63_01   
    JSON                2.94      
    JSON::PP            2.27300_01
    Module::Build       0.4224    
    Module::Signature   n/a       
    Parse::CPAN::Meta   1.4417_001
    Test::Harness       3.36_01   
    Test::More          1.302086  
    YAML                1.23      
    YAML::Syck          1.30      
    version             0.9916    


--

Summary of my perl5 (revision 5 version 24 subversion 1) configuration:
   
  Platform:
    osname=linux, osvers=4.9.0-3-amd64, archname=x86_64-linux-thread-multi
    uname='linux debian9 4.9.0-3-amd64 #1 smp debian 4.9.30-2+deb9u1 (2017-06-18) x86_64 gnulinux '
    config_args='-ds -e -Dprefix=/opt/perl-5.24.1t -Dusethreads -Dcf_email=srezic@cpan.org'
    hint=recommended, useposix=true, d_sigaction=define
    useithreads=define, usemultiplicity=define
    use64bitint=define, use64bitall=define, uselongdouble=undef
    usemymalloc=n, bincompat5005=undef
  Compiler:
    cc='cc', ccflags ='-D_REENTRANT -D_GNU_SOURCE -fwrapv -fno-strict-aliasing -pipe -fstack-protector-strong -I/usr/local/include -D_LARGEFILE_SOURCE -D_FILE_OFFSET_BITS=64',
    optimize='-O2',
    cppflags='-D_REENTRANT -D_GNU_SOURCE -fwrapv -fno-strict-aliasing -pipe -fstack-protector-strong -I/usr/local/include'
    ccversion='', gccversion='6.3.0 20170516', gccosandvers=''
    intsize=4, longsize=8, ptrsize=8, doublesize=8, byteorder=12345678, doublekind=3
    d_longlong=define, longlongsize=8, d_longdbl=define, longdblsize=16, longdblkind=3
    ivtype='long', ivsize=8, nvtype='double', nvsize=8, Off_t='off_t', lseeksize=8
    alignbytes=8, prototype=define
  Linker and Libraries:
    ld='cc', ldflags =' -fstack-protector-strong -L/usr/local/lib'
    libpth=/usr/local/lib /usr/lib/gcc/x86_64-linux-gnu/6/include-fixed /usr/include/x86_64-linux-gnu /usr/lib /lib/x86_64-linux-gnu /lib/../lib /usr/lib/x86_64-linux-gnu /usr/lib/../lib /lib
    libs=-lpthread -lnsl -lgdbm -ldb -ldl -lm -lcrypt -lutil -lc -lgdbm_compat
    perllibs=-lpthread -lnsl -ldl -lm -lcrypt -lutil -lc
    libc=libc-2.24.so, so=so, useshrplib=false, libperl=libperl.a
    gnulibc_version='2.24'
  Dynamic Linking:
    dlsrc=dl_dlopen.xs, dlext=so, d_dlsymun=undef, ccdlflags='-Wl,-E'
    cccdlflags='-fPIC', lddlflags='-shared -O2 -L/usr/local/lib -fstack-protector-strong'


Characteristics of this binary (from libperl): 
  Compile-time options: HAS_TIMES MULTIPLICITY PERLIO_LAYERS
                        PERL_COPY_ON_WRITE PERL_DONT_CREATE_GVSV
                        PERL_HASH_FUNC_ONE_AT_A_TIME_HARD
                        PERL_IMPLICIT_CONTEXT PERL_MALLOC_WRAP
                        PERL_PRESERVE_IVUV USE_64_BIT_ALL USE_64_BIT_INT
                        USE_ITHREADS USE_LARGE_FILES USE_LOCALE
                        USE_LOCALE_COLLATE USE_LOCALE_CTYPE
                        USE_LOCALE_NUMERIC USE_LOCALE_TIME USE_PERLIO
                        USE_PERL_ATOF USE_REENTRANT_API
  Locally applied patches:
	Devel::PatchPerl 1.48
  Built under linux
  Compiled at Jun 25 2017 14:39:12
  %ENV:
    PERL5LIB="/home/cpansand/.cpan/build/2019072717/Moose-Autobox-0.16-uYR8AS/blib/arch:/home/cpansand/.cpan/build/2019072717/Moose-Autobox-0.16-uYR8AS/blib/lib:/home/cpansand/.cpan/build/2019072717/Syntax-Keyword-Junction-0.003008-d_31ei/blib/arch:/home/cpansand/.cpan/build/2019072717/Syntax-Keyword-Junction-0.003008-d_31ei/blib/lib:/home/cpansand/.cpan/build/2019072717/syntax-0.004-9PDtGq/blib/arch:/home/cpansand/.cpan/build/2019072717/syntax-0.004-9PDtGq/blib/lib:/home/cpansand/.cpan/build/2019072717/Pod-Weaver-4.015-H8q8Yc/blib/arch:/home/cpansand/.cpan/build/2019072717/Pod-Weaver-4.015-H8q8Yc/blib/lib:/home/cpansand/.cpan/build/2019072717/Pod-Elemental-0.103004-4iyvNF/blib/arch:/home/cpansand/.cpan/build/2019072717/Pod-Elemental-0.103004-4iyvNF/blib/lib:/home/cpansand/.cpan/build/2019072717/String-Truncate-1.100602-rybhxV/blib/arch:/home/cpansand/.cpan/build/2019072717/String-Truncate-1.100602-rybhxV/blib/lib:/home/cpansand/.cpan/build/2019072717/autobox-Core-1.33-TfgW3S/blib/arch:/home/cpansand/.cpan/build/2019072717/autobox-Core-1.33-TfgW3S/blib/lib:/home/cpansand/.cpan/build/2019072717/autobox-v3.0.1-2o3pls/blib/arch:/home/cpansand/.cpan/build/2019072717/autobox-v3.0.1-2o3pls/blib/lib:/home/cpansand/.cpan/build/2019072717/IPC-System-Simple-1.25-PQjIc5/blib/arch:/home/cpansand/.cpan/build/2019072717/IPC-System-Simple-1.25-PQjIc5/blib/lib:/home/cpansand/.cpan/build/2019072717/Want-0.29-0nKtna/blib/arch:/home/cpansand/.cpan/build/2019072717/Want-0.29-0nKtna/blib/lib"
    PERL5OPT=""
    PERL5_CPANPLUS_IS_RUNNING="5472"
    PERL5_CPAN_IS_RUNNING="5472"
    PERL5_CPAN_IS_RUNNING_IN_RECURSION="5450,5472"
    PERLDOC="-MPod::Perldoc::ToTextOverstrike"
    PERL_BATCH="yes"
    PERL_CANARY_STABILITY_NOPROMPT="1"
    PERL_CPAN_REPORTER_CONFIG="/var/tmp/cpansmoker-1023/2019072717/cpanreporter_000_config.ini"
    PERL_EXTUTILS_AUTOINSTALL="--defaultdeps"
  @INC:
    /home/cpansand/.cpan/build/2019072717/Moose-Autobox-0.16-uYR8AS/blib/arch
    /home/cpansand/.cpan/build/2019072717/Moose-Autobox-0.16-uYR8AS/blib/lib
    /home/cpansand/.cpan/build/2019072717/Syntax-Keyword-Junction-0.003008-d_31ei/blib/arch
    /home/cpansand/.cpan/build/2019072717/Syntax-Keyword-Junction-0.003008-d_31ei/blib/lib
    /home/cpansand/.cpan/build/2019072717/syntax-0.004-9PDtGq/blib/arch
    /home/cpansand/.cpan/build/2019072717/syntax-0.004-9PDtGq/blib/lib
    /home/cpansand/.cpan/build/2019072717/Pod-Weaver-4.015-H8q8Yc/blib/arch
    /home/cpansand/.cpan/build/2019072717/Pod-Weaver-4.015-H8q8Yc/blib/lib
    /home/cpansand/.cpan/build/2019072717/Pod-Elemental-0.103004-4iyvNF/blib/arch
    /home/cpansand/.cpan/build/2019072717/Pod-Elemental-0.103004-4iyvNF/blib/lib
    /home/cpansand/.cpan/build/2019072717/String-Truncate-1.100602-rybhxV/blib/arch
    /home/cpansand/.cpan/build/2019072717/String-Truncate-1.100602-rybhxV/blib/lib
    /home/cpansand/.cpan/build/2019072717/autobox-Core-1.33-TfgW3S/blib/arch
    /home/cpansand/.cpan/build/2019072717/autobox-Core-1.33-TfgW3S/blib/lib
    /home/cpansand/.cpan/build/2019072717/autobox-v3.0.1-2o3pls/blib/arch
    /home/cpansand/.cpan/build/2019072717/autobox-v3.0.1-2o3pls/blib/lib
    /home/cpansand/.cpan/build/2019072717/IPC-System-Simple-1.25-PQjIc5/blib/arch
    /home/cpansand/.cpan/build/2019072717/IPC-System-Simple-1.25-PQjIc5/blib/lib
    /home/cpansand/.cpan/build/2019072717/Want-0.29-0nKtna/blib/arch
    /home/cpansand/.cpan/build/2019072717/Want-0.29-0nKtna/blib/lib
    /opt/perl-5.24.1t/lib/site_perl/5.24.1/x86_64-linux-thread-multi
    /opt/perl-5.24.1t/lib/site_perl/5.24.1
    /opt/perl-5.24.1t/lib/5.24.1/x86_64-linux-thread-multi
    /opt/perl-5.24.1t/lib/5.24.1
    .