Pod-Markdown v3.200 Perl 5 v5.26.0 amd64-netbsd
- Status
- Pass
- From
- Nigel Horne
- Dist
-
Pod-Markdown v3.200
- Platform
- Perl 5 v5.26.0 amd64-netbsd
- Date
- 2020-05-15 14:06:01
- ID
- 3504f0fc-96b5-11ea-a637-d89a912e08a8
This distribution has been tested as part of the CPAN Testers
project, supporting the Perl programming language. See
http://wiki.cpantesters.org/ for more information or email
questions to cpan-testers-discuss@perl.org
--
Dear Randy Stauner,
This is a computer-generated report for Pod-Markdown-3.200
on perl 5.26.0, created by CPAN-Reporter-1.2018.
Thank you for uploading your work to CPAN. Congratulations!
All tests were successful.
Sections of this report:
* Tester comments
* Program output
* Prerequisites
* Environment and other context
------------------------------
TESTER COMMENTS
------------------------------
Additional comments from tester:
this report is from an automated smoke testing program
and was not reviewed by a human for accuracy
------------------------------
PROGRAM OUTPUT
------------------------------
Output from '/usr/bin/make test':
PERL_DL_NONLAZY=1 "/home/njh/perl5/perlbrew/perls/perl-5.26.0/bin/perl" "-MExtUtils::Command::MM" "-MTest::Harness" "-e" "undef *Test::Harness::Switches; test_harness(0, 'blib/lib', 'blib/arch')" t/*.t
t/00-compile.t ......... ok
#
# Versions for all modules listed in MYMETA.json (including optional ones):
#
# === Configure Requires ===
#
# Module Want Have
# ------------------- ---- ----
# ExtUtils::MakeMaker any 7.34
#
# === Build Requires ===
#
# Module Want Have
# ------------------- ---- ----
# ExtUtils::MakeMaker any 7.34
#
# === Test Requires ===
#
# Module Want Have
# --------------------- ---- --------
# Exporter any 5.73
# ExtUtils::MakeMaker any 7.34
# File::Spec any 3.75
# File::Spec::Functions any 3.75
# File::Temp any 0.2308
# IO::Handle any 1.39
# IPC::Open3 any 1.20
# Symbol any 1.08
# Test::Differences any 0.67
# Test::More 0.88 1.302170
# lib any 0.64
# utf8 any 1.19
#
# === Test Recommends ===
#
# Module Want Have
# ---------- -------- --------
# CPAN::Meta 2.120900 2.150010
#
# === Runtime Requires ===
#
# Module Want Have
# -------------------- ---- -----
# Encode any 3.02
# Getopt::Long any 2.51
# Pod::Simple 3.27 3.38
# Pod::Simple::Methody any 3.38
# Pod::Usage any 1.69
# URI::Escape any 3.31
# parent any 0.237
# strict any 1.11
# warnings any 1.37
#
# === Runtime Recommends ===
#
# Module Want Have
# -------------- ---- ----
# HTML::Entities any 3.69
#
t/00-report-prereqs.t .. ok
t/back-compat.t ........ ok
t/basic.t .............. ok
t/codes.t .............. ok
t/encoding.t ........... ok
t/entities.t ........... ok
t/escape.t ............. ok
t/formats.t ............ ok
t/links.t .............. ok
t/lists.t .............. ok
t/meta.t ............... ok
t/misc.t ............... ok
t/nested.t ............. ok
t/new.t ................ ok
t/perldoc.t ............ ok
t/pod2markdown.t ....... ok
t/verbatim.t ........... ok
All tests successful.
Files=18, Tests=354, 5 wallclock secs ( 0.13 usr 0.04 sys + 4.21 cusr 1.22 csys = 5.60 CPU)
Result: PASS
------------------------------
PREREQUISITES
------------------------------
Prerequisite modules loaded:
requires:
Module Need Have
--------------------- ----- --------
Encode 0 3.02
Getopt::Long 0 2.51
parent 0 0.237
perl 5.008 5.026000
Pod::Simple 3.27 3.38
Pod::Simple::Methody 0 3.38
Pod::Usage 0 1.69
strict 0 1.11
URI::Escape 0 3.31
warnings 0 1.37
build_requires:
Module Need Have
--------------------- ----- --------
Exporter 0 5.73
ExtUtils::MakeMaker 0 7.34
File::Spec 0 3.75
File::Spec::Functions 0 3.75
File::Temp 0 0.2308
IO::Handle 0 1.39
IPC::Open3 0 1.20
lib 0 0.64
Symbol 0 1.08
Test::Differences 0 0.67
Test::More 0.88 1.302170
utf8 0 1.19
configure_requires:
Module Need Have
--------------------- ----- --------
ExtUtils::MakeMaker 0 7.34
perl 5.008 5.026000
------------------------------
ENVIRONMENT AND OTHER CONTEXT
------------------------------
Environment variables:
AUTOMATED_TESTING = 1
NONINTERACTIVE_TESTING = 1
PATH = /home/njh/perl5/perlbrew/bin:/home/njh/perl5/perlbrew/perls/perl-5.26.0/bin:/home/njh/src/njh/smoker/bin:/usr/bin:/bin:/usr/pkg/bin:/usr/local/bin
PERL5LIB = /home/njh/.cpan/build/List-AutoNumbered-0.000010-0/blib/arch:/home/njh/.cpan/build/List-AutoNumbered-0.000010-0/blib/lib:/home/njh/.cpan/build/lib-relative-1.000-0/blib/arch:/home/njh/.cpan/build/lib-relative-1.000-0/blib/lib:/home/njh/.cpan/build/Graph-0.9704-0/blib/arch:/home/njh/.cpan/build/Graph-0.9704-0/blib/lib:/home/njh/.cpan/build/Getargs-Mixed-1.06-0/blib/arch:/home/njh/.cpan/build/Getargs-Mixed-1.06-0/blib/lib:/home/njh/.cpan/build/ASPOSEAPI-0/blib/arch:/home/njh/.cpan/build/ASPOSEAPI-0/blib/lib:/home/njh/.cpan/build/URI-Query-0.16-0/blib/arch:/home/njh/.cpan/build/URI-Query-0.16-0/blib/lib
PERL5OPT =
PERL5_CPANPLUS_IS_RUNNING = 12852
PERL5_CPAN_IS_RUNNING = 12852
PERL5_CPAN_IS_RUNNING_IN_RECURSION = 5445,12852
PERLBREW_HOME = /home/njh/.perlbrew
PERLBREW_MANPATH = /home/njh/perl5/perlbrew/perls/perl-5.26.0/man
PERLBREW_PATH = /home/njh/perl5/perlbrew/bin:/home/njh/perl5/perlbrew/perls/perl-5.26.0/bin
PERLBREW_PERL = perl-5.26.0
PERLBREW_ROOT = /home/njh/perl5/perlbrew
PERLBREW_SHELLRC_VERSION = 0.88
PERLBREW_VERSION = 0.88
PERL_MM_USE_DEFAULT = 1
PERL_USE_UNSAFE_INC = 1
SHELL = /usr/bin/bash
TMPDIR = /tmp/testwrapper.3550
Perl special variables (and OS-specific diagnostics, for MSWin32):
$^X = /home/njh/perl5/perlbrew/perls/perl-5.26.0/bin/perl
$UID/$EUID = 1000 / 1000
$GID = 100 100 0
$EGID = 100 100 0
Perl module toolchain versions installed:
Module Have
------------------- --------
CPAN 2.26
CPAN::Meta 2.150010
Cwd 3.75
ExtUtils::CBuilder 0.280230
ExtUtils::Command 7.34
ExtUtils::Install 2.14
ExtUtils::MakeMaker 7.34
ExtUtils::Manifest 1.71
ExtUtils::ParseXS 3.35
File::Spec 3.75
JSON 4.02
JSON::PP 4.02
Module::Build 0.4224
Module::Signature n/a
Parse::CPAN::Meta 2.150010
Test::Harness 3.42
Test::More 1.302170
YAML 1.30
YAML::Syck 1.32
version 0.9924
--
Summary of my perl5 (revision 5 version 26 subversion 0) configuration:
Platform:
osname=netbsd
osvers=7.1.2
archname=amd64-netbsd
uname='netbsd njh2.vultr.com 7.1.2 netbsd 7.1.2 (generic.201803151611z) amd64 '
config_args='-de -Dprefix=/home/njh/perl5/perlbrew/perls/perl-5.26.0 -Aeval:scriptdir=/home/njh/perl5/perlbrew/perls/perl-5.26.0/bin'
hint=recommended
useposix=true
d_sigaction=define
useithreads=undef
usemultiplicity=undef
use64bitint=define
use64bitall=define
uselongdouble=undef
usemymalloc=n
default_inc_excludes_dot=define
bincompat5005=undef
Compiler:
cc='cc'
ccflags ='-fwrapv -fno-strict-aliasing -pipe -fstack-protector -I/usr/pkg/include -D_FORTIFY_SOURCE=2'
optimize='-O'
cppflags='-fwrapv -fno-strict-aliasing -pipe -fstack-protector -I/usr/pkg/include'
ccversion=''
gccversion='4.8.5'
gccosandvers=''
intsize=4
longsize=8
ptrsize=8
doublesize=8
byteorder=12345678
doublekind=3
d_longlong=define
longlongsize=8
d_longdbl=define
longdblsize=16
longdblkind=3
ivtype='long'
ivsize=8
nvtype='double'
nvsize=8
Off_t='off_t'
lseeksize=8
alignbytes=8
prototype=define
Linker and Libraries:
ld='cc'
ldflags =' -Wl,-rpath,/usr/pkg/lib -Wl,-rpath,/usr/local/lib -fstack-protector -L/usr/pkg/lib'
libpth=/usr/include/gcc-4.8 /usr/lib /usr/pkg/lib /lib
libs=-lpthread -lm -lcrypt -lutil -lc -lposix
perllibs=-lpthread -lm -lcrypt -lutil -lc -lposix
libc=/lib/libc.so
so=so
useshrplib=false
libperl=libperl.a
gnulibc_version=''
Dynamic Linking:
dlsrc=dl_dlopen.xs
dlext=so
d_dlsymun=undef
ccdlflags='-Wl,-E '
cccdlflags='-DPIC -fPIC '
lddlflags='-shared -L/usr/pkg/lib -fstack-protector'
Characteristics of this binary (from libperl):
Compile-time options:
HAS_TIMES
PERLIO_LAYERS
PERL_COPY_ON_WRITE
PERL_DONT_CREATE_GVSV
PERL_MALLOC_WRAP
PERL_OP_PARENT
PERL_PRESERVE_IVUV
USE_64_BIT_ALL
USE_64_BIT_INT
USE_LARGE_FILES
USE_LOCALE
USE_LOCALE_COLLATE
USE_LOCALE_CTYPE
USE_LOCALE_NUMERIC
USE_LOCALE_TIME
USE_PERLIO
USE_PERL_ATOF
Locally applied patches:
Devel::PatchPerl 1.48
Built under netbsd
Compiled at May 27 2018 10:22:49
%ENV:
PERL5LIB="/home/njh/.cpan/build/List-AutoNumbered-0.000010-0/blib/arch:/home/njh/.cpan/build/List-AutoNumbered-0.000010-0/blib/lib:/home/njh/.cpan/build/lib-relative-1.000-0/blib/arch:/home/njh/.cpan/build/lib-relative-1.000-0/blib/lib:/home/njh/.cpan/build/Graph-0.9704-0/blib/arch:/home/njh/.cpan/build/Graph-0.9704-0/blib/lib:/home/njh/.cpan/build/Getargs-Mixed-1.06-0/blib/arch:/home/njh/.cpan/build/Getargs-Mixed-1.06-0/blib/lib:/home/njh/.cpan/build/ASPOSEAPI-0/blib/arch:/home/njh/.cpan/build/ASPOSEAPI-0/blib/lib:/home/njh/.cpan/build/URI-Query-0.16-0/blib/arch:/home/njh/.cpan/build/URI-Query-0.16-0/blib/lib"
PERL5OPT=""
PERL5_CPANPLUS_IS_RUNNING="12852"
PERL5_CPAN_IS_RUNNING="12852"
PERL5_CPAN_IS_RUNNING_IN_RECURSION="5445,12852"
PERLBREW_HOME="/home/njh/.perlbrew"
PERLBREW_MANPATH="/home/njh/perl5/perlbrew/perls/perl-5.26.0/man"
PERLBREW_PATH="/home/njh/perl5/perlbrew/bin:/home/njh/perl5/perlbrew/perls/perl-5.26.0/bin"
PERLBREW_PERL="perl-5.26.0"
PERLBREW_ROOT="/home/njh/perl5/perlbrew"
PERLBREW_SHELLRC_VERSION="0.88"
PERLBREW_VERSION="0.88"
PERL_MM_USE_DEFAULT="1"
PERL_USE_UNSAFE_INC="1"
@INC:
/home/njh/.cpan/build/List-AutoNumbered-0.000010-0/blib/arch
/home/njh/.cpan/build/List-AutoNumbered-0.000010-0/blib/lib
/home/njh/.cpan/build/lib-relative-1.000-0/blib/arch
/home/njh/.cpan/build/lib-relative-1.000-0/blib/lib
/home/njh/.cpan/build/Graph-0.9704-0/blib/arch
/home/njh/.cpan/build/Graph-0.9704-0/blib/lib
/home/njh/.cpan/build/Getargs-Mixed-1.06-0/blib/arch
/home/njh/.cpan/build/Getargs-Mixed-1.06-0/blib/lib
/home/njh/.cpan/build/ASPOSEAPI-0/blib/arch
/home/njh/.cpan/build/ASPOSEAPI-0/blib/lib
/home/njh/.cpan/build/URI-Query-0.16-0/blib/arch
/home/njh/.cpan/build/URI-Query-0.16-0/blib/lib
/home/njh/perl5/perlbrew/perls/perl-5.26.0/lib/site_perl/5.26.0/amd64-netbsd
/home/njh/perl5/perlbrew/perls/perl-5.26.0/lib/site_perl/5.26.0
/home/njh/perl5/perlbrew/perls/perl-5.26.0/lib/5.26.0/amd64-netbsd
/home/njh/perl5/perlbrew/perls/perl-5.26.0/lib/5.26.0
.