Back
From: metabase:user:320bfe00-2aae-11df-837a-5e0a49663a4f
Subject: PASS XML-RSS-Feed-2.4 v5.25.7 GNU/Linux
Date: 2016-11-27T18:35:01Z
This distribution has been tested as part of the CPAN Testers
project, supporting the Perl programming language. See
http://wiki.cpantesters.org/ for more information or email
questions to cpan-testers-discuss@perl.org
--
Dear Jeff Bisbee,
This is a computer-generated report for XML-RSS-Feed-2.4
on perl 5.25.7, created by CPAN-Reporter-1.2018.
Thank you for uploading your work to CPAN. Congratulations!
All tests were successful.
Sections of this report:
* Tester comments
* Program output
* Prerequisites
* Environment and other context
------------------------------
TESTER COMMENTS
------------------------------
Additional comments from tester:
this report is from an automated smoke testing program
and was not reviewed by a human for accuracy
------------------------------
PROGRAM OUTPUT
------------------------------
Output from '/usr/bin/make test':
PERL_DL_NONLAZY=1 "/tmp/basesmoker-reloperl-MIxq/bin/perl" "-MExtUtils::Command::MM" "-MTest::Harness" "-e" "undef *Test::Harness::Switches; test_harness(0, 'blib/lib', 'blib/arch')" t/*.t
t/001_load.t .................... ok
t/002_parse.t ................... ok
Argument "This is a test 1" isn't numeric in preincrement (++) at t/003_process.t line 28, <DATA> line 1.
Argument "http://www.jbisbee.com/test/url/1" isn't numeric in preincrement (++) at t/003_process.t line 28, <DATA> line 1.
Argument "Description number 1" isn't numeric in preincrement (++) at t/003_process.t line 28, <DATA> line 1.
t/003_process.t ................. ok
Argument "This is a test 1" isn't numeric in preincrement (++) at t/004_process_items.t line 27, <DATA> line 1.
Argument "http://www.jbisbee.com/test/url/1" isn't numeric in preincrement (++) at t/004_process_items.t line 27, <DATA> line 1.
Argument "Description number 1" isn't numeric in preincrement (++) at t/004_process_items.t line 27, <DATA> line 1.
t/004_process_items.t ........... ok
Argument "This is a test 1" isn't numeric in preincrement (++) at t/005_create_headline.t line 57, <DATA> line 1.
Argument "http://www.jbisbee.com/test/url/1" isn't numeric in preincrement (++) at t/005_create_headline.t line 57, <DATA> line 1.
t/005_create_headline.t ......... ok
Argument "This is a test 1" isn't numeric in preincrement (++) at t/006_first_seen.t line 18, <DATA> line 1.
Argument "http://www.jbisbee.com/test/url/1" isn't numeric in preincrement (++) at t/006_first_seen.t line 18, <DATA> line 1.
t/006_first_seen.t .............. ok
t/007_fetch_feed.t .............. ok
t/008_store_retrieve.t .......... ok
Argument "This is a test 1" isn't numeric in preincrement (++) at t/009_max_headlines.t line 26, <DATA> line 1.
Argument "http://www.jbisbee.com/test/url/1" isn't numeric in preincrement (++) at t/009_max_headlines.t line 26, <DATA> line 1.
t/009_max_headlines.t ........... ok
t/010_deprecated_methods.t ...... ok
t/011_pod.t ..................... ok
t/012_pod_coverage.t ............ ok
t/013_legacy.t .................. ok
t/014_last_updated.t ............ ok
t/015_feed_exceptions.t ......... ok
t/016_title_from_description.t .. ok
t/017_perljobs.t ................ ok
t/018_debug.t ................... ok
t/019_fark.t .................... ok
t/020_useperljournals.t ......... ok
All tests successful.
Files=20, Tests=566, 5 wallclock secs ( 0.06 usr 0.10 sys + 3.88 cusr 0.50 csys = 4.54 CPU)
Result: PASS
------------------------------
PREREQUISITES
------------------------------
Prerequisite modules loaded:
requires:
Module Need Have
------------------- ---- --------
Carp 0 1.42
Clone 0 0.38
Digest::MD5 0 2.55
Encode 0 2.86
HTML::Entities 0 3.69
Storable 0 2.59
Test::More 0 1.302067
Time::HiRes 0 1.9741
URI 0 1.71
URI::Escape 0 3.31
XML::RSS 0 1.59
build_requires:
Module Need Have
------------------- ---- --------
ExtUtils::MakeMaker 0 7.24
configure_requires:
Module Need Have
------------------- ---- --------
ExtUtils::MakeMaker 0 7.24
------------------------------
ENVIRONMENT AND OTHER CONTEXT
------------------------------
Environment variables:
AUTOMATED_TESTING = 1
LANG = C
PATH = /home/sand/bin:/usr/local/bin:/usr/bin:/bin:/usr/games:/usr/local/perl/bin:/usr/X11/bin:/sbin:/usr/sbin
PERL5LIB =
PERL5OPT =
PERL5_CPANPLUS_IS_RUNNING = 17184
PERL5_CPAN_IS_RUNNING = 17184
PERL_CANARY_STABILITY_NOPROMPT = 1
PERL_MM_USE_DEFAULT = 1
SHELL = /usr/bin/zsh
TERM = screen
Perl special variables (and OS-specific diagnostics, for MSWin32):
$^X = /tmp/basesmoker-reloperl-MIxq/bin/perl
$UID/$EUID = 1005 / 1005
$GID = 1005 1005
$EGID = 1005 1005
Perl module toolchain versions installed:
Module Have
------------------- ----------
CPAN 2.15
CPAN::Meta 2.150010
Cwd 3.66
ExtUtils::CBuilder 0.280225
ExtUtils::Command 7.24
ExtUtils::Install 2.04
ExtUtils::MakeMaker 7.24
ExtUtils::Manifest 1.70
ExtUtils::ParseXS 3.33
File::Spec 3.66
JSON 2.90
JSON::PP 2.27400_02
Module::Build 0.4220
Module::Signature 0.81
Parse::CPAN::Meta 2.150010
Test::Harness 3.36_01
Test::More 1.302067
YAML 1.19
YAML::Syck 1.29
version 0.9917
--
Summary of my perl5 (revision 5 version 25 subversion 7) configuration:
Commit id: 28988dce93a735de38b874bd0f3087b9bd4aad0f
Platform:
osname=linux
osvers=4.8.0-1-amd64
archname=x86_64-linux-thread-multi-ld
uname='linux k93x64sid 4.8.0-1-amd64 #1 smp debian 4.8.7-1 (2016-11-13) x86_64 gnulinux '
config_args='-Dprefix=/home/sand/src/perl/repoperls/installed-perls/host/k93x64sid/v5.25.7/721c -Dmyhostname=k93x64sid -Dinstallusrbinperl=n -Uversiononly -Dusedevel -des -Ui_db -Dlibswanted=cl pthread socket inet nsl gdbm dbm malloc dl ld sun m crypt sec util c cposix posix ucb BSD gdbm_compat -Duseithreads -Duselongdouble'
hint=recommended
useposix=true
d_sigaction=define
useithreads=define
usemultiplicity=define
use64bitint=define
use64bitall=define
uselongdouble=define
usemymalloc=n
bincompat5005=undef
Compiler:
cc='cc'
ccflags ='-D_REENTRANT -D_GNU_SOURCE -fwrapv -fno-strict-aliasing -pipe -fstack-protector-strong -I/usr/local/include -D_LARGEFILE_SOURCE -D_FILE_OFFSET_BITS=64'
optimize='-O2'
cppflags='-D_REENTRANT -D_GNU_SOURCE -fwrapv -fno-strict-aliasing -pipe -fstack-protector-strong -I/usr/local/include'
ccversion=''
gccversion='6.2.1 20161124'
gccosandvers=''
intsize=4
longsize=8
ptrsize=8
doublesize=8
byteorder=12345678
doublekind=3
d_longlong=define
longlongsize=8
d_longdbl=define
longdblsize=16
longdblkind=3
ivtype='long'
ivsize=8
nvtype='long double'
nvsize=16
Off_t='off_t'
lseeksize=8
alignbytes=16
prototype=define
Linker and Libraries:
ld='cc'
ldflags =' -fstack-protector-strong -L/usr/local/lib'
libpth=/usr/local/lib /usr/lib/gcc/x86_64-linux-gnu/6/include-fixed /usr/include/x86_64-linux-gnu /usr/lib /lib/x86_64-linux-gnu /lib/../lib /usr/lib/x86_64-linux-gnu /usr/lib/../lib /lib
libs=-lpthread -lnsl -ldl -lm -lcrypt -lutil -lc
perllibs=-lpthread -lnsl -ldl -lm -lcrypt -lutil -lc
libc=libc-2.24.so
so=so
useshrplib=false
libperl=libperl.a
gnulibc_version='2.24'
Dynamic Linking:
dlsrc=dl_dlopen.xs
dlext=so
d_dlsymun=undef
ccdlflags='-Wl,-E'
cccdlflags='-fPIC'
lddlflags='-shared -O2 -L/usr/local/lib -fstack-protector-strong'
Characteristics of this binary (from libperl):
Compile-time options:
HAS_TIMES
MULTIPLICITY
PERLIO_LAYERS
PERL_COPY_ON_WRITE
PERL_DONT_CREATE_GVSV
PERL_HASH_FUNC_ONE_AT_A_TIME_HARD
PERL_IMPLICIT_CONTEXT
PERL_MALLOC_WRAP
PERL_OP_PARENT
PERL_PRESERVE_IVUV
PERL_USE_DEVEL
USE_64_BIT_ALL
USE_64_BIT_INT
USE_ITHREADS
USE_LARGE_FILES
USE_LOCALE
USE_LOCALE_COLLATE
USE_LOCALE_CTYPE
USE_LOCALE_NUMERIC
USE_LOCALE_TIME
USE_LONG_DOUBLE
USE_PERLIO
USE_PERL_ATOF
USE_REENTRANT_API
Built under linux
Compiled at Nov 27 2016 09:28:55
%ENV:
PERL5LIB=""
PERL5OPT=""
PERL5_CPANPLUS_IS_RUNNING="17184"
PERL5_CPAN_IS_RUNNING="17184"
PERL_CANARY_STABILITY_NOPROMPT="1"
PERL_MM_USE_DEFAULT="1"
@INC:
/home/sand/src/perl/repoperls/installed-perls/host/k93x64sid/v5.25.7/721c/lib/site_perl/5.25.7/x86_64-linux-thread-multi-ld
/home/sand/src/perl/repoperls/installed-perls/host/k93x64sid/v5.25.7/721c/lib/site_perl/5.25.7
/home/sand/src/perl/repoperls/installed-perls/host/k93x64sid/v5.25.7/721c/lib/5.25.7/x86_64-linux-thread-multi-ld
/home/sand/src/perl/repoperls/installed-perls/host/k93x64sid/v5.25.7/721c/lib/5.25.7
.