Back
From: metabase:user:30f4dfbe-2aae-11df-837a-5e0a49663a4f
Subject: PASS Perlbal-1.80 v5.8.7 GNU/Linux
Date: 2012-05-20T01:57:51Z
This distribution has been tested as part of the CPAN Testers
project, supporting the Perl programming language. See
http://wiki.cpantesters.org/ for more information or email
questions to cpan-testers-discuss@perl.org
--
Dear Alan Kasindorf,
This is a computer-generated report for Perlbal-1.80
on perl 5.8.7, created by CPAN-Reporter-1.2006.
Thank you for uploading your work to CPAN. Congratulations!
All tests were successful.
Sections of this report:
* Tester comments
* Program output
* Prerequisites
* Environment and other context
------------------------------
TESTER COMMENTS
------------------------------
Additional comments from tester:
this report is from an automated smoke testing program
and was not reviewed by a human for accuracy
------------------------------
PROGRAM OUTPUT
------------------------------
Output from '/usr/bin/make test':
PERL_DL_NONLAZY=1 /home/njh/perl5/perlbrew/perls/perl-5.8.7/bin/perl "-MExtUtils::Command::MM" "-e" "test_harness(0, 'blib/lib', 'blib/arch')" t/*.t
t/00-use.t ............... ok
t/10-testharness.t ....... ok
t/12-headers.t ........... ok
t/13-server-tokens.t ..... ok
t/15-webserver.t ......... ok
t/17-webserver-concat.t .. ok
Manage command failed: 'SERVER aio_mode = ioaio' 'ERROR: IO::AIO not available
'
Manage command failed: 'SERVER aio_mode = ioaio' 'ERROR: IO::AIO not available
'
Manage command failed: 'SERVER aio_mode = ioaio' 'ERROR: IO::AIO not available
'
t/20-put.t ............... ok
# Writing: 500
# Writing: 5
# Writing: 5
# Writing: 5
# Writing: 100000
# Writing: 60000
# Writing: 1000
# Writing: 338485
t/22-chunked-put.t ....... ok
t/30-reverseproxy.t ...... ok
t/31-realworld.t ......... ok
# separator length 2
# separator length 0
500 response!
t/32-pipelining.t ........ ok
t/32-selector.t .......... ok
Manage command failed: 'SERVER aio_mode = ioaio' 'ERROR: IO::AIO not available
'
t/35-reproxy.t ........... ok
Manage command failed: 'SERVER aio_mode = ioaio' 'ERROR: IO::AIO not available
'
Manage command failed: 'SERVER aio_mode = ioaio' 'ERROR: IO::AIO not available
'
t/40-ranges.t ............ ok
t/45-buffereduploads.t ... ok
t/50-plugins.t ........... ok
t/52-chunked-upload.t .... ok
t/60-child-httpd.t ....... skipped: Alpha feature; test skipped without $ENV{PERLBAL_TEST_ALPHA}
t/75-plugin-include.t .... ok
t/76-plugin-redirect.t ... ok
t/77-plugin-throttle.t ... ok
t/78-plugin-xffextras.t .. ok
t/90-accesscontrol.t ..... ok
Name "Hash::Util::lock_ref_keys" used only once: possible typo at t/91-fields.t line 12.
t/91-fields.t ............ ok
t/99-benchmark-bool.t .... ok
All tests successful.
Files=25, Tests=544, 56 wallclock secs ( 0.11 usr 0.04 sys + 2.15 cusr 0.30 csys = 2.60 CPU)
Result: PASS
------------------------------
PREREQUISITES
------------------------------
Prerequisite modules loaded:
requires:
Module Need Have
------------------- ---- -------
base 0 2.18
BSD::Resource 0 1.2904
Carp 0 1.25
constant 0 1.21
Danga::Socket 1.44 1.61
Errno 0 1.09_01
Exporter 0 5.66
Fcntl 0 1.05
fields 0 2.16
File::Path 0 2.08
File::Temp 0 0.22
FindBin 0 1.44
Getopt::Long 0 2.38
Hash::Util 0 0.05
HTTP::Date 0 6.02
HTTP::Request 0 6.00
HTTP::Response 0 6.03
IO::File 0 1.14
IO::Handle 0 1.28
IO::Select 0 1.17
IO::Socket::INET 0 1.31
lib 0 0.63
LWP::UserAgent 0 6.04
Scalar::Util 0 1.25
Socket 0 2.001
strict 0 1.03
Sys::Syscall 0 0.23
Test::More 0.94 0.98
Time::HiRes 0 1.9725
vars 0 1.01
warnings 0 1.03
build_requires:
Module Need Have
------------------- ---- -------
ExtUtils::MakeMaker 0 6.62
configure_requires:
Module Need Have
------------------- ---- -------
ExtUtils::MakeMaker 0 6.62
------------------------------
ENVIRONMENT AND OTHER CONTEXT
------------------------------
Environment variables:
AUTOMATED_TESTING = 1
LANG = en_GB.UTF-8
LANGUAGE = en_GB:en
PATH = /usr/bin:/bin
PERL5LIB = /home/njh/.cpan/build/Danga-Socket-1.61-yiIcbB/blib/arch:/home/njh/.cpan/build/Danga-Socket-1.61-yiIcbB/blib/lib:/home/njh/.cpan/build/Sys-Syscall-0.23-IuDqq3/blib/arch:/home/njh/.cpan/build/Sys-Syscall-0.23-IuDqq3/blib/lib:/home/njh/.cpan/build/MogileFS-Client-1.16-QXKHSD/blib/arch:/home/njh/.cpan/build/MogileFS-Client-1.16-QXKHSD/blib/lib
PERL5OPT =
PERL5_CPANPLUS_IS_RUNNING = 22189
PERL5_CPAN_IS_RUNNING = 22189
PERL5_MINISMOKEBOX = 0.54
PERL_EXTUTILS_AUTOINSTALL = --defaultdeps
PERL_MM_USE_DEFAULT = 1
SHELL = /bin/sh
Perl special variables (and OS-specific diagnostics, for MSWin32):
$^X = /home/njh/perl5/perlbrew/perls/perl-5.8.7/bin/perl
$UID/$EUID = 1000 / 1000
$GID = 1000 1000 112 108 46 44 30 29 25 24
$EGID = 1000 1000 112 108 46 44 30 29 25 24
Perl module toolchain versions installed:
Module Have
------------------- --------
CPAN 1.9800
CPAN::Meta 2.120921
Cwd 3.33
ExtUtils::CBuilder 0.280205
ExtUtils::Command 1.17
ExtUtils::Install 1.54
ExtUtils::MakeMaker 6.62
ExtUtils::Manifest 1.60
ExtUtils::ParseXS 3.15
File::Spec 3.33
JSON 2.53
JSON::PP 2.27200
Module::Build 0.40
Module::Signature 0.68
Parse::CPAN::Meta 1.4404
Test::Harness 3.23
Test::More 0.98
YAML 0.80
YAML::Syck 1.20
version 0.99
--
Summary of my perl5 (revision 5 version 8 subversion 7) configuration:
Platform:
osname=linux, osvers=3.1.0-1-amd64, archname=x86_64-linux
uname='linux gateway 3.1.0-1-amd64 #1 smp tue jan 10 05:01:58 utc 2012 x86_64 gnulinux '
config_args='-de -Dprefix=/home/njh/perl5/perlbrew/perls/perl-5.8.7 -D_FORTIFY_SOURCE=2 -Accflags=-O2'
hint=recommended, useposix=true, d_sigaction=define
usethreads=undef use5005threads=undef useithreads=undef usemultiplicity=undef
useperlio=define d_sfio=undef uselargefiles=define usesocks=undef
use64bitint=define use64bitall=define uselongdouble=undef
usemymalloc=n, bincompat5005=undef
Compiler:
cc='cc', ccflags ='-O2 -fno-strict-aliasing -pipe -I/usr/local/include -D_LARGEFILE_SOURCE -D_FILE_OFFSET_BITS=64',
optimize='-O2',
cppflags='-O2 -fno-strict-aliasing -pipe -I/usr/local/include'
ccversion='', gccversion='4.6.2', gccosandvers=''
intsize=4, longsize=8, ptrsize=8, doublesize=8, byteorder=12345678
d_longlong=define, longlongsize=8, d_longdbl=define, longdblsize=16
ivtype='long', ivsize=8, nvtype='double', nvsize=8, Off_t='off_t', lseeksize=8
alignbytes=8, prototype=define
Linker and Libraries:
ld='cc', ldflags =' -L/usr/local/lib'
libpth=/usr/local/lib /lib/x86_64-linux-gnu /lib/../lib /usr/lib/x86_64-linux-gnu /usr/lib/../lib /lib /usr/lib
libs=-lnsl -ldb -ldl -lm -lcrypt -lutil -lc
perllibs=-lnsl -ldl -lm -lcrypt -lutil -lc
libc=, so=so, useshrplib=false, libperl=libperl.a
gnulibc_version='2.13'
Dynamic Linking:
dlsrc=dl_dlopen.xs, dlext=so, d_dlsymun=undef, ccdlflags='-Wl,-E'
cccdlflags='-fpic', lddlflags='-shared -L/usr/local/lib'
Characteristics of this binary (from libperl):
Compile-time options: USE_64_BIT_INT USE_64_BIT_ALL USE_LARGE_FILES
Built under linux
Compiled at Jan 16 2012 15:31:37
%ENV:
PERL5LIB="/home/njh/.cpan/build/Danga-Socket-1.61-yiIcbB/blib/arch:/home/njh/.cpan/build/Danga-Socket-1.61-yiIcbB/blib/lib:/home/njh/.cpan/build/Sys-Syscall-0.23-IuDqq3/blib/arch:/home/njh/.cpan/build/Sys-Syscall-0.23-IuDqq3/blib/lib:/home/njh/.cpan/build/MogileFS-Client-1.16-QXKHSD/blib/arch:/home/njh/.cpan/build/MogileFS-Client-1.16-QXKHSD/blib/lib"
PERL5OPT=""
PERL5_CPANPLUS_IS_RUNNING="22189"
PERL5_CPAN_IS_RUNNING="22189"
PERL5_MINISMOKEBOX="0.54"
PERL_EXTUTILS_AUTOINSTALL="--defaultdeps"
PERL_MM_USE_DEFAULT="1"
@INC:
/home/njh/.cpan/build/Danga-Socket-1.61-yiIcbB/blib/arch
/home/njh/.cpan/build/Danga-Socket-1.61-yiIcbB/blib/lib
/home/njh/.cpan/build/Sys-Syscall-0.23-IuDqq3/blib/arch
/home/njh/.cpan/build/Sys-Syscall-0.23-IuDqq3/blib/lib
/home/njh/.cpan/build/MogileFS-Client-1.16-QXKHSD/blib/arch
/home/njh/.cpan/build/MogileFS-Client-1.16-QXKHSD/blib/lib
/home/njh/perl5/perlbrew/perls/perl-5.8.7/lib/5.8.7/x86_64-linux
/home/njh/perl5/perlbrew/perls/perl-5.8.7/lib/5.8.7
/home/njh/perl5/perlbrew/perls/perl-5.8.7/lib/site_perl/5.8.7/x86_64-linux
/home/njh/perl5/perlbrew/perls/perl-5.8.7/lib/site_perl/5.8.7
/home/njh/perl5/perlbrew/perls/perl-5.8.7/lib/site_perl
.