Test-Distribution v2.00 Perl 5 v5.26.2 OpenBSD.amd64-openbsd-thread-multi

Status
Pass
From
Nigel Horne
Dist
Test-Distribution v2.00
Platform
Perl 5 v5.26.2 OpenBSD.amd64-openbsd-thread-multi
Date
2018-05-17 00:28:22
ID
34e5a8a4-5969-11e8-936a-fc834fb4fde3
This distribution has been tested as part of the CPAN Testers
project, supporting the Perl programming language.  See
http://wiki.cpantesters.org/ for more information or email
questions to cpan-testers-discuss@perl.org


--
Dear Sagar R. Shah,

This is a computer-generated report for Test-Distribution-2.00
on perl 5.26.2, created by CPAN-Reporter-1.2018.

Thank you for uploading your work to CPAN.  Congratulations!
All tests were successful.

Sections of this report:

    * Tester comments
    * Program output
    * Prerequisites
    * Environment and other context

------------------------------
TESTER COMMENTS
------------------------------

Additional comments from tester:

none provided

------------------------------
PROGRAM OUTPUT
------------------------------

Output from './Build test':

t/01distribution.t ............. ok
t/02extra.t .................... ok
t/03only_versions.t ............ ok
t/04only_pod_extra.t ........... ok
t/05only_pod_use_extra.t ....... ok
t/06only_pod_versions_extra.t .. ok
t/07prereq.t ................... ok
t/08only_podcover.t ............ ok
All tests successful.
Files=8, Tests=42,  1 wallclock secs ( 0.05 usr  0.03 sys +  0.97 cusr  0.32 csys =  1.37 CPU)
Result: PASS

------------------------------
PREREQUISITES
------------------------------

Prerequisite modules loaded:

requires:

    Module              Need Have         
    ------------------- ---- -------------
    ExtUtils::Manifest  1.43 1.70         
    File::Find::Rule    0.03 0.34         
    Module::CoreList    1.93 5.20180414_26
    Pod::Coverage       0.17 0.23         
    Test::More          0.45 1.302073     
    Test::Pod           0.95 1.52         
    Test::Pod::Coverage 0    1.10         


------------------------------
ENVIRONMENT AND OTHER CONTEXT
------------------------------

Environment variables:

    PATH = /home/njh/perl5/perlbrew/bin:/home/njh/perl5/perlbrew/perls/perl-5.26.2-thread/bin:/home/njh/bin:/bin:/sbin:/usr/bin:/usr/sbin:/usr/X11R6/bin:/usr/local/bin:/usr/local/sbin:/usr/games
    PERL5LIB = 
    PERL5OPT = 
    PERL5_CPANPLUS_IS_RUNNING = 76582
    PERL5_CPAN_IS_RUNNING = 76582
    PERLBREW_HOME = /home/njh/.perlbrew
    PERLBREW_MANPATH = /home/njh/perl5/perlbrew/perls/perl-5.26.2-thread/man
    PERLBREW_PATH = /home/njh/perl5/perlbrew/bin:/home/njh/perl5/perlbrew/perls/perl-5.26.2-thread/bin
    PERLBREW_PERL = perl-5.26.2-thread
    PERLBREW_ROOT = /home/njh/perl5/perlbrew
    PERLBREW_SHELLRC_VERSION = 0.82
    PERLBREW_VERSION = 0.82
    PERL_USE_UNSAFE_INC = 1
    SHELL = /usr/local/bin/bash
    TERM = xterm-256color
    TMPDIR = /tmp

Perl special variables (and OS-specific diagnostics, for MSWin32):

    $^X = /home/njh/perl5/perlbrew/perls/perl-5.26.2-thread/bin/perl5.26.2
    $UID/$EUID = 1000 / 1000
    $GID = 1000 1000 0
    $EGID = 1000 1000 0

Perl module toolchain versions installed:

    Module              Have      
    ------------------- ----------
    CPAN                2.18      
    CPAN::Meta          2.150010  
    Cwd                 3.67      
    ExtUtils::CBuilder  0.280225  
    ExtUtils::Command   7.34      
    ExtUtils::Install   2.06      
    ExtUtils::MakeMaker 7.34      
    ExtUtils::Manifest  1.70      
    ExtUtils::ParseXS   3.34      
    File::Spec          3.67      
    JSON                n/a       
    JSON::PP            2.27400_02
    Module::Build       0.4224    
    Module::Signature   n/a       
    Parse::CPAN::Meta   2.150010  
    Test::Harness       3.38      
    Test::More          1.302073  
    YAML                1.25      
    YAML::Syck          1.30      
    version             0.9917    


--

Summary of my perl5 (revision 5 version 26 subversion 2) configuration:
   
  Platform:
    osname=openbsd
    osvers=6.3
    archname=OpenBSD.amd64-openbsd-thread-multi
    uname='openbsd njh1.vultr.com 6.3 generic.mp#107 amd64 '
    config_args='-de -Dprefix=/home/njh/perl5/perlbrew/perls/perl-5.26.2-thread -Dusedevel -Dusethreads -Accflags= -Aeval:scriptdir=/home/njh/perl5/perlbrew/perls/perl-5.26.2-thread/bin'
    hint=recommended
    useposix=true
    d_sigaction=define
    useithreads=define
    usemultiplicity=define
    use64bitint=define
    use64bitall=define
    uselongdouble=undef
    usemymalloc=n
    default_inc_excludes_dot=define
    bincompat5005=undef
  Compiler:
    cc='cc'
    ccflags ='-pthread -fno-strict-aliasing -pipe -fstack-protector-strong -I/usr/local/include -D_FORTIFY_SOURCE=2'
    optimize='-O2'
    cppflags='-pthread -fno-strict-aliasing -pipe -fstack-protector-strong -I/usr/local/include'
    ccversion=''
    gccversion='4.2.1 Compatible OpenBSD Clang 5.0.1 (tags/RELEASE_501/final)'
    gccosandvers=''
    intsize=4
    longsize=8
    ptrsize=8
    doublesize=8
    byteorder=12345678
    doublekind=3
    d_longlong=define
    longlongsize=8
    d_longdbl=define
    longdblsize=16
    longdblkind=3
    ivtype='long'
    ivsize=8
    nvtype='double'
    nvsize=8
    Off_t='off_t'
    lseeksize=8
    alignbytes=8
    prototype=define
  Linker and Libraries:
    ld='cc'
    ldflags ='-pthread -Wl,-E  -fstack-protector-strong -L/usr/local/lib'
    libpth=/usr/lib /usr/local/lib
    libs=-lpthread -lm -lutil -lc
    perllibs=-lpthread -lm -lutil -lc
    libc=/usr/lib/libc.so.92.3
    so=so
    useshrplib=false
    libperl=libperl.a
    gnulibc_version=''
  Dynamic Linking:
    dlsrc=dl_dlopen.xs
    dlext=so
    d_dlsymun=undef
    ccdlflags=' '
    cccdlflags='-DPIC -fPIC '
    lddlflags='-shared -fPIC  -L/usr/local/lib -fstack-protector-strong'


Characteristics of this binary (from libperl): 
  Compile-time options:
    HAS_TIMES
    MULTIPLICITY
    PERLIO_LAYERS
    PERL_COPY_ON_WRITE
    PERL_DONT_CREATE_GVSV
    PERL_IMPLICIT_CONTEXT
    PERL_MALLOC_WRAP
    PERL_OP_PARENT
    PERL_PRESERVE_IVUV
    PERL_USE_DEVEL
    USE_64_BIT_ALL
    USE_64_BIT_INT
    USE_ITHREADS
    USE_LARGE_FILES
    USE_LOCALE
    USE_LOCALE_COLLATE
    USE_LOCALE_CTYPE
    USE_LOCALE_NUMERIC
    USE_LOCALE_TIME
    USE_PERLIO
    USE_PERL_ATOF
    USE_REENTRANT_API
  Locally applied patches:
    Devel::PatchPerl 1.48
  Built under openbsd
  Compiled at May 11 2018 19:52:32
  %ENV:
    PERL5LIB=""
    PERL5OPT=""
    PERL5_CPANPLUS_IS_RUNNING="76582"
    PERL5_CPAN_IS_RUNNING="76582"
    PERLBREW_HOME="/home/njh/.perlbrew"
    PERLBREW_MANPATH="/home/njh/perl5/perlbrew/perls/perl-5.26.2-thread/man"
    PERLBREW_PATH="/home/njh/perl5/perlbrew/bin:/home/njh/perl5/perlbrew/perls/perl-5.26.2-thread/bin"
    PERLBREW_PERL="perl-5.26.2-thread"
    PERLBREW_ROOT="/home/njh/perl5/perlbrew"
    PERLBREW_SHELLRC_VERSION="0.82"
    PERLBREW_VERSION="0.82"
    PERL_USE_UNSAFE_INC="1"
  @INC:
    /home/njh/perl5/perlbrew/perls/perl-5.26.2-thread/lib/site_perl/5.26.2/OpenBSD.amd64-openbsd-thread-multi
    /home/njh/perl5/perlbrew/perls/perl-5.26.2-thread/lib/site_perl/5.26.2
    /home/njh/perl5/perlbrew/perls/perl-5.26.2-thread/lib/5.26.2/OpenBSD.amd64-openbsd-thread-multi
    /home/njh/perl5/perlbrew/perls/perl-5.26.2-thread/lib/5.26.2
    .