Back
From: metabase:user:322078bc-2aae-11df-837a-5e0a49663a4f
Subject: PASS HTML-FormatExternal-25 v5.18.1 Debian GNU/kFreeBSD
Date: 2015-08-08T22:09:58Z
This distribution has been tested as part of the CPAN Testers
project, supporting the Perl programming language. See
http://wiki.cpantesters.org/ for more information or email
questions to cpan-testers-discuss@perl.org
--
Dear KRYDE,
This is a computer-generated error report created automatically by
CPANPLUS, version 0.9154. Testers personal comments may appear
at the end of this report.
Thank you for uploading your work to CPAN. Congratulations!
All tests were successful.
TEST RESULTS:
Below is the error stack from stage 'make test':
PERL_DL_NONLAZY=1 "/home/cpan/pit/bare/perl-5.18.1/bin/perl" "-MExtUtils::Command::MM" "-MTest::Harness" "-e" "undef *Test::Harness::Switches; test_harness(0, 'blib/lib', 'blib/arch')" t/*.t
t/Elinks.t .......... ok
# HTML::FormatText::Elinks
# HTML::FormatText::Elinks program_full_version $VAR1 = undef;
# HTML::FormatText::Elinks program_version $VAR1 = undef;
# HTML::FormatText::Html2text
# HTML::FormatText::Html2text program_full_version $VAR1 = 'This is html2text, version 1.3.2a
#
# The latest version can be found at http://userpage.fu-berlin.de/~mbayer/tools/
#
# This program is distributed in the hope that it will be useful, but WITHOUT
# ANY WARRANTY; without even the implied warranty of MERCHANTABILITY or FITNESS
# FOR A PARTICULAR PURPOSE. See the GNU General Public License for more details.
# ';
# HTML::FormatText::Html2text program_version $VAR1 = '1.3.2a';
# HTML::FormatText::Html2text _have_ascii() yes
# $output = "123 567 9012\nabc def ghij\n";
# Colon character ordinary in filenames: 1
# Temporary directory /tmp/nfsVr66ozi
# HTML::FormatText::Links
# HTML::FormatText::Links program_full_version $VAR1 = undef;
# HTML::FormatText::Links program_version $VAR1 = undef;
# HTML::FormatText::Links _have_html_margin() no
# HTML::FormatText::Lynx
# HTML::FormatText::Lynx program_full_version $VAR1 = undef;
# HTML::FormatText::Lynx program_version $VAR1 = undef;
# HTML::FormatText::Lynx _have_nomargins() no
# HTML::FormatText::Netrik
# HTML::FormatText::Netrik program_full_version $VAR1 = undef;
# HTML::FormatText::Netrik program_version $VAR1 = undef;
# HTML::FormatText::W3m
# HTML::FormatText::W3m program_full_version $VAR1 = 'w3m version w3m/0.5.2+cvs-1.1027, options lang=en,m17n,image,color,ansi-color,mouse,sysmouse,menu,cookie,ssl,ssl-verify,external-uri-loader,w3mmailer,nntp,gopher,ipv6,alarm,mark,migemo
# ';
# HTML::FormatText::W3m program_version $VAR1 = '0.5.2+cvs-1.1027';
# $output = "123 567 9012\nabc def ghij\n";
# Colon character ordinary in filenames: 1
# Temporary directory /tmp/Nr7233dGZ2
# HTML::FormatText::Zen
# HTML::FormatText::Zen program_full_version $VAR1 = undef;
# HTML::FormatText::Zen program_version $VAR1 = undef;
t/FormatExternal.t .. ok
t/Links.t ........... ok
# HTML::FormatText::W3m
t/taint.t ........... skipped: due to Taint::Util not available
# HTML::FormatText::W3m
t/wide.t ............ ok
All tests successful.
Files=5, Tests=316, 1 wallclock secs ( 0.05 usr 0.00 sys + 0.58 cusr 0.23 csys = 0.87 CPU)
Result: PASS
PREREQUISITES:
Here is a list of prerequisites you specified and versions we
managed to load:
Module Name Have Want
ExtUtils::MakeMaker 7.04 0
File::Spec 3.47 0.8
File::Temp 0.2304 0.18
IPC::Run 0.94 0
Test::More 1.001014 0
URI::file 4.21 0.08
constant::defer 6 0
Perl module toolchain versions installed:
Module Name Have
CPANPLUS 0.9154
CPANPLUS::Dist::Build 0.78
Cwd 3.47
ExtUtils::CBuilder 0.280223
ExtUtils::Command 1.17
ExtUtils::Install 2.04
ExtUtils::MakeMaker 7.04
ExtUtils::Manifest 1.70
ExtUtils::ParseXS 3.24
File::Spec 3.47
Module::Build 0.4214
Pod::Parser 1.60
Pod::Simple 3.28
Test::Harness 3.35
Test::More 1.001014
version 0.9912
******************************** NOTE ********************************
The comments above are created mechanically, possibly without manual
checking by the sender. As there are many people performing automatic
tests on each upload to CPAN, it is likely that you will receive
identical messages about the same problem.
If you believe that the message is mistaken, please reply to the first
one with correction and/or additional informations, and do not take
it personally. We appreciate your patience. :)
**********************************************************************
Additional comments:
This report was machine-generated by CPANPLUS::Dist::YACSmoke 0.94.
Powered by minismokebox version 0.58
------------------------------
ENVIRONMENT AND OTHER CONTEXT
------------------------------
Environment variables:
AUTOMATED_TESTING = 1
LANG = en_GB.UTF-8
LANGUAGE = en_GB:en
NONINTERACTIVE_TESTING = 1
PATH = /usr/local/bin:/usr/bin:/bin:/usr/local/games:/usr/games
PERL5LIB = :/home/cpan/pit/bare/conf/perl-5.18.1/.cpanplus/5.18.1/build/IPC-Run-0.94/blib/lib:/home/cpan/pit/bare/conf/perl-5.18.1/.cpanplus/5.18.1/build/IPC-Run-0.94/blib/arch:/home/cpan/pit/bare/conf/perl-5.18.1/.cpanplus/5.18.1/build/URI-1.69/blib/lib:/home/cpan/pit/bare/conf/perl-5.18.1/.cpanplus/5.18.1/build/URI-1.69/blib/arch:/home/cpan/pit/bare/conf/perl-5.18.1/.cpanplus/5.18.1/build/constant-defer-6/blib/lib:/home/cpan/pit/bare/conf/perl-5.18.1/.cpanplus/5.18.1/build/constant-defer-6/blib/arch:/home/cpan/pit/bare/conf/perl-5.18.1/.cpanplus/5.18.1/build/HTML-FormatExternal-25/blib/lib:/home/cpan/pit/bare/conf/perl-5.18.1/.cpanplus/5.18.1/build/HTML-FormatExternal-25/blib/arch
PERL5_CPANPLUS_IS_RUNNING = 41855
PERL5_CPANPLUS_IS_VERSION = 0.9154
PERL5_MINISMOKEBOX = 0.58
PERL5_YACSMOKE_BASE = /home/cpan/pit/bare/conf/perl-5.18.1
PERL_EXTUTILS_AUTOINSTALL = --defaultdeps
PERL_MM_USE_DEFAULT = 1
SHELL = /bin/bash
TERM = screen
Perl special variables (and OS-specific diagnostics, for MSWin32):
Perl: $^X = /home/cpan/pit/bare/perl-5.18.1/bin/perl
UID: $< = 1001
EUID: $> = 1001
GID: $( = 1001 1001
EGID: $) = 1001 1001
-------------------------------
--
Summary of my perl5 (revision 5 version 18 subversion 1) configuration:
Platform:
osname=gnukfreebsd, osvers=8.1-1-686, archname=i686-gnukfreebsd
uname='gnukfreebsd kaiser 8.1-1-686 #0 sun feb 17 17:09:24 utc 2013 i686 i386 intel(r) pentium(r) cpu g840 @ 2.80ghz gnukfreebsd '
config_args='-des -Dprefix=/home/cpan/pit/bare/perl-5.18.1'
hint=recommended, useposix=true, d_sigaction=define
useithreads=undef, usemultiplicity=undef
useperlio=define, d_sfio=undef, uselargefiles=define, usesocks=undef
use64bitint=undef, use64bitall=undef, uselongdouble=undef
usemymalloc=n, bincompat5005=undef
Compiler:
cc='cc', ccflags ='-fno-strict-aliasing -pipe -fstack-protector -I/usr/local/include -D_LARGEFILE_SOURCE -D_FILE_OFFSET_BITS=64',
optimize='-O2',
cppflags='-fno-strict-aliasing -pipe -fstack-protector -I/usr/local/include'
ccversion='', gccversion='4.4.5', gccosandvers=''
intsize=4, longsize=4, ptrsize=4, doublesize=8, byteorder=1234
d_longlong=define, longlongsize=8, d_longdbl=define, longdblsize=12
ivtype='long', ivsize=4, nvtype='double', nvsize=8, Off_t='off_t', lseeksize=8
alignbytes=4, prototype=define
Linker and Libraries:
ld='cc', ldflags =' -fstack-protector -L/usr/local/lib'
libpth=/usr/local/lib /lib /usr/lib
libs=-lnsl -lgdbm -ldb -ldl -lm -lcrypt -lutil -lc -lgdbm_compat
perllibs=-lnsl -ldl -lm -lcrypt -lutil -lc
libc=, so=so, useshrplib=false, libperl=libperl.a
gnulibc_version='2.11.3'
Dynamic Linking:
dlsrc=dl_dlopen.xs, dlext=so, d_dlsymun=undef, ccdlflags='-Wl,-E'
cccdlflags='-fpic', lddlflags='-shared -O2 -L/usr/local/lib -fstack-protector'
Characteristics of this binary (from libperl):
Compile-time options: HAS_TIMES PERLIO_LAYERS PERL_DONT_CREATE_GVSV
PERL_HASH_FUNC_ONE_AT_A_TIME_HARD PERL_MALLOC_WRAP
PERL_PRESERVE_IVUV PERL_SAWAMPERSAND USE_LARGE_FILES
USE_LOCALE USE_LOCALE_COLLATE USE_LOCALE_CTYPE
USE_LOCALE_NUMERIC USE_PERLIO USE_PERL_ATOF
Built under gnukfreebsd
Compiled at Aug 14 2013 23:54:52
%ENV:
PERL5LIB=":/home/cpan/pit/bare/conf/perl-5.18.1/.cpanplus/5.18.1/build/IPC-Run-0.94/blib/lib:/home/cpan/pit/bare/conf/perl-5.18.1/.cpanplus/5.18.1/build/IPC-Run-0.94/blib/arch:/home/cpan/pit/bare/conf/perl-5.18.1/.cpanplus/5.18.1/build/URI-1.69/blib/lib:/home/cpan/pit/bare/conf/perl-5.18.1/.cpanplus/5.18.1/build/URI-1.69/blib/arch:/home/cpan/pit/bare/conf/perl-5.18.1/.cpanplus/5.18.1/build/constant-defer-6/blib/lib:/home/cpan/pit/bare/conf/perl-5.18.1/.cpanplus/5.18.1/build/constant-defer-6/blib/arch:/home/cpan/pit/bare/conf/perl-5.18.1/.cpanplus/5.18.1/build/HTML-FormatExternal-25/blib/lib:/home/cpan/pit/bare/conf/perl-5.18.1/.cpanplus/5.18.1/build/HTML-FormatExternal-25/blib/arch"
PERL5_CPANPLUS_IS_RUNNING="41855"
PERL5_CPANPLUS_IS_VERSION="0.9154"
PERL5_MINISMOKEBOX="0.58"
PERL5_YACSMOKE_BASE="/home/cpan/pit/bare/conf/perl-5.18.1"
PERL_EXTUTILS_AUTOINSTALL="--defaultdeps"
PERL_MM_USE_DEFAULT="1"
@INC:
/home/cpan/pit/bare/conf/perl-5.18.1/.cpanplus/5.18.1/build/IPC-Run-0.94/blib/lib
/home/cpan/pit/bare/conf/perl-5.18.1/.cpanplus/5.18.1/build/IPC-Run-0.94/blib/arch
/home/cpan/pit/bare/conf/perl-5.18.1/.cpanplus/5.18.1/build/URI-1.69/blib/lib
/home/cpan/pit/bare/conf/perl-5.18.1/.cpanplus/5.18.1/build/URI-1.69/blib/arch
/home/cpan/pit/bare/conf/perl-5.18.1/.cpanplus/5.18.1/build/constant-defer-6/blib/lib
/home/cpan/pit/bare/conf/perl-5.18.1/.cpanplus/5.18.1/build/constant-defer-6/blib/arch
/home/cpan/pit/bare/conf/perl-5.18.1/.cpanplus/5.18.1/build/HTML-FormatExternal-25/blib/lib
/home/cpan/pit/bare/conf/perl-5.18.1/.cpanplus/5.18.1/build/HTML-FormatExternal-25/blib/arch
/home/cpan/pit/bare/perl-5.18.1/lib/site_perl/5.18.1/i686-gnukfreebsd
/home/cpan/pit/bare/perl-5.18.1/lib/site_perl/5.18.1
/home/cpan/pit/bare/perl-5.18.1/lib/5.18.1/i686-gnukfreebsd
/home/cpan/pit/bare/perl-5.18.1/lib/5.18.1
.