AppleII-LibA2 v0.201 Perl 5 v5.22.4 x86_64-linux

Status
Pass
From
Oleg Pronin (SYBER)
Dist
AppleII-LibA2 v0.201
Platform
Perl 5 v5.22.4 x86_64-linux
Date
2019-08-08 19:53:34
ID
34c8dbca-ba16-11e9-91fe-37602958ff60
This distribution has been tested as part of the CPAN Testers
project, supporting the Perl programming language.  See
http://wiki.cpantesters.org/ for more information or email
questions to cpan-testers-discuss@perl.org


--
Dear Christopher J. Madsen,

This is a computer-generated report for AppleII-LibA2-0.201
on perl 5.22.4, created by CPAN-Reporter-1.2018.

Thank you for uploading your work to CPAN.  Congratulations!
All tests were successful.

Sections of this report:

    * Tester comments
    * Program output
    * Prerequisites
    * Environment and other context

------------------------------
TESTER COMMENTS
------------------------------

Additional comments from tester:

this report is from an automated smoke testing program
and was not reviewed by a human for accuracy

------------------------------
PROGRAM OUTPUT
------------------------------

Output from './Build test':

# Listing %INC
#                 Carp 1.50
#             Exporter 5.73
#                Fcntl 1.13
#           File::Glob 1.24
#         Getopt::Long 2.5
#                   IO 1.39
#             IO::File 1.39
#           IO::Handle 1.39
#         IO::Seekable 1.39
#                POSIX 1.53_01
#          SelectSaver 1.02
#               Symbol 1.07
#       Term::ReadLine 1.15
# Term::ReadLine::Perl 1.0303
#            Tie::Hash 1.05
#             XSLoader 0.24
#             constant 1.33
#             overload 1.26
#          overloading 0.02
#               strict 1.09
#                 vars 1.03
#             warnings 1.34
#   warnings::register 1.04
t/00-all_prereqs.t .. ok
# Testing AppleII-LibA2 0.201
t/00-load.t ......... ok
t/10-Disk.t ......... ok
t/20-ProDOS.t ....... ok
t/30-PDsubs.t ....... ok
All tests successful.
Files=5, Tests=120,  1 wallclock secs ( 0.01 usr  0.01 sys +  0.31 cusr  0.02 csys =  0.35 CPU)
Result: PASS

------------------------------
PREREQUISITES
------------------------------

Prerequisite modules loaded:

requires:

    Module               Need  Have    
    -------------------- ----- --------
    Carp                 0     1.50    
    Exporter             5.57  5.73    
    File::Glob           0     1.24    
    Getopt::Long         2.10  2.5     
    IO::File             0     1.39    
    perl                 5.006 5.022004
    POSIX                0     1.53_01 
    Term::ReadLine       0     1.15    

build_requires:

    Module               Need  Have    
    -------------------- ----- --------
    FindBin              0     1.51    
    Module::Build        0     0.42_30 
    Test::More           0     1.302164

configure_requires:

    Module               Need  Have    
    -------------------- ----- --------
    Cwd                  0     3.75    
    Module::Build        0.21  0.42_30 
    perl                 5.006 5.022004

opt_requires:

    Module               Need  Have    
    -------------------- ----- --------
    Term::ReadLine::Perl 0     1.0303  


------------------------------
ENVIRONMENT AND OTHER CONTEXT
------------------------------

Environment variables:

    AUTOMATED_TESTING = 1
    LC_COLLATE = ru_RU.utf8
    LC_CTYPE = ru_RU.utf8
    PATH = /home/syber/perl5/perlbrew/bin:/home/syber/perl5/perlbrew/perls/5.22.4/bin:/usr/local/bin:/usr/bin:/bin:/usr/local/games:/usr/games
    PERL5LIB = 
    PERL5OPT = 
    PERL5_CPANPLUS_IS_RUNNING = 1768
    PERL5_CPAN_IS_RUNNING = 1768
    PERL5_CPAN_IS_RUNNING_IN_RECURSION = 32194,1768
    PERLBREW_HOME = /home/syber/.perlbrew
    PERLBREW_MANPATH = /home/syber/perl5/perlbrew/perls/5.22.4/man
    PERLBREW_PATH = /home/syber/perl5/perlbrew/bin:/home/syber/perl5/perlbrew/perls/5.22.4/bin
    PERLBREW_PERL = 5.22.4
    PERLBREW_ROOT = /home/syber/perl5/perlbrew
    PERLBREW_SHELLRC_VERSION = 0.86
    PERLBREW_VERSION = 0.86
    PERL_CR_SMOKER_CURRENT = AppleII-LibA2-0.201
    PERL_EXTUTILS_AUTOINSTALL = --defaultdeps
    PERL_MM_USE_DEFAULT = 1
    PERL_USE_UNSAFE_INC = 1
    SHELL = /bin/bash
    TERM = screen

Perl special variables (and OS-specific diagnostics, for MSWin32):

    $^X = /home/syber/perl5/perlbrew/perls/5.22.4/bin/perl
    $UID/$EUID = 1003 / 1003
    $GID = 1003 11 1003
    $EGID = 1003 11 1003

Perl module toolchain versions installed:

    Module              Have     
    ------------------- ---------
    CPAN                2.27     
    CPAN::Meta          2.150010 
    Cwd                 3.75     
    ExtUtils::CBuilder  0.280231 
    ExtUtils::Command   7.37_03  
    ExtUtils::Install   2.14     
    ExtUtils::MakeMaker 7.37_03  
    ExtUtils::Manifest  1.72     
    ExtUtils::ParseXS   3.36_03  
    File::Spec          3.75     
    JSON                4.02     
    JSON::PP            4.04     
    Module::Build       0.42_30  
    Module::Signature   0.83     
    Parse::CPAN::Meta   2.150010 
    Test::Harness       3.42     
    Test::More          1.302164 
    YAML                1.29     
    YAML::Syck          1.31     
    version             0.9924_02


--

Summary of my perl5 (revision 5 version 22 subversion 4) configuration:
   
  Platform:
    osname=linux, osvers=4.9.0-8-amd64, archname=x86_64-linux
    uname='linux dexter.crazypanda.ru 4.9.0-8-amd64 #1 smp debian 4.9.110-3+deb9u6 (2018-10-08) x86_64 gnulinux '
    config_args='-de -Dprefix=/home/syber/perl5/perlbrew/perls/5.22.4 -Aeval:scriptdir=/home/syber/perl5/perlbrew/perls/5.22.4/bin'
    hint=recommended, useposix=true, d_sigaction=define
    useithreads=undef, usemultiplicity=undef
    use64bitint=define, use64bitall=define, uselongdouble=undef
    usemymalloc=n, bincompat5005=undef
  Compiler:
    cc='cc', ccflags ='-fwrapv -fno-strict-aliasing -pipe -fstack-protector-strong -I/usr/local/include -D_LARGEFILE_SOURCE -D_FILE_OFFSET_BITS=64',
    optimize='-O2',
    cppflags='-fwrapv -fno-strict-aliasing -pipe -fstack-protector-strong -I/usr/local/include'
    ccversion='', gccversion='6.3.0 20170516', gccosandvers=''
    intsize=4, longsize=8, ptrsize=8, doublesize=8, byteorder=12345678, doublekind=3
    d_longlong=define, longlongsize=8, d_longdbl=define, longdblsize=16, longdblkind=3
    ivtype='long', ivsize=8, nvtype='double', nvsize=8, Off_t='off_t', lseeksize=8
    alignbytes=8, prototype=define
  Linker and Libraries:
    ld='cc', ldflags =' -fstack-protector-strong -L/usr/local/lib'
    libpth=/usr/local/lib /usr/lib/gcc/x86_64-linux-gnu/6/include-fixed /usr/include/x86_64-linux-gnu /usr/lib /lib/x86_64-linux-gnu /lib/../lib /usr/lib/x86_64-linux-gnu /usr/lib/../lib /lib
    libs=-lpthread -lnsl -ldl -lm -lcrypt -lutil -lc
    perllibs=-lpthread -lnsl -ldl -lm -lcrypt -lutil -lc
    libc=libc-2.24.so, so=so, useshrplib=false, libperl=libperl.a
    gnulibc_version='2.24'
  Dynamic Linking:
    dlsrc=dl_dlopen.xs, dlext=so, d_dlsymun=undef, ccdlflags='-Wl,-E'
    cccdlflags='-fPIC', lddlflags='-shared -O2 -L/usr/local/lib -fstack-protector-strong'


Characteristics of this binary (from libperl): 
  Compile-time options: HAS_TIMES PERLIO_LAYERS PERL_DONT_CREATE_GVSV
                        PERL_HASH_FUNC_ONE_AT_A_TIME_HARD PERL_MALLOC_WRAP
                        PERL_NEW_COPY_ON_WRITE PERL_PRESERVE_IVUV
                        USE_64_BIT_ALL USE_64_BIT_INT USE_LARGE_FILES
                        USE_LOCALE USE_LOCALE_COLLATE USE_LOCALE_CTYPE
                        USE_LOCALE_NUMERIC USE_LOCALE_TIME USE_PERLIO
                        USE_PERL_ATOF
  Locally applied patches:
	Devel::PatchPerl 1.64
  Built under linux
  Compiled at Aug  5 2019 14:01:27
  %ENV:
    PERL5LIB=""
    PERL5OPT=""
    PERL5_CPANPLUS_IS_RUNNING="1768"
    PERL5_CPAN_IS_RUNNING="1768"
    PERL5_CPAN_IS_RUNNING_IN_RECURSION="32194,1768"
    PERLBREW_HOME="/home/syber/.perlbrew"
    PERLBREW_MANPATH="/home/syber/perl5/perlbrew/perls/5.22.4/man"
    PERLBREW_PATH="/home/syber/perl5/perlbrew/bin:/home/syber/perl5/perlbrew/perls/5.22.4/bin"
    PERLBREW_PERL="5.22.4"
    PERLBREW_ROOT="/home/syber/perl5/perlbrew"
    PERLBREW_SHELLRC_VERSION="0.86"
    PERLBREW_VERSION="0.86"
    PERL_CR_SMOKER_CURRENT="AppleII-LibA2-0.201"
    PERL_EXTUTILS_AUTOINSTALL="--defaultdeps"
    PERL_MM_USE_DEFAULT="1"
    PERL_USE_UNSAFE_INC="1"
  @INC:
    /home/syber/perl5/perlbrew/perls/5.22.4/lib/site_perl/5.22.4/x86_64-linux
    /home/syber/perl5/perlbrew/perls/5.22.4/lib/site_perl/5.22.4
    /home/syber/perl5/perlbrew/perls/5.22.4/lib/5.22.4/x86_64-linux
    /home/syber/perl5/perlbrew/perls/5.22.4/lib/5.22.4
    .