Plack-Middleware-XSRFBlock v0.0.19 Perl 5 v5.34.1 x86_64-linux
- Status
- Pass
- From
- Slaven Rezić
- Dist
-
Plack-Middleware-XSRFBlock v0.0.19
- Platform
- Perl 5 v5.34.1 x86_64-linux
- Date
- 2023-07-16 16:38:34
- ID
- 34c3be66-23f7-11ee-8dc2-dbef6d8775ea
This distribution has been tested as part of the CPAN Testers
project, supporting the Perl programming language. See
http://wiki.cpantesters.org/ for more information or email
questions to cpan-testers-discuss@perl.org
--
Dear Gianni Ceccarelli,
This is a computer-generated report for Plack-Middleware-XSRFBlock-0.0.19
on perl 5.34.1, created by CPAN-Reporter-1.2019.
Thank you for uploading your work to CPAN. Congratulations!
All tests were successful.
Sections of this report:
* Tester comments
* Program output
* Prerequisites
* Environment and other context
------------------------------
TESTER COMMENTS
------------------------------
Additional comments from tester:
none provided
------------------------------
PROGRAM OUTPUT
------------------------------
Output from '/usr/bin/make test':
PERL_DL_NONLAZY=1 "/opt/perl-5.34.1/bin/perl" "-MExtUtils::Command::MM" "-MTest::Harness" "-e" "undef *Test::Harness::Switches; test_harness(0, 'blib/lib', 'blib/arch')" t/*.t
t/00-load.t ............... ok
t/01.basic.t .............. ok
t/02.content.t ............ ok
t/03.blocked.t ............ ok
t/03.meta_tag.t ........... ok
t/03.request_header.t ..... ok
t/03.token_per_request.t .. ok
t/04.cookie_options.t ..... ok
t/05.not-html.t ........... ok
t/author-no-tabs.t ........ skipped: these tests are for testing by the author
t/author-pod-coverage.t ... skipped: these tests are for testing by the author
t/author-pod-syntax.t ..... skipped: these tests are for testing by the author
t/release-kwalitee.t ...... skipped: these tests are for release candidate testing
All tests successful.
Files=13, Tests=20, 1 wallclock secs ( 0.03 usr 0.03 sys + 1.32 cusr 0.18 csys = 1.56 CPU)
Result: PASS
------------------------------
PREREQUISITES
------------------------------
Prerequisite modules loaded:
requires:
Module Need Have
----------------------------- ----- --------
Digest::HMAC_SHA1 0 1.04
HTML::Escape 0 1.11
HTML::Parser 0 3.81
HTTP::Status 0 6.44
parent 0 0.238
perl 5.012 5.034001
Plack::Middleware 0 0
Plack::Request 0 1.0050
Plack::Response 0 1.0050
Plack::Util 0 0
Plack::Util::Accessor 0 0
strict 0 1.12
warnings 0 1.51
build_requires:
Module Need Have
----------------------------- ----- --------
Carp 0 1.52
Data::Dumper 0 2.183
ExtUtils::MakeMaker 0 7.68
FindBin::libs 0 v3.0.0
HTTP::Cookies 0 6.10
HTTP::Message::PSGI 0 0
HTTP::Request 0 6.44
HTTP::Request::Common 0 6.44
HTTP::Response 0 6.44
Log::Dispatch 0 2.70
LWP::UserAgent 0 6.70
Plack::Builder 0 0
Plack::Session::State::Cookie 0 0.33
Plack::Test 0 0
Pod::Coverage::TrustPod 0 0.100005
Sub::Exporter 0 0.988
Test::Kwalitee 0 1.28
Test::More 0 1.302195
Test::NoTabs 0 2.02
Test::Pod 0 1.52
Test::Pod::Coverage 0 1.10
Test::UseAllModules 0 0.17
Try::Tiny 0 0.31
configure_requires:
Module Need Have
----------------------------- ----- --------
ExtUtils::MakeMaker 0 7.68
------------------------------
ENVIRONMENT AND OTHER CONTEXT
------------------------------
Environment variables:
LANG = en_US.UTF-8
PATH = /usr/local/bin:/usr/bin:/bin:/usr/local/sbin:/usr/sbin:/sbin:/home/cpansand/bin/linux-gnu:/home/cpansand/bin/sh:/home/cpansand/bin:/usr/games:/home/cpansand/devel:/home/eserte/src/srezic-misc/scripts
PERL5LIB =
PERL5OPT =
PERL5_CPANPLUS_IS_RUNNING = 1245069
PERL5_CPAN_IS_RUNNING = 1245069
PERL5_CPAN_IS_RUNNING_IN_RECURSION = 1178349,1245069
PERLDOC = -MPod::Perldoc::ToTextOverstrike
PERL_BATCH = yes
PERL_CANARY_STABILITY_NOPROMPT = 1
PERL_CPAN_REPORTER_CONFIG = /var/tmp/cpansmoker-1023/2023071614/cpanreporter_000_config.ini
PERL_EXTUTILS_AUTOINSTALL = --defaultdeps
PERL_USE_UNSAFE_INC = 1
SHELL = /usr/bin/zsh
TERM = screen
TMPDIR = /var/tmp/cpansmoker-1023/2023071614
Perl special variables (and OS-specific diagnostics, for MSWin32):
$^X = /opt/perl-5.34.1/bin/perl
$UID/$EUID = 1023 / 1023
$GID = 1023 1023
$EGID = 1023 1023
Perl module toolchain versions installed:
Module Have
------------------- --------
CPAN 2.28
CPAN::Meta 2.150010
Cwd 3.80
ExtUtils::CBuilder 0.280236
ExtUtils::Command 7.68
ExtUtils::Install 2.22
ExtUtils::MakeMaker 7.68
ExtUtils::Manifest 1.75
ExtUtils::ParseXS 3.43
File::Spec 3.80
JSON 4.10
JSON::PP 4.16
Module::Build 0.4234
Module::Signature 0.88
Parse::CPAN::Meta 2.150010
Test2 1.302195
Test::Harness 3.44
Test::More 1.302195
YAML 1.30
YAML::Syck 1.34
version 0.9928
--
Summary of my perl5 (revision 5 version 34 subversion 1) configuration:
Platform:
osname=linux
osvers=5.15.0-56-generic
archname=x86_64-linux
uname='linux cloud14.bbbike.org 5.15.0-56-generic #62-ubuntu smp tue nov 22 19:54:14 utc 2022 x86_64 x86_64 x86_64 gnulinux '
config_args='-ds -e -Dprefix=/opt/perl-5.34.1 -Dcf_email=srezic@cpan.org'
hint=recommended
useposix=true
d_sigaction=define
useithreads=undef
usemultiplicity=undef
use64bitint=define
use64bitall=define
uselongdouble=undef
usemymalloc=n
default_inc_excludes_dot=define
Compiler:
cc='cc'
ccflags ='-fwrapv -fno-strict-aliasing -pipe -fstack-protector-strong -I/usr/local/include -D_LARGEFILE_SOURCE -D_FILE_OFFSET_BITS=64'
optimize='-O2'
cppflags='-fwrapv -fno-strict-aliasing -pipe -fstack-protector-strong -I/usr/local/include'
ccversion=''
gccversion='11.3.0'
gccosandvers=''
intsize=4
longsize=8
ptrsize=8
doublesize=8
byteorder=12345678
doublekind=3
d_longlong=define
longlongsize=8
d_longdbl=define
longdblsize=16
longdblkind=3
ivtype='long'
ivsize=8
nvtype='double'
nvsize=8
Off_t='off_t'
lseeksize=8
alignbytes=8
prototype=define
Linker and Libraries:
ld='cc'
ldflags =' -fstack-protector-strong -L/usr/local/lib'
libpth=/usr/local/lib /usr/lib/x86_64-linux-gnu /usr/lib /usr/lib64
libs=-lpthread -lnsl -lgdbm -ldb -ldl -lm -lcrypt -lutil -lc
perllibs=-lpthread -lnsl -ldl -lm -lcrypt -lutil -lc
libc=/lib/x86_64-linux-gnu/libc.so.6
so=so
useshrplib=false
libperl=libperl.a
gnulibc_version='2.35'
Dynamic Linking:
dlsrc=dl_dlopen.xs
dlext=so
d_dlsymun=undef
ccdlflags='-Wl,-E'
cccdlflags='-fPIC'
lddlflags='-shared -O2 -L/usr/local/lib -fstack-protector-strong'
Characteristics of this binary (from libperl):
Compile-time options:
HAS_TIMES
PERLIO_LAYERS
PERL_COPY_ON_WRITE
PERL_DONT_CREATE_GVSV
PERL_MALLOC_WRAP
PERL_OP_PARENT
PERL_PRESERVE_IVUV
USE_64_BIT_ALL
USE_64_BIT_INT
USE_LARGE_FILES
USE_LOCALE
USE_LOCALE_COLLATE
USE_LOCALE_CTYPE
USE_LOCALE_NUMERIC
USE_LOCALE_TIME
USE_PERLIO
USE_PERL_ATOF
Built under linux
Compiled at Dec 18 2022 15:21:23
%ENV:
PERL5LIB=""
PERL5OPT=""
PERL5_CPANPLUS_IS_RUNNING="1245069"
PERL5_CPAN_IS_RUNNING="1245069"
PERL5_CPAN_IS_RUNNING_IN_RECURSION="1178349,1245069"
PERLDOC="-MPod::Perldoc::ToTextOverstrike"
PERL_BATCH="yes"
PERL_CANARY_STABILITY_NOPROMPT="1"
PERL_CPAN_REPORTER_CONFIG="/var/tmp/cpansmoker-1023/2023071614/cpanreporter_000_config.ini"
PERL_EXTUTILS_AUTOINSTALL="--defaultdeps"
PERL_USE_UNSAFE_INC="1"
@INC:
/opt/perl-5.34.1/lib/site_perl/5.34.1/x86_64-linux
/opt/perl-5.34.1/lib/site_perl/5.34.1
/opt/perl-5.34.1/lib/5.34.1/x86_64-linux
/opt/perl-5.34.1/lib/5.34.1
.