Report for Class-Method-Modifiers-2.07

Back
From: metabase:user:20a45eae-6c1a-1014-abaf-4bc2b30e56df
Subject: PASS Class-Method-Modifiers-2.07 v5.14.4 Windows (Cygwin)
Date: 2014-03-17T17:30:58Z

This distribution has been tested as part of the CPAN Testers
project, supporting the Perl programming language.  See
http://wiki.cpantesters.org/ for more information or email
questions to cpan-testers-discuss@perl.org


--
Dear Karen Etheridge,

This is a computer-generated report for Class-Method-Modifiers-2.07
on perl 5.14.4, created by CPAN-Reporter-1.2010.

Thank you for uploading your work to CPAN.  Congratulations!
All tests were successful.

Sections of this report:

    * Tester comments
    * Program output
    * Prerequisites
    * Environment and other context

------------------------------
TESTER COMMENTS
------------------------------

Additional comments from tester:

none provided

------------------------------
PROGRAM OUTPUT
------------------------------

Output from './Build test':

t/00-check-deps.t ................... ok
t/00-compile.t ...................... ok
# Prerequisite Report:
#   Version Module               
#   ------- ---------------------
#      1.29 B                    
#      1.26 Carp                 
#   5.64_03 Exporter             
#      6.78 ExtUtils::MakeMaker  
#      3.40 File::Spec           
#      3.40 File::Spec::Functions
#      1.31 IO::Handle           
#    1.0901 IPC::Open3           
#      1.32 List::Util           
#     0.027 Module::Build::Tiny  
#     0.008 Test::CheckDeps      
#     0.010 Test::Fatal          
#      0.98 Test::More           
#      2.16 base                 
#    0.0601 if                   
#      1.04 strict               
#      1.12 warnings             
t/00-report-prereqs.t ............... ok
t/000-load.t ........................ ok
t/001-error.t ....................... ok
t/002-cache.t ....................... ok
t/003-basic.t ....................... ok
t/004-around.t ...................... ok
t/005-return.t ...................... ok
t/010-before-args.t ................. ok
t/011-after-args.t .................. ok
t/012-around-args.t ................. ok
t/020-multiple-inheritance.t ........ ok
t/030-multiple-before.t ............. ok
t/031-multiple-after.t .............. ok
t/032-multiple-around.t ............. ok
t/034-multiple-everything.t ......... ok
t/035-multiple-everything-twice.t ... ok
t/040-twice-orig.t .................. ok
t/041-modify-parent.t ............... ok
t/051-undef-list-ctxt.t ............. ok
t/060-caller.t ...................... ok
t/070-modify-multiple-at-once.t ..... ok
t/080-multiple-modifiers.t .......... ok
t/081-sub-and-modifier.t ............ ok
t/090-diamond.t ..................... ok
t/100-class-mop-method-modifiers.t .. ok
t/110-namespace-clean.t ............. ok
t/120-fresh.t ....................... ok
t/130-clean-underscore.t ............ ok
t/140-lvalue.t ...................... ok
All tests successful.
Files=31, Tests=149,  3 wallclock secs ( 0.08 usr  0.00 sys +  1.40 cusr  1.19 csys =  2.67 CPU)
Result: PASS

------------------------------
PREREQUISITES
------------------------------

Prerequisite modules loaded:

requires:

    Module                Need  Have    
    --------------------- ----- --------
    B                     0     1.29    
    base                  0     2.16    
    Carp                  0     1.26    
    Exporter              0     5.64_03 
    perl                  5.008 5.014004
    strict                0     1.04    
    warnings              0     1.12    

build_requires:

    Module                Need  Have    
    --------------------- ----- --------
    ExtUtils::MakeMaker   0     6.78    
    File::Spec            0     3.40    
    File::Spec::Functions 0     3.40    
    if                    0     0.0601  
    IO::Handle            0     1.31    
    IPC::Open3            0     1.0901  
    List::Util            0     1.32    
    Test::CheckDeps       0.007 0.008   
    Test::Fatal           0     0.010   
    Test::More            0.94  0.98    

configure_requires:

    Module                Need  Have    
    --------------------- ----- --------
    ExtUtils::MakeMaker   6.30  6.78    
    Module::Build::Tiny   0.027 0.027   


------------------------------
ENVIRONMENT AND OTHER CONTEXT
------------------------------

Environment variables:

    COMSPEC = C:\Windows\system32\cmd.exe
    LANG = en_GB.utf8
    NUMBER_OF_PROCESSORS = 8
    PATH = /usr/local/bin:/usr/bin:/cygdrive/c/Program Files (x86)/NVIDIA Corporation/PhysX/Common:/cygdrive/c/Program Files/Common Files/Microsoft Shared/Windows Live:/cygdrive/c/Program Files (x86)/Common Files/Microsoft Shared/Windows Live:/cygdrive/c/Windows/system32:/cygdrive/c/Windows:/cygdrive/c/Windows/System32/Wbem:/cygdrive/c/Windows/System32/WindowsPowerShell/v1.0:/cygdrive/c/Program Files/Intel/DMIX:/cygdrive/c/strawberry/c/bin:/cygdrive/c/strawberry/perl/site/bin:/cygdrive/c/strawberry/perl/bin:/cygdrive/c/Program Files (x86)/Windows Live/Shared:/cygdrive/e/strawberry/c/bin:/cygdrive/e/strawberry/perl/site/bin:/cygdrive/e/strawberry/perl/bin:/cygdrive/c/Program Files (x86)/QuickTime/QTSystem:/cygdrive/c/cygwin/bin:/usr/lib/lapack:/bin:/usr/sbin:/cygdrive/e/peter/bin/pkg/math:/cygdrive/c/apps/emacs-24.3//bin:/cygdrive/e/peter/bin/os/unix/scripts:/cygdrive/c/Program Files (x86)/Java/jre7/bin
    PERL5LIB = /usr/local/lib/perl5/site_perl/5.14:/usr/local/lib/perl5/site_perl/5.14/x86_64-cygwin-threads:/usr/local/lib/perl5/5.14:/usr/local/lib/perl5/5.14/x86_64-cygwin-threads:/usr/local/lib/perl5
    PERL5OPT = 
    PERL5_CPANPLUS_IS_RUNNING = 12068
    PERL5_CPAN_IS_RUNNING = 12068
    PERL_CPAN_REPORTER_CONFIG = /cygdrive/e/peter/.cpanreporter/config-cygwin-rigel.ini
    PROCESSOR_IDENTIFIER = Intel64 Family 6 Model 42 Stepping 7, GenuineIntel
    SHELL = /bin/bash
    TEMP = /tmp
    TERM = xterm

Perl special variables (and OS-specific diagnostics, for MSWin32):

    $^X = /usr/bin/perl
    $UID/$EUID = 1000 / 1000
    $GID = 513 545 1003 513
    $EGID = 513 545 1003 513

Perl module toolchain versions installed:

    Module              Have     
    ------------------- ---------
    CPAN                1.9600_01
    CPAN::Meta          2.132661 
    Cwd                 3.40     
    ExtUtils::CBuilder  0.280212 
    ExtUtils::Command   1.17     
    ExtUtils::Install   1.56     
    ExtUtils::MakeMaker 6.78     
    ExtUtils::Manifest  1.60     
    ExtUtils::ParseXS   3.22     
    File::Spec          3.40     
    JSON                2.59     
    JSON::PP            2.27202  
    Module::Build       0.4007   
    Module::Signature   n/a      
    Parse::CPAN::Meta   1.4409   
    Test::Harness       3.28     
    Test::More          0.98     
    YAML                0.84     
    YAML::Syck          1.27     
    version             0.9904   


--

Summary of my perl5 (revision 5 version 14 subversion 4) configuration:
   
  Platform:
    osname=cygwin, osvers=1.7.18(0.26353), archname=cygwin-thread-multi
    uname='cygwin_nt-6.1 yaakov04 1.7.18(0.26353) 2013-03-07 19:25 x86_64 cygwin '
    config_args='-d -e -Dprefix=/usr -Dmksymlinks -Dusethreads -Darchname=x86_64-cygwin-threads -Dlibperl=cygperl5_14.dll -Dcc=gcc -Dld=g++'
    hint=recommended, useposix=true, d_sigaction=define
    useithreads=define, usemultiplicity=define
    useperlio=define, d_sfio=undef, uselargefiles=define, usesocks=undef
    use64bitint=define, use64bitall=define, uselongdouble=undef
    usemymalloc=n, bincompat5005=undef
  Compiler:
    cc='gcc', ccflags ='-DPERL_USE_SAFE_PUTENV -U__STRICT_ANSI__ -fno-strict-aliasing -pipe -fstack-protector',
    optimize='-O3',
    cppflags='-DPERL_USE_SAFE_PUTENV -U__STRICT_ANSI__ -fno-strict-aliasing -pipe -fstack-protector'
    ccversion='', gccversion='4.8.0 20130307 (experimental)', gccosandvers=''
    intsize=4, longsize=8, ptrsize=8, doublesize=8, byteorder=12345678
    d_longlong=define, longlongsize=8, d_longdbl=define, longdblsize=16
    ivtype='long', ivsize=8, nvtype='double', nvsize=8, Off_t='off_t', lseeksize=8
    alignbytes=8, prototype=define
  Linker and Libraries:
    ld='g++', ldflags =' -Wl,--enable-auto-import -Wl,--export-all-symbols -Wl,--enable-auto-image-base -fstack-protector'
    libpth=/usr/lib /lib
    libs=-lgdbm -ldb -ldl -lcrypt -lgdbm_compat
    perllibs=-ldl -lcrypt
    libc=/usr/lib/libc.a, so=dll, useshrplib=true, libperl=cygperl5_14.dll
    gnulibc_version=''
  Dynamic Linking:
    dlsrc=dl_dlopen.xs, dlext=dll, d_dlsymun=undef, ccdlflags=' '
    cccdlflags=' ', lddlflags=' --shared  -Wl,--enable-auto-import -Wl,--export-all-symbols -Wl,--enable-auto-image-base -fstack-protector'


Characteristics of this binary (from libperl): 
  Compile-time options: MULTIPLICITY PERL_DONT_CREATE_GVSV
                        PERL_IMPLICIT_CONTEXT PERL_PRESERVE_IVUV
                        PERL_USE_SAFE_PUTENV USE_64_BIT_ALL USE_64_BIT_INT
                        USE_ITHREADS USE_LARGE_FILES USE_PERLIO USE_PERL_ATOF
                        USE_REENTRANT_API
  Locally applied patches:
	Bug#55162 File::Spec::case_tolerant performance
	CYG07 $vendorarch/auto/.rebase
	CYG15 static Win32CORE
	CYG17 cyg-1.7 paths-utf8
	0c612ce82 Fix building static extensions on cygwin, -UUSEIMPORTLIB
	1bac5ecc1 Fix 64-bit threading sv.c: S_anonymise_cv_maybe
	Cygwin::sync_winenv added
  Built under cygwin
  Compiled at Mar 11 2013 18:25:23
  %ENV:
    PERL5LIB="/usr/local/lib/perl5/site_perl/5.14:/usr/local/lib/perl5/site_perl/5.14/x86_64-cygwin-threads:/usr/local/lib/perl5/5.14:/usr/local/lib/perl5/5.14/x86_64-cygwin-threads:/usr/local/lib/perl5"
    PERL5OPT=""
    PERL5_CPANPLUS_IS_RUNNING="12068"
    PERL5_CPAN_IS_RUNNING="12068"
    PERL_CPAN_REPORTER_CONFIG="/cygdrive/e/peter/.cpanreporter/config-cygwin-rigel.ini"
    CYGWIN="codepage:utf8 nodosfilewarning"
  @INC:
    /usr/local/lib/perl5/site_perl/5.14
    /usr/local/lib/perl5/site_perl/5.14/x86_64-cygwin-threads
    /usr/local/lib/perl5/5.14
    /usr/local/lib/perl5/5.14/x86_64-cygwin-threads
    /usr/local/lib/perl5/cygwin-thread-multi
    /usr/local/lib/perl5
    /usr/lib/perl5/site_perl/5.14/x86_64-cygwin-threads
    /usr/lib/perl5/site_perl/5.14
    /usr/lib/perl5/vendor_perl/5.14/x86_64-cygwin-threads
    /usr/lib/perl5/vendor_perl/5.14
    /usr/lib/perl5/5.14/x86_64-cygwin-threads
    /usr/lib/perl5/5.14
    .