HTML-Lint v2.32 Perl 5 v5.8.7 x86_64-linux-ld
- Status
- Pass
- From
- Andreas J. König (ANDK)
- Dist
-
HTML-Lint v2.32
- Platform
- Perl 5 v5.8.7 x86_64-linux-ld
- Date
- 2019-01-02 09:24:29
- ID
- 34719b64-0e70-11e9-a82c-eaf237c47247
This distribution has been tested as part of the CPAN Testers
project, supporting the Perl programming language. See
http://wiki.cpantesters.org/ for more information or email
questions to cpan-testers-discuss@perl.org
--
Dear Andy Lester,
This is a computer-generated report for HTML-Lint-2.32
on perl 5.8.7, created by CPAN-Reporter-1.2018.
Thank you for uploading your work to CPAN. Congratulations!
All tests were successful.
Sections of this report:
* Tester comments
* Program output
* Prerequisites
* Environment and other context
------------------------------
TESTER COMMENTS
------------------------------
Additional comments from tester:
this report is from an automated smoke testing program
and was not reviewed by a human for accuracy
------------------------------
PROGRAM OUTPUT
------------------------------
Output from '/usr/bin/make test':
PERL_DL_NONLAZY=1 "/home/sand/src/perl/repoperls/installed-perls/host/k93msid/perl-5.8.7/8b31/bin/perl" "-MExtUtils::Command::MM" "-MTest::Harness" "-e" "undef *Test::Harness::Switches; test_harness(0, 'blib/lib', 'blib/arch')" t/*.t
# Testing HTML::Lint 2.32, Perl 5.008007, /home/sand/src/perl/repoperls/installed-perls/host/k93msid/perl-5.8.7/8b31/bin/perl
t/00-load.t ..................... ok
t/01-coverage.t ................. ok
t/02-versions.t ................. ok
t/10-test-html-lint.t ........... ok
t/11-test-html-lint-overload.t .. ok
t/12-html_fragment_ok.t ......... ok
t/20-error-types-export.t ....... ok
t/20-error-types-skip.t ......... ok
t/20-error-types.t .............. ok
t/30-test-builder.t ............. ok
t/40-where.t .................... ok
t/50-multiple-files.t ........... ok
t/60-add-tags.t ................. ok
t/api-eof-not-called.t .......... ok
t/api-parse-not-called.t ........ ok
t/attr-invalid-entity.t ......... ok
t/attr-repeated.t ............... ok
t/attr-unclosed-entity.t ........ ok
t/attr-unknown-entity.t ......... ok
t/attr-unknown.t ................ ok
t/attr-use-entity.t ............. ok
t/config-unknown-directive.t .... ok
t/config-unknown-value.t ........ ok
t/doc-tag-required.t ............ ok
t/elem-empty-but-closed.t ....... ok
t/elem-img-alt-missing.t ........ ok
t/elem-img-sizes-missing.t ...... ok
t/elem-input-alt-missing.t ...... ok
t/elem-nonrepeatable.t .......... ok
t/elem-unclosed.t ............... ok
t/elem-unknown.t ................ ok
t/elem-unopened.t ............... ok
t/embed-extensions.t ............ ok
t/nolint.t ...................... ok
t/parse_file.t .................. ok
t/pod-coverage.t ................ skipped: Test::Pod::Coverage 1.04 required for testing POD coverage
t/pod.t ......................... skipped: Test::Pod 1.14 required for testing POD
t/random-nobr.t ................. ok
t/strong-id.t ................... ok
t/text-invalid-entity.t ......... ok
t/text-unclosed-entity.t ........ ok
t/text-unknown-entity.t ......... ok
t/text-use-entity.t ............. ok
t/xhtml-html.t .................. ok
All tests successful.
Files=44, Tests=346, 13 wallclock secs ( 0.12 usr 0.22 sys + 2.89 cusr 0.66 csys = 3.89 CPU)
Result: PASS
------------------------------
PREREQUISITES
------------------------------
Prerequisite modules loaded:
requires:
Module Need Have
--------------------- ----- --------
Exporter 0 5.58
File::Find 0 1.09
HTML::Entities 0 3.69
HTML::Parser 3.47 3.72
HTML::Tagset 3.03 3.20
perl 5.006 5.008007
Test::Builder 0 1.302141
Test::Builder::Tester 0 1.302141
Test::More 0 1.302141
build_requires:
Module Need Have
--------------------- ----- --------
ExtUtils::MakeMaker 0 7.34
configure_requires:
Module Need Have
--------------------- ----- --------
ExtUtils::MakeMaker 0 7.34
------------------------------
ENVIRONMENT AND OTHER CONTEXT
------------------------------
Environment variables:
AUTOMATED_TESTING = 1
LANG = en_US.UTF-8
PATH = /home/sand/bin:/usr/local/bin:/usr/bin:/bin:/usr/games:/usr/local/perl/bin:/usr/X11/bin:/sbin:/usr/sbin
PERL5LIB =
PERL5OPT =
PERL5_CPANPLUS_IS_RUNNING = 16194
PERL5_CPAN_IS_RUNNING = 16194
PERL5_CPAN_IS_RUNNING_IN_RECURSION = 5756,16194
PERL_CANARY_STABILITY_NOPROMPT = 1
PERL_MM_USE_DEFAULT = 1
PERL_USE_UNSAFE_INC = 1
SHELL = /usr/bin/zsh
TERM = screen
Perl special variables (and OS-specific diagnostics, for MSWin32):
$^X = /home/sand/src/perl/repoperls/installed-perls/host/k93msid/perl-5.8.7/8b31/bin/perl
$UID/$EUID = 1005 / 1005
$GID = 1005 1005
$EGID = 1005 1005
Perl module toolchain versions installed:
Module Have
------------------- --------
CPAN 2.22
CPAN::Meta 2.150010
Cwd 3.75
ExtUtils::CBuilder 0.280230
ExtUtils::Command 7.34
ExtUtils::Install 2.06
ExtUtils::MakeMaker 7.34
ExtUtils::Manifest 1.70
ExtUtils::ParseXS 3.35
File::Spec 3.75
JSON n/a
JSON::PP 4.00
Module::Build 0.4224
Module::Signature 0.83
Parse::CPAN::Meta 2.150010
Test::Harness 3.42
Test::More 1.302141
YAML n/a
YAML::Syck 1.31
version 0.9924
--
Summary of my perl5 (revision 5 version 8 subversion 7) configuration:
Platform:
osname=linux, osvers=4.18.0-2-amd64, archname=x86_64-linux-ld
uname='linux k93msid 4.18.0-2-amd64 #1 smp debian 4.18.10-2 (2018-10-07) x86_64 gnulinux '
config_args='-Dprefix=/home/sand/src/perl/repoperls/installed-perls/host/k93msid/perl-5.8.7/8b31 -Dmyhostname=k93msid -Dinstallusrbinperl=n -Uversiononly -Dusedevel -des -Ui_db -Dlibswanted=cl pthread socket inet nsl gdbm dbm malloc dl ld sun m crypt sec util c cposix posix ucb BSD gdbm_compat -Uuseithreads -Duselongdouble -Doptimize=-g'
hint=recommended, useposix=true, d_sigaction=define
usethreads=undef use5005threads=undef useithreads=undef usemultiplicity=undef
useperlio=define d_sfio=undef uselargefiles=define usesocks=undef
use64bitint=define use64bitall=define uselongdouble=define
usemymalloc=n, bincompat5005=undef
Compiler:
cc='cc', ccflags ='-DDEBUGGING -fno-strict-aliasing -pipe -I/usr/local/include -D_LARGEFILE_SOURCE -D_FILE_OFFSET_BITS=64',
optimize='-g',
cppflags='-DDEBUGGING -fno-strict-aliasing -pipe -I/usr/local/include'
ccversion='', gccversion='8.2.0', gccosandvers=''
intsize=4, longsize=8, ptrsize=8, doublesize=8, byteorder=12345678
d_longlong=define, longlongsize=8, d_longdbl=define, longdblsize=16
ivtype='long', ivsize=8, nvtype='long double', nvsize=16, Off_t='off_t', lseeksize=8
alignbytes=16, prototype=define
Linker and Libraries:
ld='cc', ldflags =' -L/usr/local/lib'
libpth=/usr/local/lib /lib/x86_64-linux-gnu /lib/../lib /usr/lib/x86_64-linux-gnu /usr/lib/../lib /lib /usr/lib
libs=-lpthread -lnsl -ldl -lm -lcrypt -lutil -lc
perllibs=-lpthread -lnsl -ldl -lm -lcrypt -lutil -lc
libc=libc-2.27.so, so=so, useshrplib=false, libperl=libperl.a
gnulibc_version='2.27'
Dynamic Linking:
dlsrc=dl_dlopen.xs, dlext=so, d_dlsymun=undef, ccdlflags='-Wl,-E'
cccdlflags='-fpic', lddlflags='-shared -L/usr/local/lib'
Characteristics of this binary (from libperl):
Compile-time options: DEBUGGING USE_64_BIT_INT USE_64_BIT_ALL
USE_LONG_DOUBLE USE_LARGE_FILES
Built under linux
Compiled at Dec 29 2018 04:08:53
%ENV:
PERL5LIB=""
PERL5OPT=""
PERL5_CPANPLUS_IS_RUNNING="16194"
PERL5_CPAN_IS_RUNNING="16194"
PERL5_CPAN_IS_RUNNING_IN_RECURSION="5756,16194"
PERL_CANARY_STABILITY_NOPROMPT="1"
PERL_MM_USE_DEFAULT="1"
PERL_USE_UNSAFE_INC="1"
@INC:
/home/sand/src/perl/repoperls/installed-perls/host/k93msid/perl-5.8.7/8b31/lib/5.8.7/x86_64-linux-ld
/home/sand/src/perl/repoperls/installed-perls/host/k93msid/perl-5.8.7/8b31/lib/5.8.7
/home/sand/src/perl/repoperls/installed-perls/host/k93msid/perl-5.8.7/8b31/lib/site_perl/5.8.7/x86_64-linux-ld
/home/sand/src/perl/repoperls/installed-perls/host/k93msid/perl-5.8.7/8b31/lib/site_perl/5.8.7
/home/sand/src/perl/repoperls/installed-perls/host/k93msid/perl-5.8.7/8b31/lib/site_perl
.