Net-DNS v1.50 Perl 5 v5.34.3 darwin-thread-multi-2level

Status
Pass
From
Roland van Ipenburg (IPENBURG)
Dist
Net-DNS v1.50
Platform
Perl 5 v5.34.3 darwin-thread-multi-2level
Date
2025-05-06 13:37:07
ID
345a7a6a-2a7f-11f0-a00c-916e287ac1c0
This distribution has been tested as part of the CPAN Testers
project, supporting the Perl programming language.  See
http://wiki.cpantesters.org/ for more information or email
questions to cpan-testers-discuss@perl.org


--
Dear NLnet Labs,

This is a computer-generated report for Net-DNS-1.50
on perl 5.34.3, created by CPAN-Reporter-1.2020.

Thank you for uploading your work to CPAN.  Congratulations!
All tests were successful.

Sections of this report:

    * Tester comments
    * Program output
    * Prerequisites
    * Environment and other context

------------------------------
TESTER COMMENTS
------------------------------

Additional comments from tester:

none provided

------------------------------
PROGRAM OUTPUT
------------------------------

Output from '/usr/bin/make test':

PERL_DL_NONLAZY=1 HARNESS_OPTIONS=j1:c "/opt/local/bin/perl5.34" "-It" "-MExtUtils::Command::MM" "-MTest::Harness" "-e" "undef *Test::Harness::Switches; test_harness(0, 'blib/lib', 'blib/arch')" t/*.t
t/00-install.t ............. ok
# 
# These tests were run using:
# 	Net::DNS                   1.50
# 	Carp                       1.52
# 	Config                     5.034003
# 	Digest::BubbleBabble       0.02
# 	Digest::HMAC               1.05
# 	Digest::MD5                2.59
# 	Digest::SHA                6.04
# 	Encode                     3.0801
# 	Exporter                   5.78
# 	ExtUtils::MakeMaker        7.74
# 	File::Find                 1.39
# 	File::Spec                 3.80
# 	Getopt::Long               2.58
# 	IO::File                   1.55
# 	IO::Select                 1.55
# 	IO::Socket                 1.55
# 	IO::Socket::IP             0.43
# 	MIME::Base64               3.16
# 	PerlIO                     1.11
# 	Scalar::Util               1.68
# 	Socket                     2.038
# 	Test::Builder              1.302209
# 	Test::More                 1.302209
# 	Time::Local                1.35
# 	base                       2.27
# 	constant                   1.33
# 	integer                    1.01
# 	overload                   1.33
# 	strict                     1.12
# 	warnings                   1.51
t/00-load.t ................ ok
t/00-pod.t ................. ok
t/01-resolver-config.t ..... ok
t/01-resolver-env.t ........ ok
t/01-resolver-file.t ....... ok
t/01-resolver-flags.t ...... ok
t/01-resolver-opt.t ........ ok
t/01-resolver.t ............ ok
t/02-domain.t .............. ok
t/02-domainname.t .......... ok
t/02-IDN.t ................. skipped: Net::LibIDN2 not installed
t/02-mailbox.t ............. ok
t/02-text.t ................ ok
t/03-header.t .............. ok
t/03-parameters.t .......... ok
t/03-question.t ............ ok
t/03-rr.t .................. ok
t/04-packet-truncate.t ..... ok
t/04-packet.t .............. ok
t/05-A.t ................... ok
t/05-AAAA.t ................ ok
t/05-AFSDB.t ............... ok
t/05-AMTRELAY.t ............ ok
t/05-APL.t ................. ok
t/05-CAA.t ................. ok
t/05-CDNSKEY.t ............. ok
t/05-CDS.t ................. ok
t/05-CERT.t ................ ok
t/05-CNAME.t ............... ok
t/05-CSYNC.t ............... ok
t/05-DHCID.t ............... ok
t/05-DNAME.t ............... ok
t/05-DNSKEY.t .............. ok
t/05-DS.t .................. ok
t/05-DSYNC.t ............... ok
t/05-EUI48.t ............... ok
t/05-EUI64.t ............... ok
t/05-HINFO.t ............... ok
t/05-HIP.t ................. ok
t/05-HTTPS.t ............... ok
t/05-IPSECKEY.t ............ ok
t/05-ISDN.t ................ ok
t/05-KEY.t ................. ok
t/05-KX.t .................. ok
t/05-L32.t ................. ok
t/05-L64.t ................. ok
t/05-LOC.t ................. ok
t/05-LP.t .................. ok
t/05-MINFO.t ............... ok
t/05-MX.t .................. ok
t/05-NAPTR.t ............... ok
t/05-NID.t ................. ok
t/05-NS.t .................. ok
t/05-NSEC.t ................ ok
t/05-NSEC3.t ............... ok
t/05-NSEC3PARAM.t .......... ok
t/05-NULL.t ................ ok
t/05-OPENPGPKEY.t .......... ok
t/05-OPT.t ................. ok
t/05-PTR.t ................. ok
t/05-PX.t .................. ok
t/05-RP.t .................. ok
t/05-RRSIG.t ............... ok
t/05-RT.t .................. ok
t/05-SIG.t ................. ok
t/05-SMIMEA.t .............. ok
t/05-SOA.t ................. ok
t/05-SPF.t ................. ok
t/05-SRV.t ................. ok
t/05-SSHFP.t ............... ok
t/05-SVCB.t ................ ok
t/05-TKEY.t ................ ok
t/05-TLSA.t ................ ok
t/05-TSIG.t ................ ok
t/05-TXT.t ................. ok
t/05-URI.t ................. ok
t/05-X25.t ................. ok
t/05-ZONEMD.t .............. ok
t/06-update-unique-push.t .. ok
t/06-update.t .............. ok
t/07-rrsort.t .............. ok
t/07-zonefile.t ............ ok
# 
# Disregarding 4 failed sub-tests
# 26	$resolver->send(...)	UDP + automatic TSIG
# 27	$resolver->send(...)	TCP + automatic TSIG
# 28	$resolver->bgsend/read	TCP + automatic TSIG
# 50	$resolver->axfr() with TSIG verify
t/08-IPv4.t ................ ok
# 
# Disregarding 4 failed sub-tests
# 26	$resolver->send(...)	UDP + automatic TSIG
# 27	$resolver->send(...)	TCP + automatic TSIG
# 28	$resolver->bgsend/read	TCP + automatic TSIG
# 50	$resolver->axfr() with TSIG verify
t/08-IPv6.t ................ ok
t/08-recurse.t ............. ok
t/21-NSEC-typelist.t ....... ok
t/22-NSEC-match.t .......... ok
t/23-NSEC-covered.t ........ ok
t/24-NSEC-encloser.t ....... ok
t/31-NSEC3-base32.t ........ ok
t/32-NSEC3-typelist.t ...... ok
t/33-NSEC3-hash.t .......... ok
t/34-NSEC3-flags.t ......... ok
t/36-NSEC3-covered.t ....... ok
t/37-NSEC3-encloser.t ...... ok
t/41-DNSKEY-keytag.t ....... ok
t/42-DNSKEY-flags.t ........ ok
t/43-DNSKEY-keylength.t .... ok
t/51-DS-SHA1.t ............. ok
t/52-DS-SHA256.t ........... ok
t/54-DS-SHA384.t ........... ok
t/71-TSIG-create.t ......... ok
t/72-TSIG-verify.t ......... ok
# Cleaning
t/99-cleanup.t ............. ok
All tests successful.
Files=105, Tests=3401, 177 wallclock secs ( 2.30 usr  1.13 sys + 71.75 cusr 14.69 csys = 89.87 CPU)
Result: PASS

------------------------------
PREREQUISITES
------------------------------

Prerequisite modules loaded:

requires:

    Module              Need     Have    
    ------------------- -------- --------
    base                2.13     2.27    
    Carp                1.1      1.52    
    constant            1.17     1.33    
    Digest::HMAC        1.03     1.05    
    Digest::MD5         2.37     2.59    
    Digest::SHA         5.23     6.04    
    Encode              2.26     3.08_01 
    Exporter            5.63     5.78    
    File::Spec          3.29     3.80    
    integer             1        1.01    
    IO::File            1.14     1.55    
    IO::Select          1.17     1.55    
    IO::Socket          1.3      1.55    
    IO::Socket::IP      0.38     0.43    
    MIME::Base64        3.07     3.16    
    overload            1.06     1.33    
    perl                5.008009 5.034003
    PerlIO              1.05     1.11    
    Scalar::Util        1.19     1.68    
    Socket              1.81     2.038   
    strict              1.03     1.12    
    Time::Local         1.19     1.35    
    warnings            1.0501   1.51    

build_requires:

    Module              Need     Have    
    ------------------- -------- --------
    ExtUtils::MakeMaker 0        7.74    
    File::Find          1.13     1.39    
    File::Spec          3.29     3.80    
    IO::File            1.14     1.55    
    Test::Builder       0.8      1.302209
    Test::More          0.8      1.302209

configure_requires:

    Module              Need     Have    
    ------------------- -------- --------
    Config              0        5.034003
    ExtUtils::MakeMaker 6.48     7.74    
    Getopt::Long        2.43     2.58    
    IO::File            1.14     1.55    
    IO::Socket::IP      0.38     0.43    


------------------------------
ENVIRONMENT AND OTHER CONTEXT
------------------------------

Environment variables:

    LANG = en_US.UTF-8
    LC_ALL = en_US.UTF-8
    LC_CTYPE = UTF-8
    PATH = /opt/local/bin:/Users/roland/perl5/bin:/opt/local/bin:/opt/local/sbin:/bin:/sbin:/usr/bin:/usr/sbin
    PERL5LIB = /Users/roland/perl5/lib/perl5
    PERL5OPT = 
    PERL5_CPANPLUS_IS_RUNNING = 806
    PERL5_CPAN_IS_RUNNING = 806
    PERL_LOCAL_LIB_ROOT = /Users/roland/perl5
    PERL_MB_OPT = --install_base "/Users/roland/perl5"
    PERL_MM_OPT = INSTALL_BASE=/Users/roland/perl5
    PERL_USE_UNSAFE_INC = 1
    SHELL = /bin/bash
    TEMP = /var/tmp/
    TERM = xterm-color

Perl special variables (and OS-specific diagnostics, for MSWin32):

    $^X = /opt/local/bin/perl5.34
    $UID/$EUID = 502 / 502
    $GID = 502 502 81 79 80
    $EGID = 502 502 81 79 80

Perl module toolchain versions installed:

    Module              Have    
    ------------------- --------
    CPAN                2.38    
    CPAN::Meta          2.150010
    Cwd                 3.80    
    ExtUtils::CBuilder  0.280236
    ExtUtils::Command   7.74    
    ExtUtils::Install   2.22    
    ExtUtils::MakeMaker 7.74    
    ExtUtils::Manifest  1.75    
    ExtUtils::ParseXS   3.57    
    File::Spec          3.80    
    JSON                4.10    
    JSON::PP            4.16    
    Module::Build       0.4234  
    Module::Signature   n/a     
    Parse::CPAN::Meta   2.150010
    Test2               1.302209
    Test::Harness       3.50    
    Test::More          1.302209
    YAML                n/a     
    YAML::Syck          n/a     
    version             0.9933  


--

Summary of my perl5 (revision 5 version 34 subversion 3) configuration:
   
  Platform:
    osname=darwin
    osvers=8.11.0
    archname=darwin-thread-multi-2level
    uname='darwin queens.local 8.11.0 darwin kernel version 8.11.0: wed oct 10 18:26:00 pdt 2007; root:xnu-792.24.17~1release_ppc power macintosh powerpc '
    config_args='-des -Dprefix=/opt/local -Dscriptdir=/opt/local/bin -Dvendorprefix=/opt/local -Dusemultiplicity=y -Dusethreads -Duseshrplib -Dcc=/usr/bin/cc -Dman1ext=1pm -Dman3ext=3pm -Dinstallstyle=lib/perl5 -Dman1dir=/opt/local/share/man/man1 -Dman3dir=/opt/local/share/man/man3 -Dsitebin=/opt/local/libexec/perl5.34/sitebin -Dsiteman1dir=/opt/local/share/perl5.34/siteman/man1 -Dsiteman3dir=/opt/local/share/perl5.34/siteman/man3 -Dvendorbin=/opt/local/libexec/perl5.34 -Dvendorman1dir=/opt/local/share/perl5.34/man/man1 -Dvendorman3dir=/opt/local/share/perl5.34/man/man3 -Dpager=/usr/bin/less -sR -Dperlpath=/opt/local/bin/perl5.34 -Dstartperl=#!/opt/local/bin/perl5.34 -Acppflags=-I/opt/local/include -Accflags=-pipe -Os  -Alddlflags=-L/opt/local/lib -Wl,-headerpad_max_install_names  -Aldflags=-L/opt/local/lib -Wl,-headerpad_max_install_names '
    hint=recommended
    useposix=true
    d_sigaction=define
    useithreads=define
    usemultiplicity=define
    use64bitint=undef
    use64bitall=undef
    uselongdouble=undef
    usemymalloc=n
    default_inc_excludes_dot=define
  Compiler:
    cc='/usr/bin/cc'
    ccflags ='-fno-common -DPERL_DARWIN -pipe -Os  -fno-strict-aliasing -I/opt/local/include -D_FORTIFY_SOURCE=2 -DPERL_USE_SAFE_PUTENV'
    optimize='-O3'
    cppflags='-I/opt/local/include -fno-common -DPERL_DARWIN -pipe -Os  -fno-strict-aliasing -I/opt/local/include'
    ccversion=''
    gccversion='4.2.1 (Apple Inc. build 5666) (dot 3) (MacPorts apple-gcc42 5666.3_16)'
    gccosandvers=''
    intsize=4
    longsize=4
    ptrsize=4
    doublesize=8
    byteorder=4321
    doublekind=4
    d_longlong=define
    longlongsize=8
    d_longdbl=define
    longdblsize=16
    longdblkind=6
    ivtype='long'
    ivsize=4
    nvtype='double'
    nvsize=8
    Off_t='off_t'
    lseeksize=8
    alignbytes=8
    prototype=define
  Linker and Libraries:
    ld='env MACOSX_DEPLOYMENT_TARGET=10.3 /usr/bin/cc'
    ldflags =' -L/opt/local/lib -Wl,-headerpad_max_install_names '
    libpth=/opt/local/lib /usr/lib
    libs=-lpthread -lgdbm -ldbm -ldl -lm -lc
    perllibs=-lpthread -ldl -lm -lc
    libc=
    so=dylib
    useshrplib=true
    libperl=libperl.dylib
    gnulibc_version=''
  Dynamic Linking:
    dlsrc=dl_dlopen.xs
    dlext=bundle
    d_dlsymun=undef
    ccdlflags=' '
    cccdlflags=' '
    lddlflags=' -bundle -undefined dynamic_lookup -L/opt/local/lib -Wl,-headerpad_max_install_names '


Characteristics of this binary (from libperl): 
  Compile-time options:
    HAS_TIMES
    MULTIPLICITY
    PERLIO_LAYERS
    PERL_COPY_ON_WRITE
    PERL_DONT_CREATE_GVSV
    PERL_IMPLICIT_CONTEXT
    PERL_MALLOC_WRAP
    PERL_OP_PARENT
    PERL_PRESERVE_IVUV
    PERL_USE_SAFE_PUTENV
    USE_ITHREADS
    USE_LARGE_FILES
    USE_LOCALE
    USE_LOCALE_COLLATE
    USE_LOCALE_CTYPE
    USE_LOCALE_NUMERIC
    USE_LOCALE_TIME
    USE_PERLIO
    USE_PERL_ATOF
    USE_REENTRANT_API
    USE_THREAD_SAFE_LOCALE
  Built under darwin
  Compiled at May 24 2024 22:30:39
  %ENV:
    PERL5LIB="/Users/roland/perl5/lib/perl5"
    PERL5OPT=""
    PERL5_CPANPLUS_IS_RUNNING="806"
    PERL5_CPAN_IS_RUNNING="806"
    PERL_LOCAL_LIB_ROOT="/Users/roland/perl5"
    PERL_MB_OPT="--install_base "/Users/roland/perl5""
    PERL_MM_OPT="INSTALL_BASE=/Users/roland/perl5"
    PERL_USE_UNSAFE_INC="1"
  @INC:
    /Users/roland/perl5/lib/perl5/darwin-thread-multi-2level
    /Users/roland/perl5/lib/perl5
    /opt/local/lib/perl5/site_perl/5.34/darwin-thread-multi-2level
    /opt/local/lib/perl5/site_perl/5.34
    /opt/local/lib/perl5/vendor_perl/5.34/darwin-thread-multi-2level
    /opt/local/lib/perl5/vendor_perl/5.34
    /opt/local/lib/perl5/5.34/darwin-thread-multi-2level
    /opt/local/lib/perl5/5.34
    .