Report for WWW-Mechanize-PhantomJS-0.16

Back
From: metabase:user:314402c4-2aae-11df-837a-5e0a49663a4f
Subject: PASS WWW-Mechanize-PhantomJS-0.16 v5.10.1 FreeBSD
Date: 2017-04-28T08:25:14Z

This distribution has been tested as part of the CPAN Testers
project, supporting the Perl programming language.  See
http://wiki.cpantesters.org/ for more information or email
questions to cpan-testers-discuss@perl.org


--
Dear Max Maischein,

This is a computer-generated report for WWW-Mechanize-PhantomJS-0.16
on perl 5.10.1, created by CPAN-Reporter-1.2018.

Thank you for uploading your work to CPAN.  Congratulations!
All tests were successful.

Sections of this report:

    * Tester comments
    * Program output
    * Prerequisites
    * Environment and other context

------------------------------
TESTER COMMENTS
------------------------------

Additional comments from tester:

none provided

------------------------------
PROGRAM OUTPUT
------------------------------

Output from '/usr/bin/make test':

PERL_DL_NONLAZY=1 "/usr/perl5.10.1/bin/perl" "-MExtUtils::Command::MM" "-MTest::Harness" "-e" "undef *Test::Harness::Switches; test_harness(0, 'blib/lib', 'blib/arch')" t/00-load.t t/49-mech-get-file.t t/49-mech-nav.t t/49-port.t t/50-click.t t/50-follow-link.t t/50-form-with-fields.t t/50-form2.t t/50-highlight-nodes.t t/50-load-and-load.t t/50-mech-content.t t/50-mech-ct.t t/50-mech-encoding.t t/50-mech-error.t t/50-mech-forms.t t/50-mech-get-nocache.t t/50-mech-get.t t/50-mech-new-dsl.t t/50-mech-post.t t/50-mech-status.t t/50-popup.t t/51-mech-form-with-fields.t t/51-mech-set-content.t t/51-mech-submit.t t/53-mech-capture-js-error.t t/56-render-content.t t/57-parallel.t t/58-alert.t t/59-confirm.t t/60-mech-custom-headers.t t/70-real-status.t
# Testing WWW::Mechanize::PhantomJS 0.16, Perl 5.010001
# Archive::Zip 1.59
# Archive::Zip::Archive 1.59
# Archive::Zip::DirectoryMember 1.59
# Archive::Zip::FileMember 1.59
# Archive::Zip::Member 1.59
# Archive::Zip::NewFileMember 1.59
# Archive::Zip::StringMember 1.59
# Archive::Zip::ZipFileMember 1.59
# AutoLoader 5.68
# B 1.22
# B::Hooks::EndOfScope 0.21
# B::Hooks::EndOfScope::XS 0.21
# Carp 1.38
# Carp::Heavy 1.38
# Class::Method::Modifiers 2.12
# Class::XSAccessor 1.19
# Class::XSAccessor::Heavy 1.19
# Compress::Raw::Zlib 2.073
# Config <unknown>
# Cwd 3.62
# Data::Dumper 2.161
# Devel::GlobalDestruction 0.14
# Devel::GlobalDestruction::XS 0.03
# DynaLoader 1.10
# Encode 2.89
# Encode::Alias 2.21
# Encode::Config 2.05
# Encode::Encoding 2.07
# Errno 1.11
# Exporter 5.72
# Exporter::Heavy 5.72
# Fcntl 1.06
# File::Basename 2.77
# File::Copy 2.14
# File::Find 1.14
# File::Path 2.12
# File::Spec 3.62
# File::Spec::Functions 3.62
# File::Spec::Unix 3.62
# File::Temp 0.2304
# FileHandle 2.02
# HTML::Selector::XPath 0.23
# HTTP::Date 6.02
# HTTP::Headers 6.11
# HTTP::Message 6.11
# HTTP::Request 6.11
# HTTP::Response 6.11
# HTTP::Status 6.11
# IO 1.25
# IO::File 1.14
# IO::Handle 1.28
# IO::Seekable 1.1
# IO::Socket 1.31
# IO::Socket::INET 1.31
# IO::Socket::UNIX 1.23
# IO::String 1.08
# JSON 2.90
# JSON::XS 3.03
# LWP 6.26
# LWP::MemberMixin 6.26
# LWP::Protocol 6.26
# LWP::UserAgent 6.26
# List::Util 1.47
# Log::Agent 1.001
# Log::Agent::Formatting <unknown>
# Log::Agent::Message <unknown>
# Log::Agent::Priorities <unknown>
# MIME::Base64 3.15
# Method::Generate::Accessor <unknown>
# Method::Generate::Constructor <unknown>
# Module::Implementation 0.09
# Module::Runtime 0.014
# Moo 2.003002
# Moo::Object <unknown>
# Moo::Role 2.003002
# Moo::_Utils <unknown>
# Moo::_mro <unknown>
# Moo::_strictures <unknown>
# Moo::sification <unknown>
# Package::Stash 0.37
# Package::Stash::XS 0.28
# PerlIO 1.06
# Role::Tiny 2.000005
# Scalar::Util 1.47
# SelectSaver 1.02
# Selenium::Remote::Commands 1.12
# Selenium::Remote::Driver 1.12
# Selenium::Remote::Driver::CanSetWebdriverContext 1.12
# Selenium::Remote::ErrorHandler 1.12
# Selenium::Remote::Finders 1.12
# Selenium::Remote::RemoteConnection 1.12
# Selenium::Remote::WebElement 1.12
# Socket 2.024
# Storable 2.51
# Sub::Defer 2.003001
# Sub::Exporter::Progressive 0.001013
# Sub::Install 0.928
# Sub::Quote 2.003001
# Sub::Util 1.47
# Symbol 1.07
# Test::Builder 1.302083
# Test::Builder::Formatter 1.302083
# Test::Builder::Module 1.302083
# Test::Builder::TodoDiag 1.302083
# Test::More 1.302083
# Test2::API 1.302083
# Test2::API::Context 1.302083
# Test2::API::Instance 1.302083
# Test2::API::Stack 1.302083
# Test2::Event 1.302083
# Test2::Event::Bail 1.302083
# Test2::Event::Diag 1.302083
# Test2::Event::Exception 1.302083
# Test2::Event::Note 1.302083
# Test2::Event::Ok 1.302083
# Test2::Event::Plan 1.302083
# Test2::Event::Skip 1.302083
# Test2::Event::Subtest 1.302083
# Test2::Event::Waiting 1.302083
# Test2::Formatter 1.302083
# Test2::Formatter::TAP 1.302083
# Test2::Hub 1.302083
# Test2::Hub::Interceptor 1.302083
# Test2::Hub::Interceptor::Terminator 1.302083
# Test2::Hub::Subtest 1.302083
# Test2::Util 1.302083
# Test2::Util::ExternalMeta 1.302083
# Test2::Util::HashBase 0.002
# Test2::Util::Trace 1.302083
# Time::Local 1.25
# Try::Tiny 0.28
# Types::Serialiser 1.0
# URI 1.71
# URI::Escape 3.31
# Variable::Magic 0.58
# WWW::Mechanize::Link 1.82
# WWW::Mechanize::PhantomJS 0.16
# WWW::Mechanize::Plugin::Selector 0.16
# XSLoader 0.24
# attributes 0.09
# base 2.23
# bytes 1.03
# common::sense 3.73
# constant 1.33
# feature 1.13
# integer 1.00
# mro 1.01
# namespace::clean 0.27
# namespace::clean::_Util <unknown>
# overload 1.07
# parent 0.236
# re 0.09
# strict 1.04
# utf8 1.07
# vars 1.01
# warnings 1.06
# warnings::register 1.01
t/00-load.t ................... ok
t/49-mech-get-file.t .......... skipped: Couldn't connect to PhantomJS:
t/49-mech-nav.t ............... skipped: Couldn't connect to PhantomJS:
t/49-port.t ................... skipped: Couldn't connect to PhantomJS:
t/50-click.t .................. skipped: Couldn't connect to PhantomJS:
t/50-follow-link.t ............ skipped: Couldn't connect to PhantomJS:
t/50-form-with-fields.t ....... skipped: Couldn't connect to PhantomJS:
t/50-form2.t .................. skipped: Couldn't connect to PhantomJS:
t/50-highlight-nodes.t ........ skipped: Couldn't connect to PhantomJS:
t/50-load-and-load.t .......... skipped: Couldn't connect to PhantomJS:
t/50-mech-content.t ........... skipped: Couldn't connect to PhantomJS:
t/50-mech-ct.t ................ skipped: Couldn't connect to PhantomJS:
t/50-mech-encoding.t .......... skipped: Couldn't connect to PhantomJS:
t/50-mech-error.t ............. skipped: Couldn't connect to PhantomJS:
t/50-mech-forms.t ............. skipped: Couldn't connect to PhantomJS:
t/50-mech-get-nocache.t ....... skipped: Couldn't connect to PhantomJS:
t/50-mech-get.t ............... skipped: Couldn't connect to PhantomJS:
Can't exec "phantomjs": Datei oder Verzeichnis nicht gefunden at /usr/home/eserte/.cpan/build/2017042809/WWW-Mechanize-PhantomJS-0.16-4/blib/lib/WWW/Mechanize/PhantomJS.pm line 188.
t/50-mech-new-dsl.t ........... skipped: Couldn't connect to PhantomJS: Couldn't launch [phantomjs /usr/home/eserte/.cpan/build/2017042809/WWW-Mechanize-PhantomJS-0.16-4/blib/lib/WWW/Mechanize/PhantomJS/ghostdriver/main.js --port=8910 --logLevel=OFF]: Datei oder Verzeichnis nicht gefunden / 0 at /usr/home/eserte/.cpan/build/2017042809/WWW-Mechanize-PhantomJS-0.16-4/blib/lib/WWW/Mechanize/PhantomJS.pm line 188.
t/50-mech-post.t .............. skipped: Couldn't connect to PhantomJS:
t/50-mech-status.t ............ skipped: Couldn't connect to PhantomJS:
t/50-popup.t .................. skipped: Opening windows are not yet tracked
t/51-mech-form-with-fields.t .. skipped: Couldn't connect to PhantomJS:
t/51-mech-set-content.t ....... skipped: Couldn't connect to PhantomJS:
t/51-mech-submit.t ............ skipped: Couldn't connect to PhantomJS:
t/53-mech-capture-js-error.t .. skipped: Couldn't connect to PhantomJS:
t/56-render-content.t ......... skipped: Couldn't connect to PhantomJS:
t/57-parallel.t ............... skipped: Couldn't connect to PhantomJS:
t/58-alert.t .................. skipped: Couldn't connect to PhantomJS:
t/59-confirm.t ................ skipped: Couldn't connect to PhantomJS:
t/60-mech-custom-headers.t .... skipped: Couldn't connect to PhantomJS:
t/70-real-status.t ............ skipped: Couldn't connect to PhantomJS:
All tests successful.
Files=31, Tests=1, 29 wallclock secs ( 0.25 usr  0.23 sys + 23.33 cusr  3.12 csys = 26.92 CPU)
Result: PASS

------------------------------
PREREQUISITES
------------------------------

Prerequisite modules loaded:

requires:

    Module                   Need  Have    
    ------------------------ ----- --------
    Carp                     0     1.38    
    HTML::Selector::XPath    0     0.23    
    HTTP::Daemon             0     6.01    
    HTTP::Response           0     6.11    
    IO::Socket::INET         0     1.31    
    LWP::Simple              0     6.26    
    Object::Import           0     1.004   
    perl                     5.006 5.010001
    Scalar::Util             0     1.47    
    Selenium::Remote::Driver 0.18  1.12    
    WWW::Mechanize::Link     0     1.82    

build_requires:

    Module                   Need  Have    
    ------------------------ ----- --------
    CGI                      0     4.36    
    File::Basename           0     2.77    
    File::Copy               0     2.14    
    File::Find               0     1.14    
    File::Path               0     2.12    


------------------------------
ENVIRONMENT AND OTHER CONTEXT
------------------------------

Environment variables:

    LC_ALL = de_DE.ISO8859-1
    PATH = /usr/local/bin:/usr/bin:/bin:/usr/local/sbin:/usr/sbin:/sbin:/home/cpansand/bin/freebsd9.3:/home/cpansand/bin/sh:/home/cpansand/bin:/usr/games:/home/cpansand/devel:/usr/home/eserte/src/srezic-misc/scripts
    PERL5LIB = 
    PERL5OPT = 
    PERL5_CPANPLUS_IS_RUNNING = 26649
    PERL5_CPAN_IS_RUNNING = 26649
    PERL5_CPAN_IS_RUNNING_IN_RECURSION = 26596,26649
    PERLDOC = -MPod::Perldoc::ToTextOverstrike
    PERL_BATCH = yes
    PERL_CANARY_STABILITY_NOPROMPT = 1
    PERL_CPAN_REPORTER_CONFIG = /var/tmp/cpansmoker-1023/2017042809/cpanreporter_000_config.ini
    PERL_EXTUTILS_AUTOINSTALL = --defaultdeps
    SHELL = /usr/local/bin/zsh
    TERM = screen
    TMPDIR = /var/tmp/cpansmoker-1023/2017042809

Perl special variables (and OS-specific diagnostics, for MSWin32):

    $^X = /usr/perl5.10.1/bin/perl
    $UID/$EUID = 1023 / 1023
    $GID = 1023 1023
    $EGID = 1023 1023

Perl module toolchain versions installed:

    Module              Have    
    ------------------- --------
    CPAN                2.16    
    CPAN::Meta          2.150010
    Cwd                 3.62    
    ExtUtils::CBuilder  0.280224
    ExtUtils::Command   7.24    
    ExtUtils::Install   2.04    
    ExtUtils::MakeMaker 7.24    
    ExtUtils::Manifest  1.70    
    ExtUtils::ParseXS   3.30    
    File::Spec          3.62    
    JSON                2.90    
    JSON::PP            2.27400 
    Module::Build       0.4222  
    Module::Signature   0.79    
    Parse::CPAN::Meta   2.150010
    Test::Harness       3.39    
    Test::More          1.302083
    YAML                1.23    
    YAML::Syck          1.30    
    version             0.9918  


--

Summary of my perl5 (revision 5 version 10 subversion 1) configuration:
   
  Platform:
    osname=freebsd, osvers=9.2-release-p4, archname=amd64-freebsd
    uname='freebsd cvrsnica-freebsd-92 9.2-release-p4 freebsd 9.2-release-p4 #0: tue apr 8 18:08:22 utc 2014 root@amd64-builder.daemonology.net:usrobjusrsrcsysgeneric amd64 '
    config_args='-ds -e -Dprefix=/usr/perl5.10.1'
    hint=recommended, useposix=true, d_sigaction=define
    useithreads=undef, usemultiplicity=undef
    useperlio=define, d_sfio=undef, uselargefiles=define, usesocks=undef
    use64bitint=define, use64bitall=define, uselongdouble=undef
    usemymalloc=n, bincompat5005=undef
  Compiler:
    cc='cc', ccflags ='-DHAS_FPSETMASK -DHAS_FLOATINGPOINT_H -fno-strict-aliasing -pipe -fstack-protector -I/usr/local/include',
    optimize='-O',
    cppflags='-DHAS_FPSETMASK -DHAS_FLOATINGPOINT_H -fno-strict-aliasing -pipe -fstack-protector -I/usr/local/include'
    ccversion='', gccversion='4.2.1 20070831 patched [FreeBSD]', gccosandvers=''
    intsize=4, longsize=8, ptrsize=8, doublesize=8, byteorder=12345678
    d_longlong=define, longlongsize=8, d_longdbl=define, longdblsize=16
    ivtype='long', ivsize=8, nvtype='double', nvsize=8, Off_t='off_t', lseeksize=8
    alignbytes=8, prototype=define
  Linker and Libraries:
    ld='cc', ldflags ='-Wl,-E  -fstack-protector -L/usr/local/lib'
    libpth=/usr/lib /usr/local/lib
    libs=-lgdbm -lm -lcrypt -lutil -lc
    perllibs=-lm -lcrypt -lutil -lc
    libc=, so=so, useshrplib=false, libperl=libperl.a
    gnulibc_version=''
  Dynamic Linking:
    dlsrc=dl_dlopen.xs, dlext=so, d_dlsymun=undef, ccdlflags=' '
    cccdlflags='-DPIC -fPIC', lddlflags='-shared  -L/usr/local/lib -fstack-protector'


Characteristics of this binary (from libperl): 
  Compile-time options: PERL_DONT_CREATE_GVSV PERL_MALLOC_WRAP USE_64_BIT_ALL
                        USE_64_BIT_INT USE_LARGE_FILES USE_PERLIO
  Built under freebsd
  Compiled at May 15 2014 23:30:26
  %ENV:
    PERL5LIB=""
    PERL5OPT=""
    PERL5_CPANPLUS_IS_RUNNING="26649"
    PERL5_CPAN_IS_RUNNING="26649"
    PERL5_CPAN_IS_RUNNING_IN_RECURSION="26596,26649"
    PERLDOC="-MPod::Perldoc::ToTextOverstrike"
    PERL_BATCH="yes"
    PERL_CANARY_STABILITY_NOPROMPT="1"
    PERL_CPAN_REPORTER_CONFIG="/var/tmp/cpansmoker-1023/2017042809/cpanreporter_000_config.ini"
    PERL_EXTUTILS_AUTOINSTALL="--defaultdeps"
  @INC:
    /usr/perl5.10.1/lib/5.10.1/amd64-freebsd
    /usr/perl5.10.1/lib/5.10.1
    /usr/perl5.10.1/lib/site_perl/5.10.1/amd64-freebsd
    /usr/perl5.10.1/lib/site_perl/5.10.1
    .