App-TimeTracker v3.010 Perl 5 v5.41.11 amd64-freebsd
- Status
- Pass
- From
- Carlos Guevara
- Dist
-
App-TimeTracker v3.010
- Platform
- Perl 5 v5.41.11 amd64-freebsd
- Date
- 2025-03-28 18:19:34
- ID
- 33ab5964-0c01-11f0-8df7-af1f1730d4a6
This distribution has been tested as part of the CPAN Testers
project, supporting the Perl programming language. See
http://wiki.cpantesters.org/ for more information or email
questions to cpan-testers-discuss@perl.org
--
Dear Thomas Klausner,
This is a computer-generated report for App-TimeTracker-3.010
on perl 5.41.11, created by CPAN-Reporter-1.2020.
Thank you for uploading your work to CPAN. Congratulations!
All tests were successful.
Sections of this report:
* Tester comments
* Program output
* Prerequisites
* Environment and other context
------------------------------
TESTER COMMENTS
------------------------------
Additional comments from tester:
this report is from an automated smoke testing program
and was not reviewed by a human for accuracy
------------------------------
PROGRAM OUTPUT
------------------------------
Output from './Build test':
t/00-compile.t ................... ok
t/00-load.t ...................... ok
t/Command/core.t ................. ok
# Test initial bug report
# Test de facto bug
t/Command/rt_73859_daychange.t ... ok
t/Command/rt_88867_start_help.t .. ok
t/Proto/config.t ................. ok
t/Proto/run.t .................... ok
t/Task/current.t ................. ok
t/Task/helpers.t ................. ok
t/Task/start.t ................... ok
t/Task/storage_location.t ........ ok
t/TimeTracker/datetime_coerce.t .. ok
t/TimeTracker/find_task_files.t .. ok
t/TimeTracker/helpers.t .......... ok
All tests successful.
Files=14, Tests=137, 7 wallclock secs ( 0.04 usr 0.02 sys + 6.01 cusr 0.52 csys = 6.58 CPU)
Result: PASS
------------------------------
PREREQUISITES
------------------------------
Prerequisite modules loaded:
requires:
Module Need Have
------------------------------- ----- --------
Carp 0 1.54
constant 0 1.33
Data::Dumper 0 2.192
DateTime 0 1.66
DateTime::Format::Duration 0 1.04
DateTime::Format::ISO8601 0 0.17
Exporter 0 5.79
File::Copy 0 2.41
File::Find::Rule 0 0.34
File::HomeDir 0 1.006
Hash::Merge 0 0.302
JSON::XS 0 4.03
Moose 0 2.2207
Moose::Role 0 2.2207
Moose::Util::TypeConstraints 0 2.2207
MooseX::Getopt 0 0.78
MooseX::Storage 0 0.53
MooseX::Storage::Format::JSONpm 0 0.093094
MooseX::Types::Path::Class 0 0.09
namespace::autoclean 0 0.31
parent 0 0.244
Path::Class 0 0.37
Path::Class::Iterator 0 0.07
perl 5.010 5.041011
Scalar::Util 0 1.68_01
Term::ANSIColor 0 5.01
Text::Table 0 1.135
Try::Tiny 0 0.32
User::pwent 0 1.03
build_requires:
Module Need Have
------------------------------- ----- --------
File::Copy::Recursive 0 0.45
File::Spec 0 3.93
File::Temp 0 0.2311
IO::Capture::Stdout 0 0
IO::Handle 0 1.55
IPC::Open3 0 1.24
lib 0 0.65
Module::Build 0.28 0.4234
Module::Pluggable 0 6.3
Test::File 0 1.994
Test::MockTime 0 0.17
Test::More 0 1.302209
Test::Most 0 0.38
Test::Trap 0 0.3.5
------------------------------
ENVIRONMENT AND OTHER CONTEXT
------------------------------
Environment variables:
AUTOMATED_TESTING = 1
DATE_MANIP_TEST_DM5 = 1
LANG = C.UTF-8
LC_ALL = C
NONINTERACTIVE_TESTING = 1
NO_NETWORK_TESTING = 1
PATH = /home/cpan/bin/perl/bin:/home/cpan/bin:/sbin:/bin:/usr/sbin:/usr/bin:/usr/local/sbin:/usr/local/bin:/home/cpan/bin
PERL5LIB =
PERL5OPT =
PERL5_CPANPLUS_IS_RUNNING = 48463
PERL5_CPAN_IS_RUNNING = 48463
PERL_MM_USE_DEFAULT = 1
PERL_USE_UNSAFE_INC = 1
SHELL = /usr/local/bin/bash
TERM = xterm
TMPDIR = /home/cpan/tmp
Perl special variables (and OS-specific diagnostics, for MSWin32):
$^X = /home/cpan/bin/perl/bin/perl5.41.11
$UID/$EUID = 1002 / 1002
$GID = 1002 1002
$EGID = 1002 1002
Perl module toolchain versions installed:
Module Have
------------------- --------
CPAN 2.38
CPAN::Meta 2.150010
Cwd 3.92
ExtUtils::CBuilder 0.280240
ExtUtils::Command 7.72
ExtUtils::Install 2.22
ExtUtils::MakeMaker 7.72
ExtUtils::Manifest 1.75
ExtUtils::ParseXS 3.57
File::Spec 3.93
JSON 4.10
JSON::PP 4.16
Module::Build 0.4234
Module::Signature n/a
Parse::CPAN::Meta 2.150010
Test2 1.302209
Test::Harness 3.50
Test::More 1.302209
YAML 1.31
YAML::Syck 1.34
version 0.9933
--
Summary of my perl5 (revision 5 version 41 subversion 11) configuration:
Commit id: de36a92218b2118db3e5a47294474ce10ed4d379
Platform:
osname=freebsd
osvers=14.2-release-p1
archname=amd64-freebsd
uname='freebsd cjg-freebsd14 14.2-release-p1 freebsd 14.2-release-p1 generic amd64 '
config_args='-des -Dprefix=/home/cpan/bin/perl -Dscriptdir=/home/cpan/bin/perl/bin -Dusedevel -Duse64bitall'
hint=recommended
useposix=true
d_sigaction=define
useithreads=undef
usemultiplicity=undef
use64bitint=define
use64bitall=define
uselongdouble=undef
usemymalloc=n
default_inc_excludes_dot=define
Compiler:
cc='cc'
ccflags ='-DHAS_FPSETMASK -DHAS_FLOATINGPOINT_H -DNO_POSIX_2008_LOCALE -fno-strict-aliasing -pipe -fstack-protector-strong -I/usr/local/include'
optimize='-O2'
cppflags='-DHAS_FPSETMASK -DHAS_FLOATINGPOINT_H -DNO_POSIX_2008_LOCALE -fno-strict-aliasing -pipe -fstack-protector-strong -I/usr/local/include'
ccversion=''
gccversion='FreeBSD Clang 18.1.6 (https://github.com/llvm/llvm-project.git llvmorg-18.1.6-0-g1118c2e05e67)'
gccosandvers=''
intsize=4
longsize=8
ptrsize=8
doublesize=8
byteorder=12345678
doublekind=3
d_longlong=define
longlongsize=8
d_longdbl=define
longdblsize=16
longdblkind=3
ivtype='long'
ivsize=8
nvtype='double'
nvsize=8
Off_t='off_t'
lseeksize=8
alignbytes=8
prototype=define
Linker and Libraries:
ld='cc'
ldflags ='-Wl,-E -fstack-protector-strong -L/usr/local/lib'
libpth=/usr/lib /usr/local/lib /usr/lib/clang/18/lib
libs=-lpthread -lgdbm -ldl -lm -lcrypt -lutil -lc
perllibs=-lpthread -ldl -lm -lcrypt -lutil -lc
libc=
so=so
useshrplib=false
libperl=libperl.a
gnulibc_version=''
Dynamic Linking:
dlsrc=dl_dlopen.xs
dlext=so
d_dlsymun=undef
ccdlflags=' '
cccdlflags='-DPIC -fPIC'
lddlflags='-shared -L/usr/local/lib -fstack-protector-strong'
Characteristics of this binary (from libperl):
Compile-time options:
HAS_LONG_DOUBLE
HAS_STRTOLD
HAS_TIMES
PERLIO_LAYERS
PERL_COPY_ON_WRITE
PERL_DONT_CREATE_GVSV
PERL_HASH_FUNC_SIPHASH13
PERL_HASH_USE_SBOX32
PERL_MALLOC_WRAP
PERL_OP_PARENT
PERL_PRESERVE_IVUV
PERL_USE_DEVEL
PERL_USE_SAFE_PUTENV
USE_64_BIT_ALL
USE_64_BIT_INT
USE_LARGE_FILES
USE_LOCALE
USE_LOCALE_COLLATE
USE_LOCALE_CTYPE
USE_LOCALE_NUMERIC
USE_LOCALE_TIME
USE_PERLIO
USE_PERL_ATOF
Built under freebsd
Compiled at Mar 27 2025 22:08:58
%ENV:
PERL5LIB=""
PERL5OPT=""
PERL5_CPANPLUS_IS_RUNNING="48463"
PERL5_CPAN_IS_RUNNING="48463"
PERL_MM_USE_DEFAULT="1"
PERL_USE_UNSAFE_INC="1"
@INC:
/home/cpan/bin/perl/lib/site_perl/5.41.11/amd64-freebsd
/home/cpan/bin/perl/lib/site_perl/5.41.11
/home/cpan/bin/perl/lib/5.41.11/amd64-freebsd
/home/cpan/bin/perl/lib/5.41.11
.