Back
From: metabase:user:322078bc-2aae-11df-837a-5e0a49663a4f
Subject: PASS YAML-Syck-1.17 v5.10.0 NetBSD
Date: 2010-11-22T01:52:45Z
This distribution has been tested as part of the CPAN Testers
project, supporting the Perl programming language. See
http://wiki.cpantesters.org/ for more information or email
questions to cpan-testers-discuss@perl.org
--
Dear AVAR,
This is a computer-generated error report created automatically by
CPANPLUS, version 0.9010. Testers personal comments may appear
at the end of this report.
MAKE TEST passed: PERL_DL_NONLAZY=1 /home/cpan/pit/bare/perl-5.10.0/bin/perl "-MExtUtils::Command::MM" "-e" "test_harness(0, 'inc', 'blib/lib', 'blib/arch')" t/*.t t/*/*.t
t/1-basic.t ................... ok
t/11-loadfile.t ............... ok
t/12-dumpfile.t ............... ok
t/2-scalars.t ................. ok
t/3-objects.t ................. ok
t/4-perl_tag_scheme.t ......... ok
t/bug/rt-49404-double_free.t .. ok
t/bug/rt-54167.t .............. ok
t/json-basic.t ................ ok
t/json-circular-ref.t ......... ok
t/json-crlf.t ................. ok
t/json-empty.t ................ ok
t/json-indent.t ............... ok
t/json-loadfile.t ............. ok
t/json-minus.t ................ ok
t/json-newline.t .............. ok
t/json-null.t ................. ok
t/json-numbers.t .............. ok
t/json-refs.t ................. ok
t/json-singlequote.t .......... ok
t/leak.t ...................... ok
t/yaml-alias.t ................ ok
t/yaml-blessed-ref.t .......... ok
t/yaml-implicit-warnings.t .... ok
t/yaml-str-colon-first.t ...... ok
t/yaml-tie.t .................. ok
All tests successful.
Test Summary Report
-------------------
t/json-basic.t (Wstat: 0 Tests: 104 Failed: 0)
TODO passed: 81-82, 85-86, 93-94, 97-98
Files=26, Tests=586, 2 wallclock secs ( 0.16 usr 0.06 sys + 1.09 cusr 0.17 csys = 1.48 CPU)
Result: PASS
[MSG] [Mon Nov 22 02:01:23 2010] Sending test report for 'YAML-Syck-1.17'
This report was machine-generated by CPANPLUS::Dist::YACSmoke 0.58.
Powered by minismokebox version 0.36
------------------------------
ENVIRONMENT AND OTHER CONTEXT
------------------------------
Environment variables:
AUTOMATED_TESTING = 1
PATH = /home/cpan/bin:/bin:/sbin:/usr/bin:/usr/sbin:/usr/X11R7/bin:/usr/X11R6/bin:/usr/pkg/bin:/usr/pkg/sbin:/usr/games:/usr/local/bin:/usr/local/sbin
PERL5LIB = :/home/cpan/pit/bare/conf/perl-5.10.0/.cpanplus/5.10.0/build/Devel-Leak-0.03/blib/lib:/home/cpan/pit/bare/conf/perl-5.10.0/.cpanplus/5.10.0/build/Devel-Leak-0.03/blib/arch:/home/cpan/pit/bare/conf/perl-5.10.0/.cpanplus/5.10.0/build/YAML-Syck-1.17/blib/lib:/home/cpan/pit/bare/conf/perl-5.10.0/.cpanplus/5.10.0/build/YAML-Syck-1.17/blib/arch
PERL5_CPANPLUS_IS_RUNNING = 13633
PERL5_CPANPLUS_IS_VERSION = 0.9010
PERL5_MINISMOKEBOX = 0.36
PERL5_YACSMOKE_BASE = /home/cpan/pit/bare/conf/perl-5.10.0
PERL_EXTUTILS_AUTOINSTALL = --defaultdeps
PERL_MM_USE_DEFAULT = 1
SHELL = /usr/pkg/bin/bash
TERM = screen
Perl special variables (and OS-specific diagnostics, for MSWin32):
Perl: $^X = /home/cpan/pit/bare/perl-5.10.0/bin/perl
UID: $< = 1001
EUID: $> = 1001
GID: $( = 100 100
EGID: $) = 100 100
-------------------------------
--
Summary of my perl5 (revision 5 version 10 subversion 0) configuration:
Platform:
osname=netbsd, osvers=5.1_rc3, archname=amd64-netbsd
uname='netbsd fubar.bingosnet.co.uk 5.1_rc3 netbsd 5.1_rc3 (generic) #0: sat jun 12 20:26:01 utc 2010 builds@b8.netbsd.org:homebuildsabnetbsd-5-1-rc3amd64201006130031z-objhomebuildsabnetbsd-5-1-rc3srcsysarchamd64compilegeneric amd64 '
config_args='-des -Dprefix=/home/cpan/pit/bare/perl-5.10.0 -Dusemallocwrap=y -Dusemymalloc=n'
hint=recommended, useposix=true, d_sigaction=define
useithreads=undef, usemultiplicity=undef
useperlio=define, d_sfio=undef, uselargefiles=define, usesocks=undef
use64bitint=define, use64bitall=define, uselongdouble=undef
usemymalloc=n, bincompat5005=undef
Compiler:
cc='cc', ccflags ='-fno-strict-aliasing -pipe -I/usr/pkg/include',
optimize='-O',
cppflags='-fno-strict-aliasing -pipe -I/usr/pkg/include'
ccversion='', gccversion='4.1.3 20080704 prerelease (NetBSD nb2 20081120)', gccosandvers=''
intsize=4, longsize=8, ptrsize=8, doublesize=8, byteorder=12345678
d_longlong=define, longlongsize=8, d_longdbl=define, longdblsize=16
ivtype='long', ivsize=8, nvtype='double', nvsize=8, Off_t='off_t', lseeksize=8
alignbytes=8, prototype=define
Linker and Libraries:
ld='cc', ldflags =' -Wl,-rpath,/usr/pkg/lib -Wl,-rpath,/usr/local/lib -L/usr/pkg/lib'
libpth=/usr/pkg/lib /lib /usr/lib
libs=-lm -lcrypt -lutil -lc -lposix
perllibs=-lm -lcrypt -lutil -lc -lposix
libc=/lib/libc.so, so=so, useshrplib=false, libperl=libperl.a
gnulibc_version=''
Dynamic Linking:
dlsrc=dl_dlopen.xs, dlext=so, d_dlsymun=undef, ccdlflags='-Wl,-E '
cccdlflags='-DPIC -fPIC ', lddlflags='--whole-archive -shared -L/usr/pkg/lib'
Characteristics of this binary (from libperl):
Compile-time options: PERL_DONT_CREATE_GVSV PERL_MALLOC_WRAP USE_64_BIT_ALL
USE_64_BIT_INT USE_LARGE_FILES USE_PERLIO
Built under netbsd
Compiled at Sep 14 2010 22:19:49
%ENV:
PERL5LIB=":/home/cpan/pit/bare/conf/perl-5.10.0/.cpanplus/5.10.0/build/Devel-Leak-0.03/blib/lib:/home/cpan/pit/bare/conf/perl-5.10.0/.cpanplus/5.10.0/build/Devel-Leak-0.03/blib/arch:/home/cpan/pit/bare/conf/perl-5.10.0/.cpanplus/5.10.0/build/YAML-Syck-1.17/blib/lib:/home/cpan/pit/bare/conf/perl-5.10.0/.cpanplus/5.10.0/build/YAML-Syck-1.17/blib/arch"
PERL5_CPANPLUS_IS_RUNNING="13633"
PERL5_CPANPLUS_IS_VERSION="0.9010"
PERL5_MINISMOKEBOX="0.36"
PERL5_YACSMOKE_BASE="/home/cpan/pit/bare/conf/perl-5.10.0"
PERL_EXTUTILS_AUTOINSTALL="--defaultdeps"
PERL_MM_USE_DEFAULT="1"
@INC:
/home/cpan/pit/bare/conf/perl-5.10.0/.cpanplus/5.10.0/build/Devel-Leak-0.03/blib/lib
/home/cpan/pit/bare/conf/perl-5.10.0/.cpanplus/5.10.0/build/Devel-Leak-0.03/blib/arch
/home/cpan/pit/bare/conf/perl-5.10.0/.cpanplus/5.10.0/build/YAML-Syck-1.17/blib/lib
/home/cpan/pit/bare/conf/perl-5.10.0/.cpanplus/5.10.0/build/YAML-Syck-1.17/blib/arch
/home/cpan/pit/bare/perl-5.10.0/lib/5.10.0/amd64-netbsd
/home/cpan/pit/bare/perl-5.10.0/lib/5.10.0
/home/cpan/pit/bare/perl-5.10.0/lib/site_perl/5.10.0/amd64-netbsd
/home/cpan/pit/bare/perl-5.10.0/lib/site_perl/5.10.0
.