Back
From: metabase:user:30977d10-2aae-11df-837a-5e0a49663a4f
Subject: PASS Coat-Persistent-0.223 v5.15.1
Date: 2011-09-20T23:12:13Z
This distribution has been tested as part of the CPAN Testers
project, supporting the Perl programming language. See
http://wiki.cpantesters.org/ for more information or email
questions to cpan-testers-discuss@perl.org
--
Dear Alexis Sukrieh,
This is a computer-generated report for Coat-Persistent-0.223
on perl 5.15.1, created by CPAN-Reporter-1.1902.
Thank you for uploading your work to CPAN. Congratulations!
All tests were successful.
Sections of this report:
* Tester comments
* Program output
* Prerequisites
* Environment and other context
------------------------------
TESTER COMMENTS
------------------------------
Additional comments from tester:
this report is from an automated smoke testing program
and was not reviewed by a human for accuracy
------------------------------
PROGRAM OUTPUT
------------------------------
Output from 'C:\bin\dev\psdk\2003\Bin\nmake.EXE test':
Microsoft (R) Program Maintenance Utility Version 7.00.8882
Copyright (C) Microsoft Corp 1988-2000. All rights reserved.
D:\home\stro\perl\perl5151\bin\perl5.15.1.exe "-MExtUtils::Command::MM" "-e" "test_harness(0, 'blib\lib', 'blib\arch')" t/001_csv_binding.t t/002_subobjects.t t/003_classes_scope.t t/004_default_dbh.t t/005_context.t t/006_find_by_sql.t t/007_unique.t t/008_syntax.t t/009_cache.t t/009_required_read_only.t t/010_update.t t/011_create.t t/012_find.t t/013_find_or_create.t t/014_find_or_init.t t/015_meta.t t/016_import.t t/017_rename.t t/018_find_with_undef.t t/019_mix.t t/019_state_object.t t/022_storage_value.t t/023_types_and_coercions.t t/024_undefined_primary_key.t t/test-database/001_auto_increment.t
t/001_csv_binding.t ................... ok
t/002_subobjects.t .................... ok
t/003_classes_scope.t ................. ok
t/004_default_dbh.t ................... ok
t/005_context.t ....................... ok
t/006_find_by_sql.t ................... ok
t/007_unique.t ........................ ok
t/008_syntax.t ........................ ok
t/009_cache.t ......................... ok
t/009_required_read_only.t ............ ok
t/010_update.t ........................ ok
t/011_create.t ........................ ok
t/012_find.t .......................... ok
t/013_find_or_create.t ................ ok
t/014_find_or_init.t .................. ok
t/015_meta.t .......................... ok
t/016_import.t ........................ ok
t/017_rename.t ........................ ok
t/018_find_with_undef.t ............... ok
t/019_mix.t ........................... ok
t/019_state_object.t .................. ok
t/022_storage_value.t ................. ok
t/023_types_and_coercions.t ........... ok
t/024_undefined_primary_key.t ......... ok
t/test-database/001_auto_increment.t .. skipped: No MySQL database handle available
All tests successful.
Files=25, Tests=171, 37 wallclock secs ( 0.22 usr + 0.06 sys = 0.28 CPU)
Result: PASS
------------------------------
PREREQUISITES
------------------------------
Prerequisite modules loaded:
requires:
Module Need Have
------------------- ----- ------
Class::Date 0 1.1.10
Coat 0.334 0.334
DBD::CSV 0 0.31
DBI 0 1.616
DBIx::Sequence 0 1.5
List::Compare 0 0.37
SQL::Abstract 0 1.72
Test::Database 0 1.11
build_requires:
Module Need Have
------------------- ----- ------
ExtUtils::MakeMaker 0 6.58
------------------------------
ENVIRONMENT AND OTHER CONTEXT
------------------------------
Environment variables:
AUTOMATED_TESTING = 1
COMSPEC = C:\Windows\system32\cmd.exe
INCLUDE = C:\bin\dev\psdk\2003\Include\.;C:\bin\dev\vc\VC98\atl\include;C:\bin\dev\vc\VC98\mfc\include;C:\bin\dev\vc\VC98\include
LIB = C:\bin\dev\psdk\2003\Lib\.;C:\bin\dev\vc\VC98\mfc\lib;C:\bin\dev\vc\VC98\lib
NUMBER_OF_PROCESSORS = 2
PATH = C:\bin\apps\far\;C:\Program Files\AMD APP\bin\x86;C:\Program Files\Common Files\Microsoft Shared\Windows Live;C:\bin\sys\msys\bin\;c:\bin\graph\imagemagick-6.5.1-q16;C:\bin\dev\tortoiseSVN;C:\bin\dev\perl\site\bin;C:\bin\dev\perl\bin;c:\bin\run;C:\Windows\system32;C:\Windows;C:\Windows\System32\Wbem;C:\bin\sys\unixutils;C:\bin\dev\tortoiseSVN\bin;C:\bin\sys\sysinternals;C:\bin\db\oracle\instantclient_11_1;C:\Program Files\Intel\WiFi\bin\;C:\Program Files\Common Files\Intel\WirelessCommon\;\;C:\usr\bin;C:\bin\dev\psdk\2003\Bin\.;C:\bin\dev\psdk\2003\Bin\WinNT\.;C:\Windows\System32\WindowsPowerShell\v1.0\;C:\Program Files\Windows Live\Shared;C:\bin\dev\TortoiseGit\bin;C:\bin\db\mysql\bin;C:\Program Files\ATI Technologies\ATI.ACE\Core-Static;C:\bin\dev\vc\Common\Tools\WinNT;C:\bin\dev\vc\Common\MSDev98\Bin;C:\bin\dev\vc\Common\Tools;C:\bin\dev\vc\VC98\bin;C:\bin\db\postgresql\bin\;C:\bin\dev\psdk\2003\Bin\.;C:\bin\graph\ImageConverterPlus;C:\bin\graph\ImageConverterPlus\Microsoft.VC90.CRT;C:\bin\graph\ImageConverterPlus\Microsoft.VC90.MFC;C:\bin\sys\smartmontools\bin;C:\bin\comm\Nmap
PERL5LIB =
PERL5OPT =
PERL5_CPANPLUS_IS_RUNNING = 6572
PERL5_CPAN_IS_RUNNING = 6572
PERL5_CPAN_IS_RUNNING_IN_RECURSION = 3392,6572
PERL_CR_SMOKER_CURRENT = Coat-Persistent-0.223
PERL_EXTUTILS_AUTOINSTALL = --defaultdeps
PERL_MM_USE_DEFAULT = 1
PROCESSOR_IDENTIFIER = x86 Family 6 Model 15 Stepping 11, GenuineIntel
TEMP = C:\Windows\Temp
TMPDIR = C:\Windows\Temp
Perl special variables (and OS-specific diagnostics, for MSWin32):
$^X = D:\home\stro\perl\perl5151\bin\perl5.15.1.exe
$UID/$EUID = 0 / 0
$GID = 0
$EGID = 0
Win32::GetOSName = WinVista
Win32::GetOSVersion = Service Pack 2, 6, 0, 6002, 2, 2, 0, 768, 1
Win32::FsType = NTFS
Win32::IsAdminUser = 1
Perl module toolchain versions installed:
Module Have
------------------- --------
CPAN 1.97_51
Cwd 3.37
ExtUtils::CBuilder 0.280204
ExtUtils::Command 1.17
ExtUtils::Install 1.54
ExtUtils::MakeMaker 6.58
ExtUtils::Manifest 1.58
ExtUtils::ParseXS 3.00_01
File::Spec 3.33
Module::Build 0.3800
Module::Signature n/a
Test::Harness 3.23
Test::More 0.98
YAML 0.73
YAML::Syck n/a
version 0.94
--
Summary of my perl5 (revision 5 version 15 subversion 1) configuration:
Platform:
osname=MSWin32, osvers=6.0, archname=MSWin32-x86-multi-thread
uname=''
config_args='undef'
hint=recommended, useposix=true, d_sigaction=undef
useithreads=define, usemultiplicity=define
useperlio=define, d_sfio=undef, uselargefiles=define, usesocks=undef
use64bitint=undef, use64bitall=undef, uselongdouble=undef
usemymalloc=n, bincompat5005=undef
Compiler:
cc='cl', ccflags ='-nologo -GF -W3 -MD -Zi -DNDEBUG -O1 -DWIN32 -D_CONSOLE -DNO_STRICT -DPERL_TEXTMODE_SCRIPTS -DPERL_IMPLICIT_CONTEXT -DPERL_IMPLICIT_SYS -DUSE_PERLIO -D_USE_32BIT_TIME_T',
optimize='-MD -Zi -DNDEBUG -O1',
cppflags='-DWIN32'
ccversion='12.00.8804', gccversion='', gccosandvers=''
intsize=4, longsize=4, ptrsize=4, doublesize=8, byteorder=1234
d_longlong=undef, longlongsize=8, d_longdbl=define, longdblsize=8
ivtype='long', ivsize=4, nvtype='double', nvsize=8, Off_t='__int64', lseeksize=8
alignbytes=8, prototype=define
Linker and Libraries:
ld='link', ldflags ='-nologo -nodefaultlib -debug -opt:ref,icf -libpath:"\home\stro\perl\perl5151\lib\CORE" -machine:x86'
libpth=\lib
libs=oldnames.lib kernel32.lib user32.lib gdi32.lib winspool.lib comdlg32.lib advapi32.lib shell32.lib ole32.lib oleaut32.lib netapi32.lib uuid.lib ws2_32.lib mpr.lib winmm.lib version.lib odbc32.lib odbccp32.lib comctl32.lib msvcrt.lib
perllibs=oldnames.lib kernel32.lib user32.lib gdi32.lib winspool.lib comdlg32.lib advapi32.lib shell32.lib ole32.lib oleaut32.lib netapi32.lib uuid.lib ws2_32.lib mpr.lib winmm.lib version.lib odbc32.lib odbccp32.lib comctl32.lib msvcrt.lib
libc=msvcrt.lib, so=dll, useshrplib=true, libperl=perl515.lib
gnulibc_version=''
Dynamic Linking:
dlsrc=dl_win32.xs, dlext=dll, d_dlsymun=undef, ccdlflags=' '
cccdlflags=' ', lddlflags='-dll -nologo -nodefaultlib -debug -opt:ref,icf -libpath:"\home\stro\perl\perl5151\lib\CORE" -machine:x86'
Characteristics of this binary (from libperl):
Compile-time options: HAS_TIMES HAVE_INTERP_INTERN MULTIPLICITY
PERLIO_LAYERS PERL_DONT_CREATE_GVSV
PERL_IMPLICIT_CONTEXT PERL_IMPLICIT_SYS
PERL_MALLOC_WRAP PERL_PRESERVE_IVUV PL_OP_SLAB_ALLOC
USE_ITHREADS USE_LARGE_FILES USE_LOCALE
USE_LOCALE_COLLATE USE_LOCALE_CTYPE
USE_LOCALE_NUMERIC USE_PERLIO USE_PERL_ATOF
Built under MSWin32
Compiled at Jul 29 2011 18:54:10
%ENV:
PERL5_CPANPLUS_IS_RUNNING="6572"
PERL5_CPAN_IS_RUNNING="6572"
PERL5_CPAN_IS_RUNNING_IN_RECURSION="3392,6572"
PERL_CR_SMOKER_CURRENT="Coat-Persistent-0.223"
PERL_EXTUTILS_AUTOINSTALL="--defaultdeps"
PERL_MM_USE_DEFAULT="1"
@INC:
D:/home/stro/perl/perl5151/site/lib
D:/home/stro/perl/perl5151/lib
.