Dist-Zilla-Plugin-GenerateFile-ShareDir v0.007 Perl 5 v5.37.11 darwin-2level

Status
Pass
From
Dist
Dist-Zilla-Plugin-GenerateFile-ShareDir v0.007
Platform
Perl 5 v5.37.11 darwin-2level
Date
2023-04-22 20:28:10
ID
32fb9fc4-e14c-11ed-b6ac-8dd8043abf4c
This distribution has been tested as part of the CPAN Testers
project, supporting the Perl programming language.  See
http://wiki.cpantesters.org/ for more information or email
questions to cpan-testers-discuss@perl.org


--
Dear ETHER,

This is a computer-generated report for Dist-Zilla-Plugin-GenerateFile-ShareDir-0.007
on perl 5.37.11, created by App::cpanminus::reporter 0.18 (1.7046).

Thank you for uploading your work to CPAN.  Congratulations!
All tests were successful.

Sections of this report:

    * Tester comments
    * Program output
    * Prerequisites
    * Environment and other context

------------------------------
TESTER COMMENTS
------------------------------

Additional comments from tester:

none provided

------------------------------
PROGRAM OUTPUT
------------------------------

Output from '':

Building and testing Dist-Zilla-Plugin-GenerateFile-ShareDir-0.007
do "t/00-report-prereqs.dd" failed, '.' is no longer in @INC; did you mean do "./t/00-report-prereqs.dd"? at t/00-report-prereqs.t line 71.
# 
# Versions for all modules listed in MYMETA.json (including optional ones):
# 
# === Configure Requires ===
# 
#     Module               Want  Have
#     ------------------- ----- -----
#     Module::Build::Tiny 0.034 0.043
# 
# === Test Requires ===
# 
#     Module               Want     Have
#     -------------------- ---- --------
#     ExtUtils::MakeMaker   any     7.70
#     File::Spec            any     3.88
#     Test::DZil            any    6.030
#     Test::Deep            any    1.204
#     Test::File::ShareDir  any 1.001002
#     Test::More           0.88 1.302194
#     if                    any   0.0610
#     utf8                  any     1.25
# 
# === Test Recommends ===
# 
#     Module         Want     Have
#     ---------- -------- --------
#     CPAN::Meta 2.120900 2.150010
# 
# === Runtime Requires ===
# 
#     Module                              Want   Have
#     ----------------------------------- ---- ------
#     Dist::Zilla::File::InMemory          any  6.030
#     Dist::Zilla::Role::AfterBuild        any  6.030
#     Dist::Zilla::Role::AfterRelease      any  6.030
#     Dist::Zilla::Role::FileGatherer      any  6.030
#     Dist::Zilla::Role::FileMunger        any  6.030
#     Dist::Zilla::Role::RepoFileInjector  any  0.009
#     Dist::Zilla::Role::TextTemplate      any  6.030
#     Encode                               any   3.19
#     File::ShareDir                       any  1.118
#     Moose                                any 2.2203
#     Moose::Util                          any 2.2203
#     Moose::Util::TypeConstraints         any 2.2203
#     MooseX::SlurpyConstructor            1.2   1.30
#     Path::Tiny                          0.04  0.144
#     namespace::autoclean                 any   0.29
#     strict                               any   1.12
#     warnings                             any   1.64
# 
# === Other Modules ===
# 
#     Module           Have
#     ------------- -------
#     Pod::Coverage missing
# 
t/00-report-prereqs.t .. ok
t/zzz-check-breaks.t ... ok
->subdir called on a Dist::Zilla::Path object; this will cease to work in Dist::Zilla v7; downstream code should be updated to use Path::Tiny API, not Path::Class at t/02-other-encoding.t line 41.
->subdir called on a Dist::Zilla::Path object; this will cease to work in Dist::Zilla v7; downstream code should be updated to use Path::Tiny API, not Path::Class at t/03-write-to-root.t line 44.
->subdir called on a Dist::Zilla::Path object; this will cease to work in Dist::Zilla v7; downstream code should be updated to use Path::Tiny API, not Path::Class at t/03-write-to-root.t line 48.
->subdir called on a Dist::Zilla::Path object; this will cease to work in Dist::Zilla v7; downstream code should be updated to use Path::Tiny API, not Path::Class at t/01-basic.t line 42.
t/02-other-encoding.t .. ok
t/01-basic.t ........... ok
t/03-write-to-root.t ... ok
All tests successful.
Files=5, Tests=23,  0 wallclock secs ( 0.01 usr  0.00 sys +  1.01 cusr  0.10 csys =  1.12 CPU)
Result: PASS

------------------------------
PREREQUISITES
------------------------------

Prerequisite modules loaded:

runtime:

    Module                              Need  Have    
    ----------------------------------- ----- --------
    Dist::Zilla::File::InMemory         0     6.030   
    Dist::Zilla::Role::AfterBuild       0     6.030   
    Dist::Zilla::Role::AfterRelease     0     6.030   
    Dist::Zilla::Role::FileGatherer     0     6.030   
    Dist::Zilla::Role::FileMunger       0     6.030   
    Dist::Zilla::Role::RepoFileInjector 0     0.009   
    Dist::Zilla::Role::TextTemplate     0     6.030   
    Encode                              0     3.19    
    File::ShareDir                      0     1.118   
    Moose                               0     2.2203  
    Moose::Util                         0     2.2203  
    Moose::Util::TypeConstraints        0     2.2203  
    MooseX::SlurpyConstructor           1.2   1.30    
    namespace::autoclean                0     0.29    
    Path::Tiny                          0.04  0.144   
    perl                                5.008 5.037011
    strict                              0     1.12    
    warnings                            0     1.64    

configure:

    Module                              Need  Have    
    ----------------------------------- ----- --------
    Module::Build::Tiny                 0.034 0.043   
    perl                                5.006 5.037011


------------------------------
ENVIRONMENT AND OTHER CONTEXT
------------------------------

Environment variables:

    HARNESS_OPTIONS = j6:c
    LANG = en_CA.UTF-8
    LC_ALL = en_CA.UTF-8
    LC_CTYPE = en_CA.UTF-8
    NO_NETWORK_TESTING = 1
    PATH = /Volumes/chambord/Users/ether/.perlbrew/libs/37.11@std/bin:/Volumes/chambord/Users/ether/perl5/perlbrew/bin:/Volumes/chambord/Users/ether/perl5/perlbrew/perls/37.11/bin:/Volumes/chambord/Users/ether/bin:/Volumes/chambord/Users/ether/git/misc/install/advocaat/bin:/Volumes/chambord/Users/ether/git/misc/install/generic/bin:/opt/local/bin:/opt/local/sbin:/Volumes/chambord/Users/ether/git/git-hub/lib:/usr/local/bin:/System/Cryptexes/App/usr/bin:/usr/bin:/bin:/usr/sbin:/sbin:/Library/Apple/usr/bin:/var/run/com.apple.security.cryptexd/codex.system/bootstrap/usr/local/bin:/var/run/com.apple.security.cryptexd/codex.system/bootstrap/usr/bin:/var/run/com.apple.security.cryptexd/codex.system/bootstrap/usr/appleinternal/bin:/opt/local/share/git-core/contrib/workdir
    PERL5LIB = /Volumes/chambord/Users/ether/.perlbrew/libs/37.11@std/lib/perl5
    PERLBREW_HOME = /Volumes/chambord/Users/ether/.perlbrew
    PERLBREW_LIB = std
    PERLBREW_MANPATH = /Volumes/chambord/Users/ether/.perlbrew/libs/37.11@std/man:/Volumes/chambord/Users/ether/perl5/perlbrew/perls/37.11/man
    PERLBREW_PATH = /Volumes/chambord/Users/ether/.perlbrew/libs/37.11@std/bin:/Volumes/chambord/Users/ether/perl5/perlbrew/bin:/Volumes/chambord/Users/ether/perl5/perlbrew/perls/37.11/bin
    PERLBREW_PERL = 37.11
    PERLBREW_ROOT = /Volumes/chambord/Users/ether/perl5/perlbrew
    PERLBREW_SHELLRC_VERSION = 0.96
    PERLBREW_VERSION = 0.96
    PERLDOC = -oman
    PERLDOC_PAGER = less -sicMr
    PERL_AUTOINSTALL_PREFER_CPAN = 1
    PERL_INSTALL_QUIET = 1
    PERL_LOCAL_LIB_ROOT = /Volumes/chambord/Users/ether/.perlbrew/libs/37.11@std
    PERL_MB_OPT = --install_base /Volumes/chambord/Users/ether/.perlbrew/libs/37.11@std
    PERL_MM_OPT = INSTALL_BASE=/Volumes/chambord/Users/ether/.perlbrew/libs/37.11@std
    PERL_TEST_HARNESS_ASAP = 1
    PERL_USE_UNSAFE_INC = 0
    SHELL = /bin/bash
    TERM = xterm-color

Perl special variables (and OS-specific diagnostics, for MSWin32):

    EGID = 20 20 12 61 79 80 81 98 701 704 703 702 33 100 204 250 395
    EUID = 502
    EXECUTABLE_NAME = /Volumes/chambord/Users/ether/perl5/perlbrew/perls/37.11/bin/perl5.37.11
    GID = 20 20 12 61 79 80 81 98 701 704 703 702 33 100 204 250 395
    UID = 502

Perl module toolchain versions installed:

    Module              Have    
    ------------------- --------
    CPAN                2.34    
    CPAN::Meta          2.150010
    Cwd                 3.89    
    ExtUtils::CBuilder  0.280238
    ExtUtils::Command   7.70    
    ExtUtils::Install   2.22    
    ExtUtils::MakeMaker 7.70    
    ExtUtils::Manifest  1.73    
    ExtUtils::ParseXS   3.50    
    File::Spec          3.88    
    JSON                4.10    
    JSON::PP            4.16    
    Module::Build       0.4232  
    Module::Signature   n/a     
    Parse::CPAN::Meta   2.150010
    Test::Harness       3.44    
    Test::More          1.302194
    YAML                1.30    
    YAML::Syck          1.34    
    version             0.9929  


--

Summary of my perl5 (revision 5 version 37 subversion 11) configuration:
   
  Platform:
    osname=darwin
    osvers=22.4.0
    archname=darwin-2level
    uname='darwin advocaat 22.4.0 darwin kernel version 22.4.0: mon mar 6 21:01:02 pst 2023; root:xnu-8796.101.5~3release_arm64_t8112 arm64 '
    config_args='-de -Dprefix=/Volumes/chambord/Users/ether/perl5/perlbrew/perls/37.11 -Dman1dir=none -Dman3dir=none -Dusedevel -Aeval:scriptdir=/Volumes/chambord/Users/ether/perl5/perlbrew/perls/37.11/bin'
    hint=recommended
    useposix=true
    d_sigaction=define
    useithreads=undef
    usemultiplicity=undef
    use64bitint=define
    use64bitall=define
    uselongdouble=undef
    usemymalloc=n
    default_inc_excludes_dot=define
  Compiler:
    cc='cc'
    ccflags ='-fno-common -DPERL_DARWIN -mmacosx-version-min=13.3 -fno-strict-aliasing -pipe -fstack-protector-strong -I/opt/local/include'
    optimize='-O3'
    cppflags='-fno-common -DPERL_DARWIN -mmacosx-version-min=13.3 -fno-strict-aliasing -pipe -fstack-protector-strong -I/opt/local/include'
    ccversion=''
    gccversion='Apple LLVM 14.0.3 (clang-1403.0.22.14.1)'
    gccosandvers=''
    intsize=4
    longsize=8
    ptrsize=8
    doublesize=8
    byteorder=12345678
    doublekind=3
    d_longlong=define
    longlongsize=8
    d_longdbl=define
    longdblsize=8
    longdblkind=0
    ivtype='long'
    ivsize=8
    nvtype='double'
    nvsize=8
    Off_t='off_t'
    lseeksize=8
    alignbytes=8
    prototype=define
  Linker and Libraries:
    ld='cc'
    ldflags =' -mmacosx-version-min=13.3 -fstack-protector-strong -L/opt/local/lib'
    libpth=/Applications/Xcode.app/Contents/Developer/Toolchains/XcodeDefault.xctoolchain/usr/lib/clang/14.0.3/lib /Applications/Xcode.app/Contents/Developer/Platforms/MacOSX.platform/Developer/SDKs/MacOSX.sdk/usr/lib /Applications/Xcode.app/Contents/Developer/Toolchains/XcodeDefault.xctoolchain/usr/lib /opt/local/lib /usr/lib
    libs=-lgdbm
    perllibs=
    libc=
    so=dylib
    useshrplib=false
    libperl=libperl.a
    gnulibc_version=''
  Dynamic Linking:
    dlsrc=dl_dlopen.xs
    dlext=bundle
    d_dlsymun=undef
    ccdlflags=' '
    cccdlflags=' '
    lddlflags=' -mmacosx-version-min=13.3 -bundle -undefined dynamic_lookup -L/opt/local/lib -fstack-protector-strong'


Characteristics of this binary (from libperl): 
  Compile-time options:
    HAS_LONG_DOUBLE
    HAS_STRTOLD
    HAS_TIMES
    PERLIO_LAYERS
    PERL_COPY_ON_WRITE
    PERL_DONT_CREATE_GVSV
    PERL_HASH_FUNC_SIPHASH13
    PERL_HASH_USE_SBOX32
    PERL_MALLOC_WRAP
    PERL_OP_PARENT
    PERL_PRESERVE_IVUV
    PERL_USE_DEVEL
    PERL_USE_SAFE_PUTENV
    USE_64_BIT_ALL
    USE_64_BIT_INT
    USE_LARGE_FILES
    USE_LOCALE
    USE_LOCALE_COLLATE
    USE_LOCALE_CTYPE
    USE_LOCALE_NUMERIC
    USE_LOCALE_TIME
    USE_PERLIO
    USE_PERL_ATOF
  Built under darwin
  Compiled at Apr 22 2023 12:55:24
  %ENV:
    PERL5LIB="/Volumes/chambord/Users/ether/.perlbrew/libs/37.11@std/lib/perl5"
    PERLBREW_HOME="/Volumes/chambord/Users/ether/.perlbrew"
    PERLBREW_LIB="std"
    PERLBREW_MANPATH="/Volumes/chambord/Users/ether/.perlbrew/libs/37.11@std/man:/Volumes/chambord/Users/ether/perl5/perlbrew/perls/37.11/man"
    PERLBREW_PATH="/Volumes/chambord/Users/ether/.perlbrew/libs/37.11@std/bin:/Volumes/chambord/Users/ether/perl5/perlbrew/bin:/Volumes/chambord/Users/ether/perl5/perlbrew/perls/37.11/bin"
    PERLBREW_PERL="37.11"
    PERLBREW_ROOT="/Volumes/chambord/Users/ether/perl5/perlbrew"
    PERLBREW_SHELLRC_VERSION="0.96"
    PERLBREW_VERSION="0.96"
    PERLDOC="-oman"
    PERLDOC_PAGER="less -sicMr"
    PERL_AUTOINSTALL_PREFER_CPAN="1"
    PERL_INSTALL_QUIET="1"
    PERL_LOCAL_LIB_ROOT="/Volumes/chambord/Users/ether/.perlbrew/libs/37.11@std"
    PERL_MB_OPT="--install_base /Volumes/chambord/Users/ether/.perlbrew/libs/37.11@std"
    PERL_MM_OPT="INSTALL_BASE=/Volumes/chambord/Users/ether/.perlbrew/libs/37.11@std"
    PERL_TEST_HARNESS_ASAP="1"
    PERL_USE_UNSAFE_INC="0"
  @INC:
    /Volumes/chambord/Users/ether/.perlbrew/libs/37.11@std/lib/perl5/darwin-2level
    /Volumes/chambord/Users/ether/.perlbrew/libs/37.11@std/lib/perl5
    /Volumes/chambord/Users/ether/perl5/perlbrew/perls/37.11/lib/site_perl/5.37.11/darwin-2level
    /Volumes/chambord/Users/ether/perl5/perlbrew/perls/37.11/lib/site_perl/5.37.11
    /Volumes/chambord/Users/ether/perl5/perlbrew/perls/37.11/lib/5.37.11/darwin-2level
    /Volumes/chambord/Users/ether/perl5/perlbrew/perls/37.11/lib/5.37.11