Back
From: metabase:user:314402c4-2aae-11df-837a-5e0a49663a4f
Subject: PASS CatalystX-ComponentsFromConfig-1.006 v5.16.3 GNU/Linux
Date: 2014-11-25T17:48:00Z
This distribution has been tested as part of the CPAN Testers
project, supporting the Perl programming language. See
http://wiki.cpantesters.org/ for more information or email
questions to cpan-testers-discuss@perl.org
--
Dear Gianni Ceccarelli,
This is a computer-generated report for CatalystX-ComponentsFromConfig-1.006
on perl 5.16.3, created by CPAN-Reporter-1.2011.
Thank you for uploading your work to CPAN. Congratulations!
All tests were successful.
Sections of this report:
* Tester comments
* Program output
* Prerequisites
* Environment and other context
------------------------------
TESTER COMMENTS
------------------------------
Additional comments from tester:
none provided
------------------------------
PROGRAM OUTPUT
------------------------------
Output from '/usr/bin/make test':
PERL_DL_NONLAZY=1 "/bbbike/perl-5.16.3/bin/perl5.16.3" "-MExtUtils::Command::MM" "-MTest::Harness" "-e" "undef *Test::Harness::Switches; test_harness(0, 'blib/lib', 'blib/arch')" t/*.t
t/more.t .................. ok
t/release-no-tabs.t ....... skipped: these tests are for release candidate testing
t/release-pod-coverage.t .. skipped: these tests are for release candidate testing
t/release-pod-syntax.t .... skipped: these tests are for release candidate testing
[warn] Attempted to use view 'TestApp::View::bar', but does not exist
t/test.t .................. ok
All tests successful.
Files=5, Tests=6, 2 wallclock secs ( 0.02 usr 0.03 sys + 1.60 cusr 0.16 csys = 1.81 CPU)
Result: PASS
------------------------------
PREREQUISITES
------------------------------
Prerequisite modules loaded:
requires:
Module Need Have
------------------------------ ---- --------
Catalyst::Model 0 0
Catalyst::View 0 0
CatalystX::InjectComponent 0 0.025
Moose 0 2.1401
Moose::Role 0 2.1401
Moose::Util 0 2.1401
Moose::Util::TypeConstraints 0 2.1401
MooseX::Role::Parameterized 0 1.08
MooseX::Traits::Pluggable 0.10 0.12
MooseX::Types::Common::String 0 0.001012
MooseX::Types::LoadableClass 0 0.013
MooseX::Types::Moose 0 0.45
namespace::autoclean 0 0.21
build_requires:
Module Need Have
------------------------------ ---- --------
Catalyst 0 5.90077
Catalyst::Plugin::ConfigLoader 0 0.34
Catalyst::Runtime 5.80 5.90077
Config::General 0 2.56
ExtUtils::MakeMaker 0 7.00
lib 0 0.63
Path::Class 0 0.35
Test::Deep 0 0.113
Test::More 0 1.001009
configure_requires:
Module Need Have
------------------------------ ---- --------
ExtUtils::MakeMaker 0 7.00
------------------------------
ENVIRONMENT AND OTHER CONTEXT
------------------------------
Environment variables:
DBIC_NO_WARN_BAD_PERL = 1
LANG = C
LC_ALL = de_DE.UTF-8
PATH = /usr/local/bin:/usr/bin:/bin:/usr/local/sbin:/usr/sbin:/sbin:/home/eserte/bin/linux-gnu:/home/eserte/bin/sh:/home/eserte/bin:/usr/games:/home/eserte/devel:/home/eserte/src/srezic-misc/scripts
PERL5LIB = /home/eserte/.cpan/build/Date-Holidays-RU-0.02-e9bvH7/blib/arch:/home/eserte/.cpan/build/Date-Holidays-RU-0.02-e9bvH7/blib/lib:/home/eserte/.cpan/build/Net-Google-CalendarV3-0.12-taWxNj/blib/arch:/home/eserte/.cpan/build/Net-Google-CalendarV3-0.12-taWxNj/blib/lib:/home/eserte/.cpan/build/MARC-Transform-0.003006-1ZsuIW/blib/arch:/home/eserte/.cpan/build/MARC-Transform-0.003006-1ZsuIW/blib/lib:/home/eserte/.cpan/build/Test-Number-Delta-1.06-Togs_5/blib/arch:/home/eserte/.cpan/build/Test-Number-Delta-1.06-Togs_5/blib/lib:/home/eserte/.cpan/build/HTML-Strip-dVAG8J/blib/arch:/home/eserte/.cpan/build/HTML-Strip-dVAG8J/blib/lib:/home/eserte/.cpan/build/Acme-Math-XS-XS-0.0.3-okxVU0/blib/arch:/home/eserte/.cpan/build/Acme-Math-XS-XS-0.0.3-okxVU0/blib/lib
PERL5OPT =
PERL5_CPANPLUS_IS_RUNNING = 14837
PERL5_CPAN_IS_RUNNING = 14837
PERL5_CPAN_IS_RUNNING_IN_RECURSION = 14759,14837
PERLDOC = -MPod::Perldoc::ToTextOverstrike
PERL_BATCH = yes
PERL_CPAN_REPORTER_CONFIG = /var/tmp/cpansmoker-1001/jDZs4ikqH1_config.ini
PERL_EXTUTILS_AUTOINSTALL = --defaultdeps
PERL_HTML_DISPLAY_CLASS = HTML::Display::Mozilla
PERL_PARALLEL_SMOKER = yes
SHELL = /bin/zsh
TERM = screen
TMPDIR = /var/tmp/cpansmoker-1001
Perl special variables (and OS-specific diagnostics, for MSWin32):
$^X = /bbbike/perl-5.16.3/bin/perl5.16.3
$UID/$EUID = 1001 / 1001
$GID = 1001 109 1001
$EGID = 1001 109 1001
Perl module toolchain versions installed:
Module Have
------------------- --------
CPAN 1.9800
CPAN::Meta 2.142690
Cwd 3.47
ExtUtils::CBuilder 0.280217
ExtUtils::Command 1.17
ExtUtils::Install 2.04
ExtUtils::MakeMaker 7.00
ExtUtils::Manifest 1.68
ExtUtils::ParseXS 3.24
File::Spec 3.47
JSON 2.90
JSON::PP 2.27203
Module::Build 0.4210
Module::Signature 0.73
Parse::CPAN::Meta 1.4414
Test::Harness 3.34
Test::More 1.001009
YAML 1.13
YAML::Syck 1.27
version 0.9909
--
Summary of my perl5 (revision 5 version 16 subversion 3) configuration:
Platform:
osname=linux, osvers=3.2.0-4-amd64, archname=x86_64-linux
uname='linux eserte 3.2.0-4-amd64 #1 smp debian 3.2.57-3 x86_64 gnulinux '
config_args='-ds -e -Dprefix=/opt/perl-5.16.3'
hint=recommended, useposix=true, d_sigaction=define
useithreads=undef, usemultiplicity=undef
useperlio=define, d_sfio=undef, uselargefiles=define, usesocks=undef
use64bitint=define, use64bitall=define, uselongdouble=undef
usemymalloc=n, bincompat5005=undef
Compiler:
cc='cc', ccflags ='-fno-strict-aliasing -pipe -fstack-protector -I/usr/local/include -D_LARGEFILE_SOURCE -D_FILE_OFFSET_BITS=64',
optimize='-O2',
cppflags='-fno-strict-aliasing -pipe -fstack-protector -I/usr/local/include'
ccversion='', gccversion='4.7.2', gccosandvers=''
intsize=4, longsize=8, ptrsize=8, doublesize=8, byteorder=12345678
d_longlong=define, longlongsize=8, d_longdbl=define, longdblsize=16
ivtype='long', ivsize=8, nvtype='double', nvsize=8, Off_t='off_t', lseeksize=8
alignbytes=8, prototype=define
Linker and Libraries:
ld='cc', ldflags =' -fstack-protector -L/usr/local/lib'
libpth=/usr/local/lib /lib/x86_64-linux-gnu /lib/../lib /usr/lib/x86_64-linux-gnu /usr/lib/../lib /lib /usr/lib
libs=-lnsl -ldb -ldl -lm -lcrypt -lutil -lc
perllibs=-lnsl -ldl -lm -lcrypt -lutil -lc
libc=, so=so, useshrplib=false, libperl=libperl.a
gnulibc_version='2.13'
Dynamic Linking:
dlsrc=dl_dlopen.xs, dlext=so, d_dlsymun=undef, ccdlflags='-Wl,-E'
cccdlflags='-fPIC', lddlflags='-shared -O2 -L/usr/local/lib -fstack-protector'
Characteristics of this binary (from libperl):
Compile-time options: HAS_TIMES PERLIO_LAYERS PERL_DONT_CREATE_GVSV
PERL_MALLOC_WRAP PERL_PRESERVE_IVUV USE_64_BIT_ALL
USE_64_BIT_INT USE_LARGE_FILES USE_LOCALE
USE_LOCALE_COLLATE USE_LOCALE_CTYPE
USE_LOCALE_NUMERIC USE_PERLIO USE_PERL_ATOF
Built under linux
Compiled at May 15 2014 11:12:25
%ENV:
PERL5LIB="/home/eserte/.cpan/build/Date-Holidays-RU-0.02-e9bvH7/blib/arch:/home/eserte/.cpan/build/Date-Holidays-RU-0.02-e9bvH7/blib/lib:/home/eserte/.cpan/build/Net-Google-CalendarV3-0.12-taWxNj/blib/arch:/home/eserte/.cpan/build/Net-Google-CalendarV3-0.12-taWxNj/blib/lib:/home/eserte/.cpan/build/MARC-Transform-0.003006-1ZsuIW/blib/arch:/home/eserte/.cpan/build/MARC-Transform-0.003006-1ZsuIW/blib/lib:/home/eserte/.cpan/build/Test-Number-Delta-1.06-Togs_5/blib/arch:/home/eserte/.cpan/build/Test-Number-Delta-1.06-Togs_5/blib/lib:/home/eserte/.cpan/build/HTML-Strip-dVAG8J/blib/arch:/home/eserte/.cpan/build/HTML-Strip-dVAG8J/blib/lib:/home/eserte/.cpan/build/Acme-Math-XS-XS-0.0.3-okxVU0/blib/arch:/home/eserte/.cpan/build/Acme-Math-XS-XS-0.0.3-okxVU0/blib/lib"
PERL5OPT=""
PERL5_CPANPLUS_IS_RUNNING="14837"
PERL5_CPAN_IS_RUNNING="14837"
PERL5_CPAN_IS_RUNNING_IN_RECURSION="14759,14837"
PERLDOC="-MPod::Perldoc::ToTextOverstrike"
PERL_BATCH="yes"
PERL_CPAN_REPORTER_CONFIG="/var/tmp/cpansmoker-1001/jDZs4ikqH1_config.ini"
PERL_EXTUTILS_AUTOINSTALL="--defaultdeps"
PERL_HTML_DISPLAY_CLASS="HTML::Display::Mozilla"
PERL_PARALLEL_SMOKER="yes"
@INC:
/home/eserte/.cpan/build/Date-Holidays-RU-0.02-e9bvH7/blib/arch
/home/eserte/.cpan/build/Date-Holidays-RU-0.02-e9bvH7/blib/lib
/home/eserte/.cpan/build/Net-Google-CalendarV3-0.12-taWxNj/blib/arch
/home/eserte/.cpan/build/Net-Google-CalendarV3-0.12-taWxNj/blib/lib
/home/eserte/.cpan/build/MARC-Transform-0.003006-1ZsuIW/blib/arch
/home/eserte/.cpan/build/MARC-Transform-0.003006-1ZsuIW/blib/lib
/home/eserte/.cpan/build/Test-Number-Delta-1.06-Togs_5/blib/arch
/home/eserte/.cpan/build/Test-Number-Delta-1.06-Togs_5/blib/lib
/home/eserte/.cpan/build/HTML-Strip-dVAG8J/blib/arch
/home/eserte/.cpan/build/HTML-Strip-dVAG8J/blib/lib
/home/eserte/.cpan/build/Acme-Math-XS-XS-0.0.3-okxVU0/blib/arch
/home/eserte/.cpan/build/Acme-Math-XS-XS-0.0.3-okxVU0/blib/lib
/opt/perl-5.16.3/lib/site_perl/5.16.3/x86_64-linux
/opt/perl-5.16.3/lib/site_perl/5.16.3
/opt/perl-5.16.3/lib/5.16.3/x86_64-linux
/opt/perl-5.16.3/lib/5.16.3
.