Back
From: metabase:user:42ae0f1c-aa62-11df-86ee-d00500b589b5
Subject: PASS Test-Command-0.11 v5.20.1
Date: 2015-02-26T20:33:36Z
This distribution has been tested as part of the CPAN Testers
project, supporting the Perl programming language. See
http://wiki.cpantesters.org/ for more information or email
questions to cpan-testers-discuss@perl.org
--
Dear Daniel B. Boorstein,
This is a computer-generated report for Test-Command-0.11
on perl 5.20.1, created by CPAN-Reporter-1.2011.
Thank you for uploading your work to CPAN. Congratulations!
All tests were successful.
Sections of this report:
* Tester comments
* Program output
* Prerequisites
* Environment and other context
------------------------------
TESTER COMMENTS
------------------------------
Additional comments from tester:
none provided
------------------------------
PROGRAM OUTPUT
------------------------------
Output from 'C:\Perl64\bin\perl.exe ./Build test':
# Testing Test::Command 0.11, Perl 5.020001, C:\Perl64\bin\perl.exe
t\00-load.t ....... ok
t\01-funcs.t ...... ok
t\02-exit.t ....... ok
t\03-stdout.t ..... ok
t\04-stderr.t ..... ok
Argument "foo\nbar\n" isn't numeric in numeric eq (==) at (eval in stdout_is_num) t\05-object.t line 40.
Argument "foo\nbar\n" isn't numeric in numeric ne (!=) at (eval in stdout_isnt_num) t\05-object.t line 41.
Argument "bar\nfoo\n" isn't numeric in numeric eq (==) at (eval in stderr_is_num) t\05-object.t line 54.
Argument "bar\nfoo\n" isn't numeric in numeric ne (!=) at (eval in stderr_isnt_num) t\05-object.t line 55.
t\05-object.t ..... ok
t\06-signal.t ..... ok
t\pod-coverage.t .. ok
t\pod.t ........... ok
All tests successful.
Files=9, Tests=119, 24 wallclock secs ( 0.08 usr + 0.13 sys = 0.20 CPU)
Result: PASS
------------------------------
PREREQUISITES
------------------------------
Prerequisite modules loaded:
build_requires:
Module Need Have
------------ ---- ------------
Test::Simple 0.62 1.301001_098
------------------------------
ENVIRONMENT AND OTHER CONTEXT
------------------------------
Environment variables:
COMSPEC = C:\Windows\system32\cmd.exe
LD_LIBRARY_PATH = C:\Oracle Client\instantclient_11_2
NUMBER_OF_PROCESSORS = 4
PATH = C:\ProgramData\Oracle\Java\javapath;C:\Users\yhluc00\GnuWin32\bin;C:\Perl64\site\bin;C:\Perl64\bin;C:\Program Files\Teradata\Client\14.10\bin;C:\Program Files (x86)\Teradata\Client\14.10\bin;C:\Program Files\Teradata\Client\14.10\CLIv2\;C:\Program Files (x86)\Teradata\Client\14.10\CLIv2\;C:\Program Files\Teradata\Client\14.10\ODBC Driver for Teradata nt-x8664\Lib\;C:\Program Files (x86)\Teradata\Client\14.10\ODBC Driver for Teradata\Lib\;C:\Program Files\Teradata\Client\14.10\Shared ICU Libraries for Teradata\lib\;C:\Program Files (x86)\Teradata\Client\14.10\Shared ICU Libraries for Teradata\lib\;C:\Program Files (x86)\Intel\iCLS Client\;C:\Program Files\Intel\iCLS Client\;C:\Windows\system32;C:\Windows;C:\Windows\System32\Wbem;C:\Program Files\Lenovo\Fingerprint Manager Pro\;C:\Program Files\Intel\Intel(R) Management Engine Components\DAL;C:\Program Files\Intel\Intel(R) Management Engine Components\IPT;C:\Program Files (x86)\Intel\Intel(R) Management Engine Components\DAL;C:\Program Files (x86)\Intel\Intel(R) Management Engine Components\IPT;C:\Program Files\Dell\Dell Data Protection\Encryption\;C:\Program Files\TortoiseSVN\bin;C:\Windows\System32\WindowsPowerShell\v1.0\;C:\Windows\System32\WindowsPowerShell\v1.0\;C:\Program Files\TortoiseGit\bin
PERL5LIB =
PERL5OPT =
PERL5_CPANPLUS_IS_RUNNING = 10824
PERL5_CPAN_IS_RUNNING = 10824
PROCESSOR_IDENTIFIER = Intel64 Family 6 Model 60 Stepping 3, GenuineIntel
TEMP = C:\Users\yhluc00\AppData\Local\Temp
Perl special variables (and OS-specific diagnostics, for MSWin32):
$^X = C:\Perl64\bin\perl.exe
$UID/$EUID = 0 / 0
$GID = 0
$EGID = 0
Win32::GetOSName = Win7
Win32::GetOSVersion = Service Pack 1, 6, 1, 7601, 2, 1, 0, 256, 1
Win32::FsType = FAT
Win32::IsAdminUser = 1
Perl module toolchain versions installed:
Module Have
------------------- ------------
CPAN 2.05
CPAN::Meta 2.143240
Cwd 3.48
ExtUtils::CBuilder 0.280220
ExtUtils::Command 1.20
ExtUtils::Install 2.04
ExtUtils::MakeMaker 7.04
ExtUtils::Manifest 1.70
ExtUtils::ParseXS 3.24
File::Spec 3.48
JSON 2.90
JSON::PP 2.27203
Module::Build 0.4210
Module::Signature n/a
Parse::CPAN::Meta 1.4414
Test::Harness 3.33
Test::More 1.301001_098
YAML 1.14
YAML::Syck 1.29
version 0.9909
--
Summary of my perl5 (revision 5 version 20 subversion 1) configuration:
Platform:
osname=MSWin32, osvers=6.1, archname=MSWin32-x64-multi-thread
uname=''
config_args='undef'
hint=recommended, useposix=true, d_sigaction=undef
useithreads=define, usemultiplicity=define
use64bitint=define, use64bitall=undef, uselongdouble=undef
usemymalloc=n, bincompat5005=undef
Compiler:
cc='C:\Perl64\site\bin\gcc.exe', ccflags =' -s -O2 -DWIN32 -DWIN64 -DCONSERVATIVE -DPERL_TEXTMODE_SCRIPTS -DUSE_SITECUSTOMIZE -DPERL_IMPLICIT_CONTEXT -DPERL_IMPLICIT_SYS -DUSE_PERLIO -fwrapv -fno-strict-aliasing -mms-bitfields',
optimize='-s -O2',
cppflags='-DWIN32'
ccversion='', gccversion='4.6.3', gccosandvers=''
intsize=4, longsize=4, ptrsize=8, doublesize=8, byteorder=12345678
d_longlong=define, longlongsize=8, d_longdbl=define, longdblsize=12
ivtype='long long', ivsize=8, nvtype='double', nvsize=8, Off_t='long long', lseeksize=8
alignbytes=8, prototype=define
Linker and Libraries:
ld='C:\Perl64\site\bin\g++.exe', ldflags ='-s -static-libgcc -static-libstdc++ -L"C:\Perl64\lib\CORE" -L"C:\MinGW\x86_64-w64-mingw32\lib"'
libpth=C:\MinGW\x86_64-w64-mingw32\lib
libs=-lmoldname -lkernel32 -luser32 -lgdi32 -lwinspool -lcomdlg32 -ladvapi32 -lshell32 -lole32 -loleaut32 -lnetapi32 -luuid -lws2_32 -lmpr -lwinmm -lversion -lodbc32 -lodbccp32 -lcomctl32
perllibs=-lmoldname -lkernel32 -luser32 -lgdi32 -lwinspool -lcomdlg32 -ladvapi32 -lshell32 -lole32 -loleaut32 -lnetapi32 -luuid -lws2_32 -lmpr -lwinmm -lversion -lodbc32 -lodbccp32 -lcomctl32
libc=, so=dll, useshrplib=true, libperl=libperl520.a
gnulibc_version=''
Dynamic Linking:
dlsrc=dl_win32.xs, dlext=dll, d_dlsymun=undef, ccdlflags=' '
cccdlflags=' ', lddlflags='-mdll -s -static-libgcc -static-libstdc++ -L"C:\Perl64\lib\CORE" -L"C:\MinGW\x86_64-w64-mingw32\lib"'
Characteristics of this binary (from libperl):
Compile-time options: HAS_TIMES HAVE_INTERP_INTERN MULTIPLICITY
PERLIO_LAYERS PERL_DONT_CREATE_GVSV
PERL_HASH_FUNC_ONE_AT_A_TIME_HARD
PERL_IMPLICIT_CONTEXT PERL_IMPLICIT_SYS
PERL_MALLOC_WRAP PERL_NEW_COPY_ON_WRITE
PERL_PRESERVE_IVUV USE_64_BIT_INT USE_ITHREADS
USE_LARGE_FILES USE_LOCALE USE_LOCALE_COLLATE
USE_LOCALE_CTYPE USE_LOCALE_NUMERIC USE_PERLIO
USE_PERL_ATOF USE_SITECUSTOMIZE
Locally applied patches:
ActivePerl Build 2000 [298557]
Built under MSWin32
Compiled at Oct 15 2014 14:56:57
%ENV:
PERL5_CPANPLUS_IS_RUNNING="10824"
PERL5_CPAN_IS_RUNNING="10824"
@INC:
C:/Perl64/site/lib/MSWin32-x64-multi-thread
C:/Perl64/site/lib
C:/Perl64/lib
.