Report for Regexp-Common-2016060801

Back
From: metabase:user:30f4dfbe-2aae-11df-837a-5e0a49663a4f
Subject: PASS Regexp-Common-2016060801 v5.10.1 Mac OS X
Date: 2016-07-20T22:49:21Z

This distribution has been tested as part of the CPAN Testers
project, supporting the Perl programming language.  See
http://wiki.cpantesters.org/ for more information or email
questions to cpan-testers-discuss@perl.org


--
Dear Abigail,

This is a computer-generated report for Regexp-Common-2016060801
on perl 5.10.1, created by CPAN-Reporter-1.2017.

Thank you for uploading your work to CPAN.  Congratulations!
All tests were successful.

Sections of this report:

    * Tester comments
    * Program output
    * Prerequisites
    * Environment and other context

------------------------------
TESTER COMMENTS
------------------------------

Additional comments from tester:

this report is from an automated smoke testing program
and was not reviewed by a human for accuracy

------------------------------
PROGRAM OUTPUT
------------------------------

Output from '/sw/bin/make test':

PERL_DL_NONLAZY=1 "/Users/hornenj/perl5/perlbrew/perls/perl-5.10.1/bin/perl" "-MExtUtils::Command::MM" "-MTest::Harness" "-e" "undef *Test::Harness::Switches; test_harness(0, 'blib/lib', 'blib/arch')" t/*.t t/*/*.t
t/comment/delimited.t ............ ok
t/comment/html.t ................. ok
t/comment/nested.t ............... ok
t/comment/pascal.t ............... ok
t/comment/single_line.t .......... ok
t/comment/single_or_multiline.t .. ok
t/delimited/101_delimited.t ...... skipped: Test::Regexp not found
t/delimited/111_bquoted.t ........ skipped: Test::Regexp not found
t/net/101_ipv4.t ................. ok
t/net/102_ipv4_strict.t .......... skipped: Test::Regexp not found
t/net/111_ipv6.t ................. ok
t/net/121_mac.t .................. ok
t/net/131_domain.t ............... ok
t/number/101_integer.t ........... skipped: Test::Regexp not found
t/number/111_integer_base.t ...... skipped: Test::Regexp not found
t/number/121_integer_places.t .... skipped: Test::Regexp not found
t/number/122_integer_places.t .... skipped: Test::Regexp not found
t/number/123_integer_places.t .... skipped: Test::Regexp not found
t/number/131_integer_sep.t ....... skipped: Test::Regexp not found
t/number/141_integer_group.t ..... skipped: Test::Regexp not found
t/number/701_squares.t ........... skipped: Test::Regexp not found
t/number/801_roman.t ............. skipped: Test::Regexp not found
t/number/decimal.t ............... ok
t/number/number.t ................ ok
t/SEN/usa_ssn.t .................. ok
t/test___luhn.t .................. ok
t/test_balanced.t ................ ok
t/test_bases.t ................... ok
t/test_bases_sep.t ............... ok
t/test_comments.t ................ ok
t/test_curry.t ................... ok
t/test_i.t ....................... ok
t/test_lingua_palindrome.t ....... ok
t/test_list.t .................... ok
t/test_no_import.t ............... ok
t/test_profanity.t ............... ok
t/test_sub.t ..................... ok
t/test_sub_named.t ............... ok
t/test_ws.t ...................... ok
t/URI/any.t ...................... ok
t/URI/fax.t ...................... ok
t/URI/file.t ..................... ok
t/URI/ftp.t ...................... ok
t/URI/gopher.t ................... ok
t/URI/http.t ..................... ok
t/URI/news.t ..................... ok
t/URI/nntp.t ..................... ok
t/URI/pop.t ...................... ok
t/URI/prospero.t ................. ok
t/URI/tel.t ...................... ok
t/URI/telnet.t ................... ok
t/URI/tv.t ....................... ok
t/URI/wais.t ..................... ok
t/zip/101_austria.t .............. skipped: Test::Regexp not found
t/zip/111_australia.t ............ skipped: Test::Regexp not found
t/zip/112_australia.t ............ skipped: Test::Regexp not found
t/zip/121_belgium.t .............. skipped: Test::Regexp not found
t/zip/131_denmark.t .............. skipped: Test::Regexp not found
t/zip/141_greenland.t ............ skipped: Test::Regexp not found
t/zip/151_norway.t ............... skipped: Test::Regexp not found
t/zip/161_liechtenstein.t ........ skipped: Test::Regexp not found
t/zip/171_switzerland.t .......... skipped: Test::Regexp not found
t/zip/181_italy.t ................ skipped: Test::Regexp not found
t/zip/191_germany.t .............. skipped: Test::Regexp not found
t/zip/201_luxembourg.t ........... skipped: Test::Regexp not found
t/zip/211_france.t ............... skipped: Test::Regexp not found
t/zip/221_monaco.t ............... skipped: Test::Regexp not found
t/zip/231_san-marino.t ........... skipped: Test::Regexp not found
t/zip/241_vatican-city.t ......... skipped: Test::Regexp not found
t/zip/netherlands.t .............. ok
t/zip/spain.t .................... ok
t/zip/us.t ....................... ok
t/zip/zip.t ...................... ok
All tests successful.
Files=73, Tests=149252,  8 wallclock secs ( 4.36 usr  0.18 sys +  5.75 cusr  0.81 csys = 11.10 CPU)
Result: PASS

------------------------------
PREREQUISITES
------------------------------

Prerequisite modules loaded:

requires:

    Module              Need Have    
    ------------------- ---- --------
    Config              0    0       
    ExtUtils::MakeMaker 0    7.10    
    perl                5.01 5.010001
    strict              0    1.04    
    vars                0    1.01    
    warnings            0    1.06    

build_requires:

    Module              Need Have    
    ------------------- ---- --------
    Config              0    0       
    ExtUtils::MakeMaker 0    7.10    
    perl                5.01 5.010001
    strict              0    1.04    
    Test::More          0    1.302030
    vars                0    1.01    
    warnings            0    1.06    

configure_requires:

    Module              Need Have    
    ------------------- ---- --------
    Config              0    0       
    ExtUtils::MakeMaker 0    7.10    
    perl                5.01 5.010001
    strict              0    1.04    
    vars                0    1.01    
    warnings            0    1.06    


------------------------------
ENVIRONMENT AND OTHER CONTEXT
------------------------------

Environment variables:

    AUTOMATED_TESTING = 1
    LANG = en_US.UTF-8
    LC_ALL = POSIX
    PATH = /Users/hornenj/perl5/perlbrew/bin:/Users/hornenj/perl5/perlbrew/perls/perl-5.10.1/bin:/Users/hornenj/perl5/perlbrew/bin:/Users/hornenj/bin:/sw/lib/perl5/ExtUtils:/sw/bin:/am/ncbiapdata/bin:/usr/bin:/bin:/usr/X11R6/bin:/netopt/ncbi_tools/bin:/usr/local/ncbi/blast/bin:/net/traces01.be-md.ncbi.nlm.nih.gov/trace_software/vdb/mac/release/x86_64/bin
    PERL5LIB = /Users/hornenj/.cpan/build/MooX-ConfigFromFile-0.007-8yX1B2/blib/arch:/Users/hornenj/.cpan/build/MooX-ConfigFromFile-0.007-8yX1B2/blib/lib:/Users/hornenj/.cpan/build/Config-Any-0.27-IWxjkU/blib/arch:/Users/hornenj/.cpan/build/Config-Any-0.27-IWxjkU/blib/lib:/Users/hornenj/.cpan/build/MooX-File-ConfigDir-0.005-FyKvgq/blib/arch:/Users/hornenj/.cpan/build/MooX-File-ConfigDir-0.005-FyKvgq/blib/lib:/Users/hornenj/.cpan/build/File-ConfigDir-0.017-LeUdoy/blib/arch:/Users/hornenj/.cpan/build/File-ConfigDir-0.017-LeUdoy/blib/lib:/Users/hornenj/.cpan/build/Hash-Merge-0.200-zZjpeo/blib/arch:/Users/hornenj/.cpan/build/Hash-Merge-0.200-zZjpeo/blib/lib:/Users/hornenj/.cpan/build/Data-Record-0.02-LRg1PM/blib/arch:/Users/hornenj/.cpan/build/Data-Record-0.02-LRg1PM/blib/lib:/Users/hornenj/.cpan/build/MetaCPAN-Client-1.020000-VDpZ6e/blib/arch:/Users/hornenj/.cpan/build/MetaCPAN-Client-1.020000-VDpZ6e/blib/lib:/Users/hornenj/.cpan/build/Search-Elasticsearch-2.03-PHcvmY/blib/arch:/Users/hornenj/.cpan/build/Search-Elasticsearch-2.03-PHcvmY/blib/lib:/Users/hornenj/.cpan/build/Any-URI-Escape-0.01-QsRrp3/blib/arch:/Users/hornenj/.cpan/build/Any-URI-Escape-0.01-QsRrp3/blib/lib:/Users/hornenj/.cpan/build/Log-Any-Adapter-Callback-0.09-zUtP0R/blib/arch:/Users/hornenj/.cpan/build/Log-Any-Adapter-Callback-0.09-zUtP0R/blib/lib:/Users/hornenj/.cpan/build/Parse-CPAN-Packages-2.40-l2ISd6/blib/arch:/Users/hornenj/.cpan/build/Parse-CPAN-Packages-2.40-l2ISd6/blib/lib:/Users/hornenj/.cpan/build/Archive-Peek-0.35-e1ex7o/blib/arch:/Users/hornenj/.cpan/build/Archive-Peek-0.35-e1ex7o/blib/lib:/Users/hornenj/.cpan/build/Test-InDistDir-1.112071-sszsmg/blib/arch:/Users/hornenj/.cpan/build/Test-InDistDir-1.112071-sszsmg/blib/lib
    PERL5OPT = 
    PERL5_CPANPLUS_IS_RUNNING = 44489
    PERL5_CPAN_IS_RUNNING = 44489
    PERL5_MINISMOKEBOX = 0.58
    PERLBREW_BASHRC_VERSION = 0.76
    PERLBREW_HOME = /Users/hornenj/.perlbrew
    PERLBREW_LIB = 
    PERLBREW_MANPATH = /Users/hornenj/perl5/perlbrew/perls/perl-5.10.1/man
    PERLBREW_PATH = /Users/hornenj/perl5/perlbrew/bin:/Users/hornenj/perl5/perlbrew/perls/perl-5.10.1/bin
    PERLBREW_PERL = perl-5.10.1
    PERLBREW_ROOT = /Users/hornenj/perl5/perlbrew
    PERLBREW_VERSION = 0.76
    PERL_EXTUTILS_AUTOINSTALL = --defaultdeps
    PERL_LOCAL_LIB_ROOT = 
    PERL_MM_USE_DEFAULT = 1
    SHELL = /bin/bash
    TERM = xterm-256color
    TMPDIR = /var/folders/pz/pd7y1qjs6s3cbk170cw50fjc000c61/T/
    ac_cv_path_INTLTOOL_PERL = /usr/bin/perl

Perl special variables (and OS-specific diagnostics, for MSWin32):

    $^X = /Users/hornenj/perl5/perlbrew/perls/perl-5.10.1/bin/perl
    $UID/$EUID = 12481 / 12481
    $GID = 14 14 5344 37191 527 241
    $EGID = 14 14 5344 37191 527 241

Perl module toolchain versions installed:

    Module              Have    
    ------------------- --------
    CPAN                2.10    
    CPAN::Meta          2.150005
    Cwd                 3.47    
    ExtUtils::CBuilder  0.280224
    ExtUtils::Command   7.10    
    ExtUtils::Install   2.04    
    ExtUtils::MakeMaker 7.10    
    ExtUtils::Manifest  1.70    
    ExtUtils::ParseXS   3.30    
    File::Spec          3.47    
    JSON                2.90    
    JSON::PP            2.27300 
    Module::Build       0.4214  
    Module::Signature   n/a     
    Parse::CPAN::Meta   1.4422  
    Test::Harness       3.35    
    Test::More          1.302030
    YAML                1.15    
    YAML::Syck          1.29    
    version             0.9912  


--

Summary of my perl5 (revision 5 version 10 subversion 1) configuration:
   
  Platform:
    osname=darwin, osvers=12.5.0, archname=darwin-thread-multi-2level
    uname='darwin ncbimac2008.ncbi.nlm.nih.gov 12.5.0 darwin kernel version 12.5.0: sun sep 29 13:33:47 pdt 2013; root:xnu-2050.48.12~1release_x86_64 x86_64 '
    config_args='-Duseithreads -Dusemultiplicity -Dinstallprefix=/Users/hornenj/perl5/perlbrew/perls/perl-5.10.1 -Dprefix=/Users/hornenj/perl5/perlbrew/perls/perl-5.10.1 -de -Accflags=-O2 -W -Wformat=2 -Wswitch -Wshadow -Wwrite-strings -Wuninitialized -Wall -pipe -mtune=native -march=native -fomit-frame-pointer -msse2 -msse -mmmx -pedantic -D_FORTIFY_SOURCE=2 -Wpointer-arith -Wstrict-prototypes -fstack-protector -Wstack-protector -Wextra -Wbad-function-cast -Wcast-align -Wcast-qual -Wdisabled-optimization -Wendif-labels -Wfloat-equal -Wformat-nonliteral -Winline -Wmissing-declarations -Wmissing-prototypes -Wnested-externs -Wpointer-arith -Wundef -Wformat-security -fassociative-math -Acc=clang'
    hint=recommended, useposix=true, d_sigaction=define
    useithreads=define, usemultiplicity=define
    useperlio=define, d_sfio=undef, uselargefiles=define, usesocks=undef
    use64bitint=define, use64bitall=define, uselongdouble=undef
    usemymalloc=n, bincompat5005=undef
  Compiler:
    cc=' clang', ccflags ='-fno-common -DPERL_DARWIN -no-cpp-precomp -O2 -W -Wformat=2 -Wswitch -Wshadow -Wwrite-strings -Wuninitialized -Wall -pipe -mtune=native -march=native -fomit-frame-pointer -msse2 -msse -mmmx -pedantic -D_FORTIFY_SOURCE=2 -Wpointer-arith -Wstrict-prototypes -fstack-protector -Wstack-protector -Wextra -Wbad-function-cast -Wcast-align -Wcast-qual -Wdisabled-optimization -Wendif-labels -Wfloat-equal -Wformat-nonliteral -Winline -Wmissing-declarations -Wmissing-prototypes -Wnested-externs -Wpointer-arith -Wundef -Wformat-security -fassociative-math -fno-strict-aliasing -I/usr/local/include',
    optimize='-O3',
    cppflags='-no-cpp-precomp -fno-common -DPERL_DARWIN -no-cpp-precomp -O2 -W -Wformat=2 -Wswitch -Wshadow -Wwrite-strings -Wuninitialized -Wall -pipe -mtune=native -march=native -fomit-frame-pointer -msse2 -msse -mmmx -pedantic -D_FORTIFY_SOURCE=2 -Wpointer-arith -Wstrict-prototypes -fstack-protector -Wstack-protector -Wextra -Wbad-function-cast -Wcast-align -Wcast-qual -Wdisabled-optimization -Wendif-labels -Wfloat-equal -Wformat-nonliteral -Winline -Wmissing-declarations -Wmissing-prototypes -Wnested-externs -Wpointer-arith -Wundef -Wformat-security -fassociative-math -fno-strict-aliasing -I/usr/local/include'
    ccversion='', gccversion='4.2.1 Compatible Apple LLVM 4.2 (clang-425.0.24)', gccosandvers=''
    intsize=4, longsize=8, ptrsize=8, doublesize=8, byteorder=12345678
    d_longlong=define, longlongsize=8, d_longdbl=define, longdblsize=16
    ivtype='long', ivsize=8, nvtype='double', nvsize=8, Off_t='off_t', lseeksize=8
    alignbytes=8, prototype=define
  Linker and Libraries:
    ld='env MACOSX_DEPLOYMENT_TARGET=10.3 cc', ldflags =' -fstack-protector -L/usr/local/lib'
    libpth=/usr/local/lib /usr/lib
    libs=-ldbm -ldl -lm -lutil -lc
    perllibs=-ldl -lm -lutil -lc
    libc=, so=dylib, useshrplib=false, libperl=libperl.a
    gnulibc_version=''
  Dynamic Linking:
    dlsrc=dl_dlopen.xs, dlext=bundle, d_dlsymun=undef, ccdlflags=' '
    cccdlflags=' ', lddlflags=' -bundle -undefined dynamic_lookup -L/usr/local/lib -fstack-protector'


Characteristics of this binary (from libperl): 
  Compile-time options: MULTIPLICITY PERL_DONT_CREATE_GVSV
                        PERL_IMPLICIT_CONTEXT PERL_MALLOC_WRAP USE_64_BIT_ALL
                        USE_64_BIT_INT USE_ITHREADS USE_LARGE_FILES
                        USE_PERLIO USE_REENTRANT_API
  Built under darwin
  Compiled at Apr  1 2014 09:55:44
  %ENV:
    PERL5LIB="/Users/hornenj/.cpan/build/MooX-ConfigFromFile-0.007-8yX1B2/blib/arch:/Users/hornenj/.cpan/build/MooX-ConfigFromFile-0.007-8yX1B2/blib/lib:/Users/hornenj/.cpan/build/Config-Any-0.27-IWxjkU/blib/arch:/Users/hornenj/.cpan/build/Config-Any-0.27-IWxjkU/blib/lib:/Users/hornenj/.cpan/build/MooX-File-ConfigDir-0.005-FyKvgq/blib/arch:/Users/hornenj/.cpan/build/MooX-File-ConfigDir-0.005-FyKvgq/blib/lib:/Users/hornenj/.cpan/build/File-ConfigDir-0.017-LeUdoy/blib/arch:/Users/hornenj/.cpan/build/File-ConfigDir-0.017-LeUdoy/blib/lib:/Users/hornenj/.cpan/build/Hash-Merge-0.200-zZjpeo/blib/arch:/Users/hornenj/.cpan/build/Hash-Merge-0.200-zZjpeo/blib/lib:/Users/hornenj/.cpan/build/Data-Record-0.02-LRg1PM/blib/arch:/Users/hornenj/.cpan/build/Data-Record-0.02-LRg1PM/blib/lib:/Users/hornenj/.cpan/build/MetaCPAN-Client-1.020000-VDpZ6e/blib/arch:/Users/hornenj/.cpan/build/MetaCPAN-Client-1.020000-VDpZ6e/blib/lib:/Users/hornenj/.cpan/build/Search-Elasticsearch-2.03-PHcvmY/blib/arch:/Users/hornenj/.cpan/build/Search-Elasticsearch-2.03-PHcvmY/blib/lib:/Users/hornenj/.cpan/build/Any-URI-Escape-0.01-QsRrp3/blib/arch:/Users/hornenj/.cpan/build/Any-URI-Escape-0.01-QsRrp3/blib/lib:/Users/hornenj/.cpan/build/Log-Any-Adapter-Callback-0.09-zUtP0R/blib/arch:/Users/hornenj/.cpan/build/Log-Any-Adapter-Callback-0.09-zUtP0R/blib/lib:/Users/hornenj/.cpan/build/Parse-CPAN-Packages-2.40-l2ISd6/blib/arch:/Users/hornenj/.cpan/build/Parse-CPAN-Packages-2.40-l2ISd6/blib/lib:/Users/hornenj/.cpan/build/Archive-Peek-0.35-e1ex7o/blib/arch:/Users/hornenj/.cpan/build/Archive-Peek-0.35-e1ex7o/blib/lib:/Users/hornenj/.cpan/build/Test-InDistDir-1.112071-sszsmg/blib/arch:/Users/hornenj/.cpan/build/Test-InDistDir-1.112071-sszsmg/blib/lib"
    PERL5OPT=""
    PERL5_CPANPLUS_IS_RUNNING="44489"
    PERL5_CPAN_IS_RUNNING="44489"
    PERL5_MINISMOKEBOX="0.58"
    PERLBREW_BASHRC_VERSION="0.76"
    PERLBREW_HOME="/Users/hornenj/.perlbrew"
    PERLBREW_LIB=""
    PERLBREW_MANPATH="/Users/hornenj/perl5/perlbrew/perls/perl-5.10.1/man"
    PERLBREW_PATH="/Users/hornenj/perl5/perlbrew/bin:/Users/hornenj/perl5/perlbrew/perls/perl-5.10.1/bin"
    PERLBREW_PERL="perl-5.10.1"
    PERLBREW_ROOT="/Users/hornenj/perl5/perlbrew"
    PERLBREW_VERSION="0.76"
    PERL_EXTUTILS_AUTOINSTALL="--defaultdeps"
    PERL_LOCAL_LIB_ROOT=""
    PERL_MM_USE_DEFAULT="1"
  @INC:
    /Users/hornenj/.cpan/build/MooX-ConfigFromFile-0.007-8yX1B2/blib/arch
    /Users/hornenj/.cpan/build/MooX-ConfigFromFile-0.007-8yX1B2/blib/lib
    /Users/hornenj/.cpan/build/Config-Any-0.27-IWxjkU/blib/arch
    /Users/hornenj/.cpan/build/Config-Any-0.27-IWxjkU/blib/lib
    /Users/hornenj/.cpan/build/MooX-File-ConfigDir-0.005-FyKvgq/blib/arch
    /Users/hornenj/.cpan/build/MooX-File-ConfigDir-0.005-FyKvgq/blib/lib
    /Users/hornenj/.cpan/build/File-ConfigDir-0.017-LeUdoy/blib/arch
    /Users/hornenj/.cpan/build/File-ConfigDir-0.017-LeUdoy/blib/lib
    /Users/hornenj/.cpan/build/Hash-Merge-0.200-zZjpeo/blib/arch
    /Users/hornenj/.cpan/build/Hash-Merge-0.200-zZjpeo/blib/lib
    /Users/hornenj/.cpan/build/Data-Record-0.02-LRg1PM/blib/arch
    /Users/hornenj/.cpan/build/Data-Record-0.02-LRg1PM/blib/lib
    /Users/hornenj/.cpan/build/MetaCPAN-Client-1.020000-VDpZ6e/blib/arch
    /Users/hornenj/.cpan/build/MetaCPAN-Client-1.020000-VDpZ6e/blib/lib
    /Users/hornenj/.cpan/build/Search-Elasticsearch-2.03-PHcvmY/blib/arch
    /Users/hornenj/.cpan/build/Search-Elasticsearch-2.03-PHcvmY/blib/lib
    /Users/hornenj/.cpan/build/Any-URI-Escape-0.01-QsRrp3/blib/arch
    /Users/hornenj/.cpan/build/Any-URI-Escape-0.01-QsRrp3/blib/lib
    /Users/hornenj/.cpan/build/Log-Any-Adapter-Callback-0.09-zUtP0R/blib/arch
    /Users/hornenj/.cpan/build/Log-Any-Adapter-Callback-0.09-zUtP0R/blib/lib
    /Users/hornenj/.cpan/build/Parse-CPAN-Packages-2.40-l2ISd6/blib/arch
    /Users/hornenj/.cpan/build/Parse-CPAN-Packages-2.40-l2ISd6/blib/lib
    /Users/hornenj/.cpan/build/Archive-Peek-0.35-e1ex7o/blib/arch
    /Users/hornenj/.cpan/build/Archive-Peek-0.35-e1ex7o/blib/lib
    /Users/hornenj/.cpan/build/Test-InDistDir-1.112071-sszsmg/blib/arch
    /Users/hornenj/.cpan/build/Test-InDistDir-1.112071-sszsmg/blib/lib
    /Users/hornenj/perl5/perlbrew/perls/perl-5.10.1/lib/5.10.1/darwin-thread-multi-2level
    /Users/hornenj/perl5/perlbrew/perls/perl-5.10.1/lib/5.10.1
    /Users/hornenj/perl5/perlbrew/perls/perl-5.10.1/lib/site_perl/5.10.1/darwin-thread-multi-2level
    /Users/hornenj/perl5/perlbrew/perls/perl-5.10.1/lib/site_perl/5.10.1
    .