Dist-Zilla-Plugin-CheckIssues v0.011 Perl 5 v5.34.0 x86_64-linux-thread-multi
- Status
- Pass
- From
- Slaven Rezić
- Dist
-
Dist-Zilla-Plugin-CheckIssues v0.011
- Platform
- Perl 5 v5.34.0 x86_64-linux-thread-multi
- Date
- 2021-11-28 23:16:19
- ID
- 318a2a1c-50a1-11ec-9b73-0c631f24ea8f
This distribution has been tested as part of the CPAN Testers
project, supporting the Perl programming language. See
http://wiki.cpantesters.org/ for more information or email
questions to cpan-testers-discuss@perl.org
--
Dear Karen Etheridge,
This is a computer-generated report for Dist-Zilla-Plugin-CheckIssues-0.011
on perl 5.34.0, created by CPAN-Reporter-1.2018.
Thank you for uploading your work to CPAN. Congratulations!
All tests were successful.
Sections of this report:
* Tester comments
* Program output
* Prerequisites
* Environment and other context
------------------------------
TESTER COMMENTS
------------------------------
Additional comments from tester:
none provided
------------------------------
PROGRAM OUTPUT
------------------------------
Output from '/usr/bin/make test':
PERL_DL_NONLAZY=1 "/opt/perl-5.34.0t/bin/perl" "-MExtUtils::Command::MM" "-MTest::Harness" "-e" "undef *Test::Harness::Switches; test_harness(0, 'blib/lib', 'blib/arch')" t/*.t
#
# Versions for all modules listed in MYMETA.json (including optional ones):
#
# === Configure Requires ===
#
# Module Want Have
# ------------------------ -------- --------
# CPAN::Meta::Requirements 2.120620 2.140
# ExtUtils::MakeMaker any 7.62
# Module::Metadata any 1.000037
#
# === Build Requires ===
#
# Module Want Have
# ------------------- ---- ----
# ExtUtils::MakeMaker any 7.62
#
# === Test Requires ===
#
# Module Want Have
# ------------------------------- ---- --------
# Dist::Zilla::App::Tester any 6.024
# Dist::Zilla::Role::MetaProvider any 6.024
# ExtUtils::MakeMaker any 7.62
# File::Spec any 3.80
# File::pushd any 1.016
# Moose::Util any 2.2015
# Path::Tiny any 0.118
# Test::DZil any 6.024
# Test::Deep any 1.130
# Test::Fatal any 0.016
# Test::More 0.88 1.302188
# if any 0.0609
# lib any 0.65
#
# === Test Recommends ===
#
# Module Want Have
# ---------- -------- --------
# CPAN::Meta 2.120900 2.150010
#
# === Runtime Requires ===
#
# Module Want Have
# -------------------------------- -------- --------
# Dist::Zilla 4.300039 6.024
# Dist::Zilla::App any 6.024
# Dist::Zilla::Role::BeforeRelease any 6.024
# Encode any 3.08
# HTTP::Headers any 6.33
# HTTP::Tiny any 0.080
# JSON::MaybeXS 1.001000 1.004003
# List::Util 1.33 1.58
# Log::Dispatch 2.49 2.70
# Moose any 2.2015
# Term::ANSIColor 3.00 5.01
# namespace::autoclean any 0.29
# strict any 1.12
# warnings any 1.51
#
# === Other Modules ===
#
# Module Have
# --------------- ------
# App::Cmd 0.334
# Encode 3.08
# File::Temp 0.2311
# JSON::PP 4.06
# Log::Dispatch 2.70
# Module::Runtime 0.016
# Pod::Coverage 0.23
# Sub::Name 0.26
# YAML 1.30
# autodie 2.34
#
t/00-report-prereqs.t .. ok
t/01-basic.t ........... ok
t/02-no-rt.t ........... ok
t/03-no-repo.t ......... ok
t/04-command.t ......... ok
t/zzz-check-breaks.t ... ok
All tests successful.
Files=6, Tests=20, 4 wallclock secs ( 0.03 usr 0.01 sys + 3.87 cusr 0.19 csys = 4.10 CPU)
Result: PASS
------------------------------
PREREQUISITES
------------------------------
Prerequisite modules loaded:
requires:
Module Need Have
-------------------------------- -------- --------
Dist::Zilla 4.300039 6.024
Dist::Zilla::App 0 6.024
Dist::Zilla::Role::BeforeRelease 0 6.024
Encode 0 3.08
HTTP::Headers 0 6.33
HTTP::Tiny 0 0.080
JSON::MaybeXS 1.001000 1.004003
List::Util 1.33 1.58
Log::Dispatch 2.49 2.70
Moose 0 2.2015
namespace::autoclean 0 0.29
perl 5.006 5.034000
strict 0 1.12
Term::ANSIColor 3.00 5.01
warnings 0 1.51
build_requires:
Module Need Have
-------------------------------- -------- --------
Dist::Zilla::App::Tester 0 6.024
Dist::Zilla::Role::MetaProvider 0 6.024
ExtUtils::MakeMaker 0 7.62
File::pushd 0 1.016
File::Spec 0 3.80
if 0 0.0609
lib 0 0.65
Moose::Util 0 2.2015
Path::Tiny 0 0.118
Test::Deep 0 1.130
Test::DZil 0 6.024
Test::Fatal 0 0.016
Test::More 0.88 1.302188
configure_requires:
Module Need Have
-------------------------------- -------- --------
CPAN::Meta::Requirements 2.120620 2.140
ExtUtils::MakeMaker 0 7.62
Module::Metadata 0 1.000037
perl 5.006 5.034000
------------------------------
ENVIRONMENT AND OTHER CONTEXT
------------------------------
Environment variables:
LANG = en_US.UTF-8
PATH = /usr/local/bin:/usr/bin:/bin:/usr/local/sbin:/usr/sbin:/sbin:/home/cpansand/bin/linux-gnu:/home/cpansand/bin/sh:/home/cpansand/bin:/usr/games:/home/cpansand/devel:/home/eserte/src/srezic-misc/scripts
PERL5LIB =
PERL5OPT =
PERL5_CPANPLUS_IS_RUNNING = 31354
PERL5_CPAN_IS_RUNNING = 31354
PERL5_CPAN_IS_RUNNING_IN_RECURSION = 31248,31354
PERLDOC = -MPod::Perldoc::ToTextOverstrike
PERL_BATCH = yes
PERL_CANARY_STABILITY_NOPROMPT = 1
PERL_CPAN_REPORTER_CONFIG = /var/tmp/cpansmoker-1023/2021112900/cpanreporter_000_config.ini
PERL_EXTUTILS_AUTOINSTALL = --defaultdeps
PERL_USE_UNSAFE_INC = 1
SHELL = /usr/bin/zsh
TERM = screen
TMPDIR = /var/tmp/cpansmoker-1023/2021112900
Perl special variables (and OS-specific diagnostics, for MSWin32):
$^X = /opt/perl-5.34.0t/bin/perl
$UID/$EUID = 1023 / 1023
$GID = 1023 1023
$EGID = 1023 1023
Perl module toolchain versions installed:
Module Have
------------------- --------
CPAN 2.28
CPAN::Meta 2.150010
Cwd 3.80
ExtUtils::CBuilder 0.280236
ExtUtils::Command 7.62
ExtUtils::Install 2.20
ExtUtils::MakeMaker 7.62
ExtUtils::Manifest 1.73
ExtUtils::ParseXS 3.43
File::Spec 3.80
JSON 4.03
JSON::PP 4.06
Module::Build 0.4231
Module::Signature 0.87
Parse::CPAN::Meta 2.150010
Test::Harness 3.43
Test::More 1.302188
YAML 1.30
YAML::Syck 1.34
version 0.9928
--
Summary of my perl5 (revision 5 version 34 subversion 0) configuration:
Platform:
osname=linux
osvers=4.15.0-154-generic
archname=x86_64-linux-thread-multi
uname='linux cloud6.bbbike.org 4.15.0-154-generic #161-ubuntu smp fri jul 30 13:04:17 utc 2021 x86_64 x86_64 x86_64 gnulinux '
config_args='-ds -e -Dprefix=/opt/perl-5.34.0t -Dusethreads -Dcf_email=srezic@cpan.org'
hint=recommended
useposix=true
d_sigaction=define
useithreads=define
usemultiplicity=define
use64bitint=define
use64bitall=define
uselongdouble=undef
usemymalloc=n
default_inc_excludes_dot=define
Compiler:
cc='cc'
ccflags ='-D_REENTRANT -D_GNU_SOURCE -fwrapv -fno-strict-aliasing -pipe -fstack-protector-strong -I/usr/local/include -D_LARGEFILE_SOURCE -D_FILE_OFFSET_BITS=64'
optimize='-O2'
cppflags='-D_REENTRANT -D_GNU_SOURCE -fwrapv -fno-strict-aliasing -pipe -fstack-protector-strong -I/usr/local/include'
ccversion=''
gccversion='7.5.0'
gccosandvers=''
intsize=4
longsize=8
ptrsize=8
doublesize=8
byteorder=12345678
doublekind=3
d_longlong=define
longlongsize=8
d_longdbl=define
longdblsize=16
longdblkind=3
ivtype='long'
ivsize=8
nvtype='double'
nvsize=8
Off_t='off_t'
lseeksize=8
alignbytes=8
prototype=define
Linker and Libraries:
ld='cc'
ldflags =' -fstack-protector-strong -L/usr/local/lib'
libpth=/usr/local/lib /usr/lib/x86_64-linux-gnu /usr/lib /lib/x86_64-linux-gnu /lib
libs=-lpthread -lnsl -ldl -lm -lcrypt -lutil -lc
perllibs=-lpthread -lnsl -ldl -lm -lcrypt -lutil -lc
libc=libc-2.27.so
so=so
useshrplib=false
libperl=libperl.a
gnulibc_version='2.27'
Dynamic Linking:
dlsrc=dl_dlopen.xs
dlext=so
d_dlsymun=undef
ccdlflags='-Wl,-E'
cccdlflags='-fPIC'
lddlflags='-shared -O2 -L/usr/local/lib -fstack-protector-strong'
Characteristics of this binary (from libperl):
Compile-time options:
HAS_TIMES
MULTIPLICITY
PERLIO_LAYERS
PERL_COPY_ON_WRITE
PERL_DONT_CREATE_GVSV
PERL_IMPLICIT_CONTEXT
PERL_MALLOC_WRAP
PERL_OP_PARENT
PERL_PRESERVE_IVUV
USE_64_BIT_ALL
USE_64_BIT_INT
USE_ITHREADS
USE_LARGE_FILES
USE_LOCALE
USE_LOCALE_COLLATE
USE_LOCALE_CTYPE
USE_LOCALE_NUMERIC
USE_LOCALE_TIME
USE_PERLIO
USE_PERL_ATOF
USE_REENTRANT_API
USE_THREAD_SAFE_LOCALE
Built under linux
Compiled at Sep 4 2021 11:17:12
%ENV:
PERL5LIB=""
PERL5OPT=""
PERL5_CPANPLUS_IS_RUNNING="31354"
PERL5_CPAN_IS_RUNNING="31354"
PERL5_CPAN_IS_RUNNING_IN_RECURSION="31248,31354"
PERLDOC="-MPod::Perldoc::ToTextOverstrike"
PERL_BATCH="yes"
PERL_CANARY_STABILITY_NOPROMPT="1"
PERL_CPAN_REPORTER_CONFIG="/var/tmp/cpansmoker-1023/2021112900/cpanreporter_000_config.ini"
PERL_EXTUTILS_AUTOINSTALL="--defaultdeps"
PERL_USE_UNSAFE_INC="1"
@INC:
/opt/perl-5.34.0t/lib/site_perl/5.34.0/x86_64-linux-thread-multi
/opt/perl-5.34.0t/lib/site_perl/5.34.0
/opt/perl-5.34.0t/lib/5.34.0/x86_64-linux-thread-multi
/opt/perl-5.34.0t/lib/5.34.0
.