Back
From: metabase:user:0d96120c-29e2-11e5-b049-ede3035d37de
Subject: PASS Data-Section-0.200006 v5.22.0 Mac OS X
Date: 2015-07-20T09:24:59Z
This distribution has been tested as part of the CPAN Testers
project, supporting the Perl programming language. See
http://wiki.cpantesters.org/ for more information or email
questions to cpan-testers-discuss@perl.org
--
Dear Ricardo SIGNES,
This is a computer-generated report for Data-Section-0.200006
on perl 5.22.0, created by CPAN-Reporter-1.2014.
Thank you for uploading your work to CPAN. Congratulations!
All tests were successful.
Sections of this report:
* Tester comments
* Program output
* Prerequisites
* Environment and other context
------------------------------
TESTER COMMENTS
------------------------------
Additional comments from tester:
this report is from an automated smoke testing program
and was not reviewed by a human for accuracy
------------------------------
PROGRAM OUTPUT
------------------------------
Output from '/usr/bin/make test':
PERL_DL_NONLAZY=1 "/Users/jmaslak/perl5/perlbrew/perls/perl-5.22.0/bin/perl" "-MExtUtils::Command::MM" "-MTest::Harness" "-e" "undef *Test::Harness::Switches; test_harness(0, 'blib/lib', 'blib/arch')" t/*.t
#
#
# Generated by Dist::Zilla::Plugin::ReportVersions::Tiny v1.10
# perl: 5.022000 (wanted any version) on darwin from /Users/jmaslak/perl5/perlbrew/perls/perl-5.22.0/bin/perl
#
# Encode => 2.75 (want any version)
# ExtUtils::MakeMaker => 7.0401 (want 6.30)
# MRO::Compat => 0.12 (want 0.09)
# Sub::Exporter => 0.987 (want 0.979)
# Test::FailWarnings => 0.008 (want any version)
# Test::More => 1.001014 (want 0.96)
# base => 2.22 (want any version)
# lib => 0.63 (want any version)
# strict => 1.09 (want any version)
# utf8 => 1.17 (want any version)
# warnings => 1.32 (want any version)
#
# Thanks for using my code. I hope it works for you.
# If not, please try and include this output in the bug report.
# That will help me reproduce the issue and solve your problem.
#
t/000-report-versions-tiny.t .. ok
t/basic.t ..................... ok
t/encodings.t ................. ok
All tests successful.
Files=3, Tests=40, 0 wallclock secs ( 0.02 usr 0.01 sys + 0.14 cusr 0.02 csys = 0.19 CPU)
Result: PASS
------------------------------
PREREQUISITES
------------------------------
Prerequisite modules loaded:
requires:
Module Need Have
------------------- ----- --------
Encode 0 2.75
MRO::Compat 0.09 0.12
strict 0 1.09
Sub::Exporter 0.979 0.987
warnings 0 1.32
build_requires:
Module Need Have
------------------- ----- --------
base 0 2.22
lib 0 0.63
Test::FailWarnings 0 0.008
Test::More 0.96 1.001014
utf8 0 1.17
configure_requires:
Module Need Have
------------------- ----- --------
ExtUtils::MakeMaker 6.30 7.04_01
------------------------------
ENVIRONMENT AND OTHER CONTEXT
------------------------------
Environment variables:
AUTOMATED_TESTING = 1
LANG = en_US.UTF-8
PATH = /Users/jmaslak/perl5/perlbrew/bin:/Users/jmaslak/perl5/perlbrew/perls/perl-5.22.0/bin:/Users/jmaslak/perl5/perlbrew/bin:/Users/jmaslak/perl5/perlbrew/perls/perl-5.22.0/bin:/Users/jmaslak/.rakudobrew/bin:/usr/local/bin:/usr/bin:/bin:/usr/sbin:/sbin:/opt/X11/bin
PERL5LIB =
PERL5OPT =
PERL5_CPANPLUS_IS_RUNNING = 8090
PERL5_CPAN_IS_RUNNING = 8090
PERL5_CPAN_IS_RUNNING_IN_RECURSION = 28394,8090
PERLBREW_BASHRC_VERSION = 0.73
PERLBREW_HOME = /Users/jmaslak/.perlbrew
PERLBREW_LIB =
PERLBREW_MANPATH = /Users/jmaslak/perl5/perlbrew/perls/perl-5.22.0/man
PERLBREW_PATH = /Users/jmaslak/perl5/perlbrew/bin:/Users/jmaslak/perl5/perlbrew/perls/perl-5.22.0/bin
PERLBREW_PERL = perl-5.22.0
PERLBREW_ROOT = /Users/jmaslak/perl5/perlbrew
PERLBREW_VERSION = 0.73
PERL_CR_SMOKER_CURRENT = Data-Section-0.200006
PERL_EXTUTILS_AUTOINSTALL = --defaultdeps
PERL_LOCAL_LIB_ROOT =
PERL_MM_USE_DEFAULT = 1
SHELL = /bin/bash
TERM = xterm-256color
TMPDIR = /var/folders/4y/bn5_gsxn4496c8_l179hk9fc0000gn/T/
VERSIONER_PERL_PREFER_32_BIT = no
VERSIONER_PERL_VERSION = 5.18
Perl special variables (and OS-specific diagnostics, for MSWin32):
$^X = /Users/jmaslak/perl5/perlbrew/perls/perl-5.22.0/bin/perl
$UID/$EUID = 501 / 501
$GID = 20 20 502 401 12 61 79 80 81 98 33 100 204 398 399 701
$EGID = 20 20 502 401 12 61 79 80 81 98 33 100 204 398 399 701
Perl module toolchain versions installed:
Module Have
------------------- --------
CPAN 2.11
CPAN::Meta 2.150001
Cwd 3.56
ExtUtils::CBuilder 0.280221
ExtUtils::Command 1.20
ExtUtils::Install 2.04
ExtUtils::MakeMaker 7.04_01
ExtUtils::Manifest 1.70
ExtUtils::ParseXS 3.28
File::Spec 3.56
JSON 2.90
JSON::PP 2.27300
Module::Build 0.4214
Module::Signature n/a
Parse::CPAN::Meta 1.4414
Test::Harness 3.35
Test::More 1.001014
YAML 1.15
YAML::Syck n/a
version 0.9909
--
Summary of my perl5 (revision 5 version 22 subversion 0) configuration:
Platform:
osname=darwin, osvers=14.4.0, archname=darwin-2level
uname='darwin jmaslakpro.antelope.net 14.4.0 darwin kernel version 14.4.0: sun apr 19 20:30:19 pdt 2015; root:xnu-2782.30.2~2release_x86_64 x86_64 '
config_args='-de -Dprefix=/Users/jmaslak/perl5/perlbrew/perls/perl-5.22.0 -Aeval:scriptdir=/Users/jmaslak/perl5/perlbrew/perls/perl-5.22.0/bin'
hint=recommended, useposix=true, d_sigaction=define
useithreads=undef, usemultiplicity=undef
use64bitint=define, use64bitall=define, uselongdouble=undef
usemymalloc=n, bincompat5005=undef
Compiler:
cc='cc', ccflags ='-fno-common -DPERL_DARWIN -fno-strict-aliasing -pipe -fstack-protector -I/opt/local/include',
optimize='-O3',
cppflags='-fno-common -DPERL_DARWIN -fno-strict-aliasing -pipe -fstack-protector -I/opt/local/include'
ccversion='', gccversion='4.2.1 Compatible Apple LLVM 6.0 (clang-600.0.56)', gccosandvers=''
intsize=4, longsize=8, ptrsize=8, doublesize=8, byteorder=12345678, doublekind=3
d_longlong=define, longlongsize=8, d_longdbl=define, longdblsize=16, longdblkind=3
ivtype='long', ivsize=8, nvtype='double', nvsize=8, Off_t='off_t', lseeksize=8
alignbytes=8, prototype=define
Linker and Libraries:
ld='env MACOSX_DEPLOYMENT_TARGET=10.3 cc', ldflags =' -fstack-protector -L/opt/local/lib'
libpth=/Applications/Xcode.app/Contents/Developer/Toolchains/XcodeDefault.xctoolchain/usr/bin/../lib/clang/6.0/lib /Applications/Xcode.app/Contents/Developer/Toolchains/XcodeDefault.xctoolchain/usr/lib /usr/lib /opt/local/lib
libs=-lpthread -lgdbm -ldbm -ldl -lm -lutil -lc
perllibs=-lpthread -ldl -lm -lutil -lc
libc=, so=dylib, useshrplib=false, libperl=libperl.a
gnulibc_version=''
Dynamic Linking:
dlsrc=dl_dlopen.xs, dlext=bundle, d_dlsymun=undef, ccdlflags=' '
cccdlflags=' ', lddlflags=' -bundle -undefined dynamic_lookup -L/opt/local/lib -fstack-protector'
Characteristics of this binary (from libperl):
Compile-time options: HAS_TIMES PERLIO_LAYERS PERL_DONT_CREATE_GVSV
PERL_HASH_FUNC_ONE_AT_A_TIME_HARD PERL_MALLOC_WRAP
PERL_NEW_COPY_ON_WRITE PERL_PRESERVE_IVUV
USE_64_BIT_ALL USE_64_BIT_INT USE_LARGE_FILES
USE_LOCALE USE_LOCALE_COLLATE USE_LOCALE_CTYPE
USE_LOCALE_NUMERIC USE_LOCALE_TIME USE_PERLIO
USE_PERL_ATOF
Locally applied patches:
Devel::PatchPerl 1.38
Built under darwin
Compiled at Jul 11 2015 11:45:37
%ENV:
PERL5LIB=""
PERL5OPT=""
PERL5_CPANPLUS_IS_RUNNING="8090"
PERL5_CPAN_IS_RUNNING="8090"
PERL5_CPAN_IS_RUNNING_IN_RECURSION="28394,8090"
PERLBREW_BASHRC_VERSION="0.73"
PERLBREW_HOME="/Users/jmaslak/.perlbrew"
PERLBREW_LIB=""
PERLBREW_MANPATH="/Users/jmaslak/perl5/perlbrew/perls/perl-5.22.0/man"
PERLBREW_PATH="/Users/jmaslak/perl5/perlbrew/bin:/Users/jmaslak/perl5/perlbrew/perls/perl-5.22.0/bin"
PERLBREW_PERL="perl-5.22.0"
PERLBREW_ROOT="/Users/jmaslak/perl5/perlbrew"
PERLBREW_VERSION="0.73"
PERL_CR_SMOKER_CURRENT="Data-Section-0.200006"
PERL_EXTUTILS_AUTOINSTALL="--defaultdeps"
PERL_LOCAL_LIB_ROOT=""
PERL_MM_USE_DEFAULT="1"
@INC:
/Users/jmaslak/perl5/perlbrew/perls/perl-5.22.0/lib/site_perl/5.22.0/darwin-2level
/Users/jmaslak/perl5/perlbrew/perls/perl-5.22.0/lib/site_perl/5.22.0
/Users/jmaslak/perl5/perlbrew/perls/perl-5.22.0/lib/5.22.0/darwin-2level
/Users/jmaslak/perl5/perlbrew/perls/perl-5.22.0/lib/5.22.0
.