Back
From: metabase:user:314402c4-2aae-11df-837a-5e0a49663a4f
Subject: PASS HTTP-MobileAttribute-0.23 v5.25.8 FreeBSD
Date: 2017-01-06T07:53:20Z
This distribution has been tested as part of the CPAN Testers
project, supporting the Perl programming language. See
http://wiki.cpantesters.org/ for more information or email
questions to cpan-testers-discuss@perl.org
--
Dear Author,
This is a computer-generated report for HTTP-MobileAttribute-0.23
on perl 5.25.8, created by CPAN-Reporter-1.2018.
Thank you for uploading your work to CPAN. Congratulations!
All tests were successful.
Sections of this report:
* Tester comments
* Program output
* Prerequisites
* Environment and other context
------------------------------
TESTER COMMENTS
------------------------------
Additional comments from tester:
none provided
------------------------------
PROGRAM OUTPUT
------------------------------
Output from '/usr/bin/make test':
PERL_DL_NONLAZY=1 "/usr/perl5.25.8p/bin/perl5.25.8" "-MExtUtils::Command::MM" "-MTest::Harness" "-e" "undef *Test::Harness::Switches; test_harness(0, 'inc', 'blib/lib', 'blib/arch')" t/*.t t/Plugins/*.t t/*/*/*.t
Possible precedence issue with control flow operator at /home/cpansand/.cpan/build/2017010606/HTTP-MobileAttribute-0.23-0/inc/Test/Builder.pm line 917.
t/00_compile.t .............................. ok
Possible precedence issue with control flow operator at /home/cpansand/.cpan/build/2017010606/HTTP-MobileAttribute-0.23-0/inc/Test/Builder.pm line 917.
Redundant argument in sprintf at /home/cpansand/.cpan/build/2017010606/HTTP-MobileAttribute-0.23-0/inc/Spiffy.pm line 222.
Redundant argument in sprintf at /home/cpansand/.cpan/build/2017010606/HTTP-MobileAttribute-0.23-0/inc/Spiffy.pm line 222.
Redundant argument in sprintf at /home/cpansand/.cpan/build/2017010606/HTTP-MobileAttribute-0.23-0/inc/Spiffy.pm line 222.
Redundant argument in sprintf at /home/cpansand/.cpan/build/2017010606/HTTP-MobileAttribute-0.23-0/inc/Spiffy.pm line 222.
t/01_carrier_detect.t ....................... ok
Possible precedence issue with control flow operator at /home/cpansand/.cpan/build/2017010606/HTTP-MobileAttribute-0.23-0/inc/Test/Builder.pm line 917.
t/01_request.t .............................. ok
Possible precedence issue with control flow operator at /home/cpansand/.cpan/build/2017010606/HTTP-MobileAttribute-0.23-0/inc/Test/Builder.pm line 917.
t/02_docomo.t ............................... ok
Possible precedence issue with control flow operator at /home/cpansand/.cpan/build/2017010606/HTTP-MobileAttribute-0.23-0/inc/Test/Builder.pm line 917.
t/03_j_phone.t .............................. ok
Possible precedence issue with control flow operator at /home/cpansand/.cpan/build/2017010606/HTTP-MobileAttribute-0.23-0/inc/Test/Builder.pm line 917.
t/04_ezweb.t ................................ ok
Possible precedence issue with control flow operator at /home/cpansand/.cpan/build/2017010606/HTTP-MobileAttribute-0.23-0/inc/Test/Builder.pm line 917.
t/06_nonmobile.t ............................ ok
Possible precedence issue with control flow operator at /home/cpansand/.cpan/build/2017010606/HTTP-MobileAttribute-0.23-0/inc/Test/Builder.pm line 917.
t/07_airh.t ................................. ok
Possible precedence issue with control flow operator at /home/cpansand/.cpan/build/2017010606/HTTP-MobileAttribute-0.23-0/inc/Test/Builder.pm line 917.
t/09_vodafone_3gc.t ......................... ok
Possible precedence issue with control flow operator at /home/cpansand/.cpan/build/2017010606/HTTP-MobileAttribute-0.23-0/inc/Test/Builder.pm line 917.
t/10_softbank.t ............................. ok
Possible precedence issue with control flow operator at /home/cpansand/.cpan/build/2017010606/HTTP-MobileAttribute-0.23-0/inc/Test/Builder.pm line 917.
Redundant argument in sprintf at /home/cpansand/.cpan/build/2017010606/HTTP-MobileAttribute-0.23-0/inc/Spiffy.pm line 222.
Redundant argument in sprintf at /home/cpansand/.cpan/build/2017010606/HTTP-MobileAttribute-0.23-0/inc/Spiffy.pm line 222.
Redundant argument in sprintf at /home/cpansand/.cpan/build/2017010606/HTTP-MobileAttribute-0.23-0/inc/Spiffy.pm line 222.
Redundant argument in sprintf at /home/cpansand/.cpan/build/2017010606/HTTP-MobileAttribute-0.23-0/inc/Spiffy.pm line 222.
t/11_softbank_base.t ........................ ok
Possible precedence issue with control flow operator at /home/cpansand/.cpan/build/2017010606/HTTP-MobileAttribute-0.23-0/inc/Test/Builder.pm line 917.
t/12_no_match.t ............................. ok
Possible precedence issue with control flow operator at /home/cpansand/.cpan/build/2017010606/HTTP-MobileAttribute-0.23-0/inc/Test/Builder.pm line 917.
Redundant argument in sprintf at /home/cpansand/.cpan/build/2017010606/HTTP-MobileAttribute-0.23-0/inc/Spiffy.pm line 222.
Redundant argument in sprintf at /home/cpansand/.cpan/build/2017010606/HTTP-MobileAttribute-0.23-0/inc/Spiffy.pm line 222.
Redundant argument in sprintf at /home/cpansand/.cpan/build/2017010606/HTTP-MobileAttribute-0.23-0/inc/Spiffy.pm line 222.
Redundant argument in sprintf at /home/cpansand/.cpan/build/2017010606/HTTP-MobileAttribute-0.23-0/inc/Spiffy.pm line 222.
t/Plugins/CIDR-base.t ....................... skipped: Net::CIDR::MobileJP is not installed.
Possible precedence issue with control flow operator at /home/cpansand/.cpan/build/2017010606/HTTP-MobileAttribute-0.23-0/inc/Test/Builder.pm line 917.
Redundant argument in sprintf at /home/cpansand/.cpan/build/2017010606/HTTP-MobileAttribute-0.23-0/inc/Spiffy.pm line 222.
Redundant argument in sprintf at /home/cpansand/.cpan/build/2017010606/HTTP-MobileAttribute-0.23-0/inc/Spiffy.pm line 222.
Redundant argument in sprintf at /home/cpansand/.cpan/build/2017010606/HTTP-MobileAttribute-0.23-0/inc/Spiffy.pm line 222.
Redundant argument in sprintf at /home/cpansand/.cpan/build/2017010606/HTTP-MobileAttribute-0.23-0/inc/Spiffy.pm line 222.
t/Plugins/CIDR-setter.t ..................... skipped: Net::CIDR::MobileJP is not installed.
Possible precedence issue with control flow operator at /home/cpansand/.cpan/build/2017010606/HTTP-MobileAttribute-0.23-0/inc/Test/Builder.pm line 917.
Redundant argument in sprintf at /home/cpansand/.cpan/build/2017010606/HTTP-MobileAttribute-0.23-0/inc/Spiffy.pm line 222.
Redundant argument in sprintf at /home/cpansand/.cpan/build/2017010606/HTTP-MobileAttribute-0.23-0/inc/Spiffy.pm line 222.
Redundant argument in sprintf at /home/cpansand/.cpan/build/2017010606/HTTP-MobileAttribute-0.23-0/inc/Spiffy.pm line 222.
Redundant argument in sprintf at /home/cpansand/.cpan/build/2017010606/HTTP-MobileAttribute-0.23-0/inc/Spiffy.pm line 222.
t/Plugins/CIDR-yaml.t ....................... skipped: Net::CIDR::MobileJP is not installed.
Possible precedence issue with control flow operator at /home/cpansand/.cpan/build/2017010606/HTTP-MobileAttribute-0.23-0/inc/Test/Builder.pm line 917.
Redundant argument in sprintf at /home/cpansand/.cpan/build/2017010606/HTTP-MobileAttribute-0.23-0/inc/Spiffy.pm line 222.
Redundant argument in sprintf at /home/cpansand/.cpan/build/2017010606/HTTP-MobileAttribute-0.23-0/inc/Spiffy.pm line 222.
Redundant argument in sprintf at /home/cpansand/.cpan/build/2017010606/HTTP-MobileAttribute-0.23-0/inc/Spiffy.pm line 222.
Redundant argument in sprintf at /home/cpansand/.cpan/build/2017010606/HTTP-MobileAttribute-0.23-0/inc/Spiffy.pm line 222.
t/Plugins/Display.t ......................... ok
Possible precedence issue with control flow operator at /home/cpansand/.cpan/build/2017010606/HTTP-MobileAttribute-0.23-0/inc/Test/Builder.pm line 917.
Redundant argument in sprintf at /home/cpansand/.cpan/build/2017010606/HTTP-MobileAttribute-0.23-0/inc/Spiffy.pm line 222.
Redundant argument in sprintf at /home/cpansand/.cpan/build/2017010606/HTTP-MobileAttribute-0.23-0/inc/Spiffy.pm line 222.
Redundant argument in sprintf at /home/cpansand/.cpan/build/2017010606/HTTP-MobileAttribute-0.23-0/inc/Spiffy.pm line 222.
Redundant argument in sprintf at /home/cpansand/.cpan/build/2017010606/HTTP-MobileAttribute-0.23-0/inc/Spiffy.pm line 222.
t/Plugins/DoCoMo/Browser.t .................. ok
Possible precedence issue with control flow operator at /home/cpansand/.cpan/build/2017010606/HTTP-MobileAttribute-0.23-0/inc/Test/Builder.pm line 917.
Redundant argument in sprintf at /home/cpansand/.cpan/build/2017010606/HTTP-MobileAttribute-0.23-0/inc/Spiffy.pm line 222.
Redundant argument in sprintf at /home/cpansand/.cpan/build/2017010606/HTTP-MobileAttribute-0.23-0/inc/Spiffy.pm line 222.
Redundant argument in sprintf at /home/cpansand/.cpan/build/2017010606/HTTP-MobileAttribute-0.23-0/inc/Spiffy.pm line 222.
Redundant argument in sprintf at /home/cpansand/.cpan/build/2017010606/HTTP-MobileAttribute-0.23-0/inc/Spiffy.pm line 222.
t/Plugins/Encoding.t ........................ ok
Possible precedence issue with control flow operator at /home/cpansand/.cpan/build/2017010606/HTTP-MobileAttribute-0.23-0/inc/Test/Builder.pm line 917.
Redundant argument in sprintf at /home/cpansand/.cpan/build/2017010606/HTTP-MobileAttribute-0.23-0/inc/Spiffy.pm line 222.
Redundant argument in sprintf at /home/cpansand/.cpan/build/2017010606/HTTP-MobileAttribute-0.23-0/inc/Spiffy.pm line 222.
Redundant argument in sprintf at /home/cpansand/.cpan/build/2017010606/HTTP-MobileAttribute-0.23-0/inc/Spiffy.pm line 222.
Redundant argument in sprintf at /home/cpansand/.cpan/build/2017010606/HTTP-MobileAttribute-0.23-0/inc/Spiffy.pm line 222.
t/Plugins/GPS-gps_compliant.t ............... ok
Possible precedence issue with control flow operator at /home/cpansand/.cpan/build/2017010606/HTTP-MobileAttribute-0.23-0/inc/Test/Builder.pm line 917.
Redundant argument in sprintf at /home/cpansand/.cpan/build/2017010606/HTTP-MobileAttribute-0.23-0/inc/Spiffy.pm line 222.
Redundant argument in sprintf at /home/cpansand/.cpan/build/2017010606/HTTP-MobileAttribute-0.23-0/inc/Spiffy.pm line 222.
Redundant argument in sprintf at /home/cpansand/.cpan/build/2017010606/HTTP-MobileAttribute-0.23-0/inc/Spiffy.pm line 222.
Redundant argument in sprintf at /home/cpansand/.cpan/build/2017010606/HTTP-MobileAttribute-0.23-0/inc/Spiffy.pm line 222.
THIS METHOD IS OBSOLETE. DO NOT USE THIS. at /home/cpansand/.cpan/build/2017010606/HTTP-MobileAttribute-0.23-0/blib/lib/HTTP/MobileAttribute/Plugin/GPS.pm line 13, <DATA> line 1.
THIS METHOD IS OBSOLETE. DO NOT USE THIS. at /home/cpansand/.cpan/build/2017010606/HTTP-MobileAttribute-0.23-0/blib/lib/HTTP/MobileAttribute/Plugin/GPS.pm line 13, <DATA> line 1.
t/Plugins/GPS-is_gps.t ...................... ok
Possible precedence issue with control flow operator at /home/cpansand/.cpan/build/2017010606/HTTP-MobileAttribute-0.23-0/inc/Test/Builder.pm line 917.
t/Plugins/Locator/00.load.t ................. ok
Possible precedence issue with control flow operator at /home/cpansand/.cpan/build/2017010606/HTTP-MobileAttribute-0.23-0/inc/Test/Builder.pm line 917.
t/Plugins/Locator/01.get_location.t ......... skipped: this module requires Geo::Coordinates::Converter && Geo::Coordinates::Converter::iArea
Possible precedence issue with control flow operator at /home/cpansand/.cpan/build/2017010606/HTTP-MobileAttribute-0.23-0/inc/Test/Builder.pm line 917.
t/Plugins/Locator/02.gps_comliant.t ......... skipped: this module requires Geo::Coordinates::Converter && Geo::Coordinates::Converter::iArea
Possible precedence issue with control flow operator at /home/cpansand/.cpan/build/2017010606/HTTP-MobileAttribute-0.23-0/inc/Test/Builder.pm line 917.
t/Plugins/Locator/03.non_mobile.t ........... skipped: this module requires Geo::Coordinates::Converter && Geo::Coordinates::Converter::iArea
Possible precedence issue with control flow operator at /home/cpansand/.cpan/build/2017010606/HTTP-MobileAttribute-0.23-0/inc/Test/Builder.pm line 917.
t/Plugins/Locator/04.apache_params.t ........ skipped: this module requires Geo::Coordinates::Converter && Geo::Coordinates::Converter::iArea
Possible precedence issue with control flow operator at /home/cpansand/.cpan/build/2017010606/HTTP-MobileAttribute-0.23-0/inc/Test/Builder.pm line 917.
t/Plugins/Locator/05.cgi_params.t ........... skipped: this module requires Geo::Coordinates::Converter && Geo::Coordinates::Converter::iArea
Possible precedence issue with control flow operator at /home/cpansand/.cpan/build/2017010606/HTTP-MobileAttribute-0.23-0/inc/Test/Builder.pm line 917.
t/Plugins/Locator/06.hashref_params.t ....... skipped: this module requires Geo::Coordinates::Converter && Geo::Coordinates::Converter::iArea
Possible precedence issue with control flow operator at /home/cpansand/.cpan/build/2017010606/HTTP-MobileAttribute-0.23-0/inc/Test/Builder.pm line 917.
t/Plugins/Locator/07.gps_parameter.t ........ skipped: this module requires Geo::Coordinates::Converter && Geo::Coordinates::Converter::iArea
Possible precedence issue with control flow operator at /home/cpansand/.cpan/build/2017010606/HTTP-MobileAttribute-0.23-0/inc/Test/Builder.pm line 917.
t/Plugins/Locator/08.regression-params.t .... skipped: this module requires Geo::Coordinates::Converter && Geo::Coordinates::Converter::iArea
Possible precedence issue with control flow operator at /home/cpansand/.cpan/build/2017010606/HTTP-MobileAttribute-0.23-0/inc/Test/Builder.pm line 917.
t/Plugins/Locator/09.get_carrier_locator.t .. skipped: this module requires Geo::Coordinates::Converter && Geo::Coordinates::Converter::iArea
Possible precedence issue with control flow operator at /home/cpansand/.cpan/build/2017010606/HTTP-MobileAttribute-0.23-0/inc/Test/Builder.pm line 917.
Redundant argument in sprintf at /home/cpansand/.cpan/build/2017010606/HTTP-MobileAttribute-0.23-0/inc/Spiffy.pm line 222.
Redundant argument in sprintf at /home/cpansand/.cpan/build/2017010606/HTTP-MobileAttribute-0.23-0/inc/Spiffy.pm line 222.
Redundant argument in sprintf at /home/cpansand/.cpan/build/2017010606/HTTP-MobileAttribute-0.23-0/inc/Spiffy.pm line 222.
Redundant argument in sprintf at /home/cpansand/.cpan/build/2017010606/HTTP-MobileAttribute-0.23-0/inc/Spiffy.pm line 222.
t/Plugins/UserID-base.t ..................... ok
Possible precedence issue with control flow operator at /home/cpansand/.cpan/build/2017010606/HTTP-MobileAttribute-0.23-0/inc/Test/Builder.pm line 917.
Redundant argument in sprintf at /home/cpansand/.cpan/build/2017010606/HTTP-MobileAttribute-0.23-0/inc/Spiffy.pm line 222.
Redundant argument in sprintf at /home/cpansand/.cpan/build/2017010606/HTTP-MobileAttribute-0.23-0/inc/Spiffy.pm line 222.
Redundant argument in sprintf at /home/cpansand/.cpan/build/2017010606/HTTP-MobileAttribute-0.23-0/inc/Spiffy.pm line 222.
Redundant argument in sprintf at /home/cpansand/.cpan/build/2017010606/HTTP-MobileAttribute-0.23-0/inc/Spiffy.pm line 222.
t/Plugins/UserID-fallback-card.t ............ ok
Possible precedence issue with control flow operator at /home/cpansand/.cpan/build/2017010606/HTTP-MobileAttribute-0.23-0/inc/Test/Builder.pm line 917.
Redundant argument in sprintf at /home/cpansand/.cpan/build/2017010606/HTTP-MobileAttribute-0.23-0/inc/Spiffy.pm line 222.
Redundant argument in sprintf at /home/cpansand/.cpan/build/2017010606/HTTP-MobileAttribute-0.23-0/inc/Spiffy.pm line 222.
Redundant argument in sprintf at /home/cpansand/.cpan/build/2017010606/HTTP-MobileAttribute-0.23-0/inc/Spiffy.pm line 222.
Redundant argument in sprintf at /home/cpansand/.cpan/build/2017010606/HTTP-MobileAttribute-0.23-0/inc/Spiffy.pm line 222.
t/Plugins/UserID-fallback.t ................. ok
Possible precedence issue with control flow operator at /home/cpansand/.cpan/build/2017010606/HTTP-MobileAttribute-0.23-0/inc/Test/Builder.pm line 917.
Redundant argument in sprintf at /home/cpansand/.cpan/build/2017010606/HTTP-MobileAttribute-0.23-0/inc/Spiffy.pm line 222.
Redundant argument in sprintf at /home/cpansand/.cpan/build/2017010606/HTTP-MobileAttribute-0.23-0/inc/Spiffy.pm line 222.
Redundant argument in sprintf at /home/cpansand/.cpan/build/2017010606/HTTP-MobileAttribute-0.23-0/inc/Spiffy.pm line 222.
Redundant argument in sprintf at /home/cpansand/.cpan/build/2017010606/HTTP-MobileAttribute-0.23-0/inc/Spiffy.pm line 222.
t/Plugins/UserID-supports_user_id.t ......... ok
All tests successful.
Files=34, Tests=2753, 5 wallclock secs ( 0.16 usr 0.19 sys + 1.80 cusr 0.67 csys = 2.81 CPU)
Result: PASS
------------------------------
PREREQUISITES
------------------------------
Prerequisite modules loaded:
requires:
Module Need Have
------------------- -------- --------
Class::Component 0.17 0.17
Filter::Util::Call 0 1.55
perl 5.008001 5.025008
UNIVERSAL::require 0.13 0.18
build_requires:
Module Need Have
------------------- -------- --------
ExtUtils::MakeMaker 6.42 7.24
YAML 0 1.20
configure_requires:
Module Need Have
------------------- -------- --------
ExtUtils::MakeMaker 6.42 7.24
------------------------------
ENVIRONMENT AND OTHER CONTEXT
------------------------------
Environment variables:
LC_ALL = de_DE.ISO8859-1
PATH = /usr/local/bin:/usr/bin:/bin:/usr/local/sbin:/usr/sbin:/sbin:/home/cpansand/bin/freebsd10.1:/home/cpansand/bin/sh:/home/cpansand/bin:/usr/games:/home/cpansand/devel:/home/eserte/src/srezic-misc/scripts
PERL5LIB = /home/cpansand/.cpan/build/2017010606/Class-Component-0.17-0/blib/arch:/home/cpansand/.cpan/build/2017010606/Class-Component-0.17-0/blib/lib:/home/cpansand/.cpan/build/2017010606/HTTP-MobileAgent-0.36-0/blib/arch:/home/cpansand/.cpan/build/2017010606/HTTP-MobileAgent-0.36-0/blib/lib:/home/cpansand/.cpan/build/2017010606/WWW-MobileCarrierJP-0.65-0/blib/arch:/home/cpansand/.cpan/build/2017010606/WWW-MobileCarrierJP-0.65-0/blib/lib:/home/cpansand/.cpan/build/2017010606/Web-Scraper-0.38-0/blib/arch:/home/cpansand/.cpan/build/2017010606/Web-Scraper-0.38-0/blib/lib:/home/cpansand/.cpan/build/2017010606/LWP-Online-1.08-0/blib/arch:/home/cpansand/.cpan/build/2017010606/LWP-Online-1.08-0/blib/lib:/home/cpansand/.cpan/build/2017010606/HTML-TableExtract-2.13-0/blib/arch:/home/cpansand/.cpan/build/2017010606/HTML-TableExtract-2.13-0/blib/lib:/home/cpansand/.cpan/build/2017010606/HTML-Selector-XPath-0.20-0/blib/arch:/home/cpansand/.cpan/build/2017010606/HTML-Selector-XPath-0.20-0/blib/lib
PERL5OPT =
PERL5_CPANPLUS_IS_RUNNING = 50686
PERL5_CPAN_IS_RUNNING = 50686
PERL5_CPAN_IS_RUNNING_IN_RECURSION = 50672,50686
PERLDOC = -MPod::Perldoc::ToTextOverstrike
PERL_BATCH = yes
PERL_CANARY_STABILITY_NOPROMPT = 1
PERL_CPAN_REPORTER_CONFIG = /var/tmp/cpansmoker-1023/2017010606/cpanreporter_001_config.ini
PERL_EXTUTILS_AUTOINSTALL = --defaultdeps
SHELL = /usr/local/bin/zsh
TERM = screen
TMPDIR = /var/tmp/cpansmoker-1023/2017010606
Perl special variables (and OS-specific diagnostics, for MSWin32):
$^X = /usr/perl5.25.8p/bin/perl5.25.8
$UID/$EUID = 1023 / 1023
$GID = 1023 1023
$EGID = 1023 1023
Perl module toolchain versions installed:
Module Have
------------------- ----------
CPAN 2.14_01
CPAN::Meta 2.150010
Cwd 3.66
ExtUtils::CBuilder 0.280225
ExtUtils::Command 7.24
ExtUtils::Install 2.04
ExtUtils::MakeMaker 7.24
ExtUtils::Manifest 1.70
ExtUtils::ParseXS 3.33
File::Spec 3.66
JSON 2.90
JSON::PP 2.27400_02
Module::Build 0.4220
Module::Signature n/a
Parse::CPAN::Meta 2.150010
Test::Harness 3.36_01
Test::More 1.302073
YAML 1.20
YAML::Syck 1.29
version 0.9917
--
Summary of my perl5 (revision 5 version 25 subversion 8) configuration:
Platform:
osname=freebsd
osvers=10.1-release
archname=amd64-freebsd
uname='freebsd cvrsnica-freebsd-101.herceg.de 10.1-release freebsd 10.1-release #0 r274401: tue nov 11 21:02:49 utc 2014 root@releng1.nyi.freebsd.org:usrobjusrsrcsysgeneric amd64 '
config_args='-ds -e -Dprefix=/usr/perl5.25.8p -Dusedevel -Dusemallocwrap=no -Dcf_email=srezic@cpan.org -Doptimize=-O2 -pipe'
hint=recommended
useposix=true
d_sigaction=define
useithreads=undef
usemultiplicity=undef
use64bitint=define
use64bitall=define
uselongdouble=undef
usemymalloc=n
bincompat5005=undef
Compiler:
cc='cc'
ccflags ='-DHAS_FPSETMASK -DHAS_FLOATINGPOINT_H -fno-strict-aliasing -pipe -fstack-protector -I/usr/local/include -D_FORTIFY_SOURCE=2'
optimize='-O2 -pipe'
cppflags='-DHAS_FPSETMASK -DHAS_FLOATINGPOINT_H -fno-strict-aliasing -pipe -fstack-protector -I/usr/local/include'
ccversion=''
gccversion='4.2.1 Compatible FreeBSD Clang 3.4.1 (tags/RELEASE_34/dot1-final 208032)'
gccosandvers=''
intsize=4
longsize=8
ptrsize=8
doublesize=8
byteorder=12345678
doublekind=3
d_longlong=define
longlongsize=8
d_longdbl=define
longdblsize=16
longdblkind=3
ivtype='long'
ivsize=8
nvtype='double'
nvsize=8
Off_t='off_t'
lseeksize=8
alignbytes=8
prototype=define
Linker and Libraries:
ld='cc'
ldflags ='-pthread -Wl,-E -fstack-protector -L/usr/local/lib'
libpth=/usr/lib /usr/local/lib /usr/include/clang/3.4.1 /usr/lib
libs=-lpthread -lgdbm -lm -lcrypt -lutil -lc
perllibs=-lpthread -lm -lcrypt -lutil -lc
libc=
so=so
useshrplib=false
libperl=libperl.a
gnulibc_version=''
Dynamic Linking:
dlsrc=dl_dlopen.xs
dlext=so
d_dlsymun=undef
ccdlflags=' '
cccdlflags='-DPIC -fPIC'
lddlflags='-shared -L/usr/local/lib -fstack-protector'
Characteristics of this binary (from libperl):
Compile-time options:
HAS_TIMES
PERLIO_LAYERS
PERL_COPY_ON_WRITE
PERL_DONT_CREATE_GVSV
PERL_OP_PARENT
PERL_PRESERVE_IVUV
PERL_USE_DEVEL
USE_64_BIT_ALL
USE_64_BIT_INT
USE_LARGE_FILES
USE_LOCALE
USE_LOCALE_COLLATE
USE_LOCALE_CTYPE
USE_LOCALE_NUMERIC
USE_LOCALE_TIME
USE_PERLIO
USE_PERL_ATOF
Built under freebsd
Compiled at Dec 22 2016 00:19:16
%ENV:
PERL5LIB="/home/cpansand/.cpan/build/2017010606/Class-Component-0.17-0/blib/arch:/home/cpansand/.cpan/build/2017010606/Class-Component-0.17-0/blib/lib:/home/cpansand/.cpan/build/2017010606/HTTP-MobileAgent-0.36-0/blib/arch:/home/cpansand/.cpan/build/2017010606/HTTP-MobileAgent-0.36-0/blib/lib:/home/cpansand/.cpan/build/2017010606/WWW-MobileCarrierJP-0.65-0/blib/arch:/home/cpansand/.cpan/build/2017010606/WWW-MobileCarrierJP-0.65-0/blib/lib:/home/cpansand/.cpan/build/2017010606/Web-Scraper-0.38-0/blib/arch:/home/cpansand/.cpan/build/2017010606/Web-Scraper-0.38-0/blib/lib:/home/cpansand/.cpan/build/2017010606/LWP-Online-1.08-0/blib/arch:/home/cpansand/.cpan/build/2017010606/LWP-Online-1.08-0/blib/lib:/home/cpansand/.cpan/build/2017010606/HTML-TableExtract-2.13-0/blib/arch:/home/cpansand/.cpan/build/2017010606/HTML-TableExtract-2.13-0/blib/lib:/home/cpansand/.cpan/build/2017010606/HTML-Selector-XPath-0.20-0/blib/arch:/home/cpansand/.cpan/build/2017010606/HTML-Selector-XPath-0.20-0/blib/lib"
PERL5OPT=""
PERL5_CPANPLUS_IS_RUNNING="50686"
PERL5_CPAN_IS_RUNNING="50686"
PERL5_CPAN_IS_RUNNING_IN_RECURSION="50672,50686"
PERLDOC="-MPod::Perldoc::ToTextOverstrike"
PERL_BATCH="yes"
PERL_CANARY_STABILITY_NOPROMPT="1"
PERL_CPAN_REPORTER_CONFIG="/var/tmp/cpansmoker-1023/2017010606/cpanreporter_001_config.ini"
PERL_EXTUTILS_AUTOINSTALL="--defaultdeps"
@INC:
/home/cpansand/.cpan/build/2017010606/Class-Component-0.17-0/blib/arch
/home/cpansand/.cpan/build/2017010606/Class-Component-0.17-0/blib/lib
/home/cpansand/.cpan/build/2017010606/HTTP-MobileAgent-0.36-0/blib/arch
/home/cpansand/.cpan/build/2017010606/HTTP-MobileAgent-0.36-0/blib/lib
/home/cpansand/.cpan/build/2017010606/WWW-MobileCarrierJP-0.65-0/blib/arch
/home/cpansand/.cpan/build/2017010606/WWW-MobileCarrierJP-0.65-0/blib/lib
/home/cpansand/.cpan/build/2017010606/Web-Scraper-0.38-0/blib/arch
/home/cpansand/.cpan/build/2017010606/Web-Scraper-0.38-0/blib/lib
/home/cpansand/.cpan/build/2017010606/LWP-Online-1.08-0/blib/arch
/home/cpansand/.cpan/build/2017010606/LWP-Online-1.08-0/blib/lib
/home/cpansand/.cpan/build/2017010606/HTML-TableExtract-2.13-0/blib/arch
/home/cpansand/.cpan/build/2017010606/HTML-TableExtract-2.13-0/blib/lib
/home/cpansand/.cpan/build/2017010606/HTML-Selector-XPath-0.20-0/blib/arch
/home/cpansand/.cpan/build/2017010606/HTML-Selector-XPath-0.20-0/blib/lib
/usr/perl5.25.8p/lib/site_perl/5.25.8/amd64-freebsd
/usr/perl5.25.8p/lib/site_perl/5.25.8
/usr/perl5.25.8p/lib/5.25.8/amd64-freebsd
/usr/perl5.25.8p/lib/5.25.8
.