Report for Data-Rx-Tools-ShareDirValidator-0.1.3

Back
From: metabase:user:c5d8ed3c-9413-11e3-9500-9628c7c7991c
Subject: PASS Data-Rx-Tools-ShareDirValidator-0.1.3 v5.16.3 FreeBSD
Date: 2014-06-12T01:30:52Z

This distribution has been tested as part of the CPAN Testers
project, supporting the Perl programming language.  See
http://wiki.cpantesters.org/ for more information or email
questions to cpan-testers-discuss@perl.org


--
Dear Kent Fredric,

This is a computer-generated report for Data-Rx-Tools-ShareDirValidator-0.1.3
on perl 5.16.3, created by CPAN-Reporter-1.2006.

Thank you for uploading your work to CPAN.  Congratulations!
All tests were successful.

Sections of this report:

    * Tester comments
    * Program output
    * Prerequisites
    * Environment and other context

------------------------------
TESTER COMMENTS
------------------------------

Additional comments from tester:

this report is from an automated smoke testing program
and was not reviewed by a human for accuracy

------------------------------
PROGRAM OUTPUT
------------------------------

Output from './Build test':

t/00-compile.t ................ ok
# 
# 
# Generated by Dist::Zilla::Plugin::ReportVersions::Tiny v1.08
# perl: 5.016003 (wanted v5.10.0) on freebsd from /usr/local/bin/perl5.16.3
# 
# Carp                                          => 1.32       (want any version)
# Data::Rx                                      => 0.200006   (want any version)
# Dist::Zilla::PluginBundle::Author::KENTNL     => module not found. (want v1.7.2) 
# Dist::Zilla::PluginBundle::Author::KENTNL::Lite => module not found. (want v1.3.0) 
# File::Find                                    => 1.20       (want any version)
# File::ShareDir                                => 1.03       (want any version)
# File::Temp                                    => 0.2301     (want any version)
# FindBin                                       => 1.51       (want any version)
# JSON                                          => 2.90       (want any version)
# Module::Build                                 => 0.4205     (want 0.4004) 
# Path::Tiny                                    => 0.047      (want any version)
# Pod::Coverage::TrustPod                       => module not found. (want any version)
# Scalar::Util                                  => 1.35       (want any version)
# Test::CPAN::Meta                              => module not found. (want any version)
# Test::Fatal                                   => 0.013      (want any version)
# Test::File::ShareDir                          => 1.000001   (want any version)
# Test::More                                    => 1.001002   (want 0.98)   
# Test::Pod                                     => 1.48       (want 1.41)   
# Test::Pod::Coverage                           => 1.08       (want 1.08)   
# parent                                        => 0.225      (want any version)
# strict                                        => 1.07       (want any version)
# version                                       => 0.99       (want 0.9901) 
# warnings                                      => 1.13       (want any version)
# 
# Thanks for using my code.  I hope it works for you.
# If not, please try and include this output in the bug report.
# That will help me reproduce the issue and solve your problem.
# 
t/000-report-versions-tiny.t .. ok
t/01_load.t ................... ok
t/02_blessed.t ................ ok
t/03_non_blessed_ref.t ........ ok
All tests successful.
Files=5, Tests=10,  1 wallclock secs ( 0.03 usr  0.01 sys +  0.65 cusr  0.33 csys =  1.02 CPU)
Result: PASS

------------------------------
PREREQUISITES
------------------------------

Prerequisite modules loaded:

requires:

    Module               Need    Have    
    -------------------- ------- --------
    Carp                 0       1.32    
    Data::Rx             0       0.200006
    File::ShareDir       0       1.03    
    JSON                 0       2.90    
    Path::Tiny           0       0.047   
    perl                 v5.10.0 5.016003
    Scalar::Util         0       1.35    
    strict               0       1.07    
    warnings             0       1.13    

build_requires:

    Module               Need    Have    
    -------------------- ------- --------
    File::Find           0       1.20    
    File::Temp           0       0.2301  
    FindBin              0       1.51    
    Module::Build        0.4004  0.4205  
    parent               0       0.225   
    Test::Fatal          0       0.013   
    Test::File::ShareDir 0       1.000001
    Test::More           0.98    1.001002

configure_requires:

    Module               Need    Have    
    -------------------- ------- --------
    Module::Build        0.4004  0.4205  


------------------------------
ENVIRONMENT AND OTHER CONTEXT
------------------------------

Environment variables:

    AUTOMATED_TESTING = 1
    PATH = /sbin:/bin:/usr/sbin:/usr/bin:/usr/games:/usr/local/sbin:/usr/local/bin:/home/cpan/bin
    PERL5LIB = /home/cpan/.cpan/build/Test-File-ShareDir-1.000001-gAqtNz/blib/arch:/home/cpan/.cpan/build/Test-File-ShareDir-1.000001-gAqtNz/blib/lib:/home/cpan/.cpan/build/Test-Fatal-0.013-w1z5DI/blib/arch:/home/cpan/.cpan/build/Test-Fatal-0.013-w1z5DI/blib/lib:/home/cpan/.cpan/build/Data-Rx-0.200006-F72Qds/blib/arch:/home/cpan/.cpan/build/Data-Rx-0.200006-F72Qds/blib/lib:/home/cpan/.cpan/build/Number-Tolerant-1.703-BRpvlB/blib/arch:/home/cpan/.cpan/build/Number-Tolerant-1.703-BRpvlB/blib/lib:/home/cpan/.cpan/build/Try-Tiny-0.22-a4wZCR/blib/arch:/home/cpan/.cpan/build/Try-Tiny-0.22-a4wZCR/blib/lib:/home/cpan/.cpan/build/Module-Build-0.4205-sFpoXV/blib/arch:/home/cpan/.cpan/build/Module-Build-0.4205-sFpoXV/blib/lib
    PERL5OPT = 
    PERL5_CPANPLUS_IS_RUNNING = 27929
    PERL5_CPAN_IS_RUNNING = 27929
    PERL5_CPAN_IS_RUNNING_IN_RECURSION = 55428,27929
    PERL_CR_SMOKER_CURRENT = Data-Rx-Tools-ShareDirValidator-0.1.3
    PERL_EXTUTILS_AUTOINSTALL = --defaultdeps
    PERL_MM_USE_DEFAULT = 1
    SHELL = /bin/sh
    TERM = screen

Perl special variables (and OS-specific diagnostics, for MSWin32):

    $^X = /usr/local/bin/perl5.16.3
    $UID/$EUID = 1001 / 1001
    $GID = 1001 1001
    $EGID = 1001 1001

Perl module toolchain versions installed:

    Module              Have    
    ------------------- --------
    CPAN                1.9800  
    CPAN::Meta          2.140640
    Cwd                 3.40    
    ExtUtils::CBuilder  0.280206
    ExtUtils::Command   1.17    
    ExtUtils::Install   1.58    
    ExtUtils::MakeMaker 6.6302  
    ExtUtils::Manifest  1.61    
    ExtUtils::ParseXS   3.16    
    File::Spec          3.40    
    JSON                2.90    
    JSON::PP            2.27200 
    Module::Build       0.4205  
    Module::Signature   0.73    
    Parse::CPAN::Meta   1.4414  
    Test::Harness       3.23    
    Test::More          1.001002
    YAML                0.87    
    YAML::Syck          n/a     
    version             0.99    


--

Summary of my perl5 (revision 5 version 16 subversion 3) configuration:
   
  Platform:
    osname=freebsd, osvers=9.1-release-p10, archname=amd64-freebsd-thread-multi
    uname='freebsd 91amd64-default-job-07 9.1-release-p10 freebsd 9.1-release-p10 amd64 '
    config_args='-sde -Dprefix=/usr/local -Darchlib=/usr/local/lib/perl5/5.16/mach -Dprivlib=/usr/local/lib/perl5/5.16 -Dman3dir=/usr/local/lib/perl5/5.16/perl/man/man3 -Dman1dir=/usr/local/man/man1 -Dsitearch=/usr/local/lib/perl5/site_perl/5.16/mach -Dsitelib=/usr/local/lib/perl5/site_perl/5.16 -Dscriptdir=/usr/local/bin -Dsiteman3dir=/usr/local/lib/perl5/5.16/man/man3 -Dsiteman1dir=/usr/local/man/man1 -Ui_malloc -Ui_iconv -Uinstallusrbinperl -Dcc=cc -Duseshrplib -Dinc_version_list=none -Dccflags=-DAPPLLIB_EXP="/usr/local/lib/perl5/5.16/BSDPAN" -Doptimize=-O2 -pipe -fno-strict-aliasing -Ui_gdbm -Dusethreads=y -Dusemymalloc=n -Duse64bitint'
    hint=recommended, useposix=true, d_sigaction=define
    useithreads=define, usemultiplicity=define
    useperlio=define, d_sfio=undef, uselargefiles=define, usesocks=undef
    use64bitint=define, use64bitall=define, uselongdouble=undef
    usemymalloc=n, bincompat5005=undef
  Compiler:
    cc='cc', ccflags ='-DAPPLLIB_EXP="/usr/local/lib/perl5/5.16/BSDPAN" -DHAS_FPSETMASK -DHAS_FLOATINGPOINT_H -fno-strict-aliasing -pipe -fstack-protector -I/usr/local/include',
    optimize='-O2 -pipe -fno-strict-aliasing',
    cppflags='-DAPPLLIB_EXP="/usr/local/lib/perl5/5.16/BSDPAN" -DHAS_FPSETMASK -DHAS_FLOATINGPOINT_H -fno-strict-aliasing -pipe -fstack-protector -I/usr/local/include'
    ccversion='', gccversion='4.2.1 20070831 patched [FreeBSD]', gccosandvers=''
    intsize=4, longsize=8, ptrsize=8, doublesize=8, byteorder=12345678
    d_longlong=define, longlongsize=8, d_longdbl=define, longdblsize=16
    ivtype='long', ivsize=8, nvtype='double', nvsize=8, Off_t='off_t', lseeksize=8
    alignbytes=8, prototype=define
  Linker and Libraries:
    ld='cc', ldflags ='-pthread -Wl,-E  -fstack-protector -L/usr/local/lib'
    libpth=/usr/lib /usr/local/lib
    libs=-lm -lcrypt -lutil
    perllibs=-lm -lcrypt -lutil
    libc=, so=so, useshrplib=true, libperl=libperl.so
    gnulibc_version=''
  Dynamic Linking:
    dlsrc=dl_dlopen.xs, dlext=so, d_dlsymun=undef, ccdlflags='  -Wl,-R/usr/local/lib/perl5/5.16/mach/CORE'
    cccdlflags='-DPIC -fPIC', lddlflags='-shared  -L/usr/local/lib -fstack-protector'


Characteristics of this binary (from libperl): 
  Compile-time options: HAS_TIMES MULTIPLICITY PERLIO_LAYERS
                        PERL_DONT_CREATE_GVSV PERL_IMPLICIT_CONTEXT
                        PERL_MALLOC_WRAP PERL_PRESERVE_IVUV USE_64_BIT_ALL
                        USE_64_BIT_INT USE_ITHREADS USE_LARGE_FILES
                        USE_LOCALE USE_LOCALE_COLLATE USE_LOCALE_CTYPE
                        USE_LOCALE_NUMERIC USE_PERLIO USE_PERL_ATOF
                        USE_REENTRANT_API
  Built under freebsd
  Compiled at Mar 19 2014 19:17:27
  %ENV:
    PERL5LIB="/home/cpan/.cpan/build/Test-File-ShareDir-1.000001-gAqtNz/blib/arch:/home/cpan/.cpan/build/Test-File-ShareDir-1.000001-gAqtNz/blib/lib:/home/cpan/.cpan/build/Test-Fatal-0.013-w1z5DI/blib/arch:/home/cpan/.cpan/build/Test-Fatal-0.013-w1z5DI/blib/lib:/home/cpan/.cpan/build/Data-Rx-0.200006-F72Qds/blib/arch:/home/cpan/.cpan/build/Data-Rx-0.200006-F72Qds/blib/lib:/home/cpan/.cpan/build/Number-Tolerant-1.703-BRpvlB/blib/arch:/home/cpan/.cpan/build/Number-Tolerant-1.703-BRpvlB/blib/lib:/home/cpan/.cpan/build/Try-Tiny-0.22-a4wZCR/blib/arch:/home/cpan/.cpan/build/Try-Tiny-0.22-a4wZCR/blib/lib:/home/cpan/.cpan/build/Module-Build-0.4205-sFpoXV/blib/arch:/home/cpan/.cpan/build/Module-Build-0.4205-sFpoXV/blib/lib"
    PERL5OPT=""
    PERL5_CPANPLUS_IS_RUNNING="27929"
    PERL5_CPAN_IS_RUNNING="27929"
    PERL5_CPAN_IS_RUNNING_IN_RECURSION="55428,27929"
    PERL_CR_SMOKER_CURRENT="Data-Rx-Tools-ShareDirValidator-0.1.3"
    PERL_EXTUTILS_AUTOINSTALL="--defaultdeps"
    PERL_MM_USE_DEFAULT="1"
  @INC:
    /home/cpan/.cpan/build/Test-File-ShareDir-1.000001-gAqtNz/blib/arch
    /home/cpan/.cpan/build/Test-File-ShareDir-1.000001-gAqtNz/blib/lib
    /home/cpan/.cpan/build/Test-Fatal-0.013-w1z5DI/blib/arch
    /home/cpan/.cpan/build/Test-Fatal-0.013-w1z5DI/blib/lib
    /home/cpan/.cpan/build/Data-Rx-0.200006-F72Qds/blib/arch
    /home/cpan/.cpan/build/Data-Rx-0.200006-F72Qds/blib/lib
    /home/cpan/.cpan/build/Number-Tolerant-1.703-BRpvlB/blib/arch
    /home/cpan/.cpan/build/Number-Tolerant-1.703-BRpvlB/blib/lib
    /home/cpan/.cpan/build/Try-Tiny-0.22-a4wZCR/blib/arch
    /home/cpan/.cpan/build/Try-Tiny-0.22-a4wZCR/blib/lib
    /home/cpan/.cpan/build/Module-Build-0.4205-sFpoXV/blib/arch
    /home/cpan/.cpan/build/Module-Build-0.4205-sFpoXV/blib/lib
    /usr/local/lib/perl5/5.16/BSDPAN
    /usr/local/lib/perl5/site_perl/5.16/mach
    /usr/local/lib/perl5/site_perl/5.16
    /usr/local/lib/perl5/5.16/mach
    /usr/local/lib/perl5/5.16
    .