CGI-Cache v1.4211 Perl 5 v5.26.0 amd64-netbsd

Status
Pass
From
Nigel Horne
Dist
CGI-Cache v1.4211
Platform
Perl 5 v5.26.0 amd64-netbsd
Date
2018-07-08 23:32:34
ID
30bb0e46-8307-11e8-afbd-869262b887d7
This distribution has been tested as part of the CPAN Testers
project, supporting the Perl programming language.  See
http://wiki.cpantesters.org/ for more information or email
questions to cpan-testers-discuss@perl.org


--
Dear David Coppit,

This is a computer-generated report for CGI-Cache-1.4211
on perl 5.26.0, created by CPAN-Reporter-1.2018.

Thank you for uploading your work to CPAN.  Congratulations!
All tests were successful.

Sections of this report:

    * Tester comments
    * Program output
    * Prerequisites
    * Environment and other context

------------------------------
TESTER COMMENTS
------------------------------

Additional comments from tester:

this report is from an automated smoke testing program
and was not reviewed by a human for accuracy

------------------------------
PROGRAM OUTPUT
------------------------------

Output from '/usr/bin/make test':

PERL_DL_NONLAZY=1 "/home/njh/perl5/perlbrew/perls/perl-5.26.0/bin/perl" "-MExtUtils::Command::MM" "-MTest::Harness" "-e" "undef *Test::Harness::Switches; test_harness(1, 'blib/lib', 'blib/arch')" t/*.t
t/000_standard__compile.t ....... 
1..1
ok 1 - Compile test for blib/lib/CGI/Cache.pm
ok
t/000_standard__perl_critic.t ... skipped: Author test. Set $ENV{TEST_AUTHOR} to a true value to run.
t/000_standard__pod.t ........... 
1..1
ok 1 - POD test for blib/lib/CGI/Cache.pm
ok
t/000_standard__pod_coverage.t .. 
1..1
ok 1 - Pod coverage on CGI::Cache
ok
t/basic.t ....................... 
1..11
ok 1 - use CGI::Cache;
ok 2 - No errors initializing with default values
ok 3 - Return value after initializing with default values
ok 4 - No errors initializing with non-default values
ok 5 - Return value after initializing with non-default values
ok 6 - No errors setting a simple key
ok 7 - Return value after setting a simple key
ok 8 - No errors setting a complex key
ok 9 - Return value after setting a complex key
ok 10 - Empty cache directory until something cached
Cached output
ok 11 - Cache directory after something cached
ok
t/buffer.t ...................... 
1..6
ok 1 - read buffer(): Computing the right output
ok 2 - read buffer(): Computing the right errors
ok 3 - read buffer(): Correct cached data
ok 4 - write buffer(): Computing the right output
ok 5 - write buffer(): Computing the right errors
ok 6 - write buffer(): Correct cached data
ok
t/cgi_carp.t .................... 
1..7
ok 1 - CGI::Carp not caching with default attributes: Computing the right output
ok 2 - CGI::Carp not caching with default attributes: Computing the right errors
ok 3 - CGI::Carp not caching with default attributes: Undefined cached data
ok 4 - Empty cache directory until something cached
ok 5 - CGI::Carp caching with default attributes: Computing the right output
ok 6 - CGI::Carp caching with default attributes: Computing the right errors
ok 7 - CGI::Carp caching with default attributes: Correct cached data
ok
t/disabled_ouput.t .............. 
1..3
ok 1 - Disabled output: Computing the right output
ok 2 - Disabled output: Computing the right errors
ok 3 - Disabled output: Correct cached data
ok
t/invalidate_cache_entry.t ...... 
1..6
ok 1 - invalidate_cache_entry() setup: Computing the right output
ok 2 - invalidate_cache_entry() setup: Computing the right errors
ok 3 - invalidate_cache_entry() setup: Correct cached data
ok 4 - invalidate_cache_entry() operation: Computing the right output
ok 5 - invalidate_cache_entry() operation: Computing the right errors
ok 6 - invalidate_cache_entry() operation: Correct cached data
ok
t/non-caching.t ................. 
1..15
ok 1 - die() prevents caching: Computing the right output
ok 2 - die() prevents caching: Computing the right errors
ok 3 - die() prevents caching: Undefined cached data
ok 4 - Empty cache directory until something cached
ok 5 - Print to STDERR prevents caching: Computing the right output
ok 6 - Print to STDERR prevents caching: Computing the right errors
ok 7 - Print to STDERR prevents caching: Undefined cached data
ok 8 - Empty cache directory until something cached
ok 9 - redirected die() prevents caching: Computing the right output
ok 10 - redirected die() prevents caching: Computing the right errors
ok 11 - redirected die() prevents caching: Undefined cached data
ok 12 - Empty cache directory until something cached
ok 13 - die() (with filehandles) prevents caching: Computing the right output
ok 14 - die() (with filehandles) prevents caching: Computing the right errors
ok 15 - die() (with filehandles) prevents caching: Undefined cached data
ok
t/pause_continue.t .............. 
1..6
ok 1 - pause() and continue(): Computing the right output
ok 2 - pause() and continue(): Computing the right errors
ok 3 - pause() and continue(): Correct cached data
ok 4 - pause() and continue() with filehandles: Computing the right output
ok 5 - pause() and continue() with filehandles: Computing the right errors
ok 6 - pause() and continue() with filehandles: Correct cached data
ok
t/stop.t ........................ 
1..6
ok 1 - stop(): Computing the right output
ok 2 - stop(): Computing the right errors
ok 3 - stop(): Correct cached data
ok 4 - stop() with filehandles: Computing the right output
ok 5 - stop() with filehandles: Computing the right errors
ok 6 - stop() with filehandles: Correct cached data
ok
t/user_specified_filehandle.t ... 
1..6
ok 1 - Output to non-STDOUT filehandle: Computing the right output
ok 2 - Output to non-STDOUT filehandle: Computing the right errors
ok 3 - Output to non-STDOUT filehandle: Correct cached data
ok 4 - Monitor non-STDOUT filehandle: Computing the right output
ok 5 - Monitor non-STDOUT filehandle: Computing the right errors
ok 6 - Monitor non-STDOUT filehandle: Correct cached data
ok
All tests successful.
Files=13, Tests=69, 10 wallclock secs ( 0.10 usr  0.02 sys +  3.89 cusr  1.11 csys =  5.12 CPU)
Result: PASS

------------------------------
PREREQUISITES
------------------------------

Prerequisite modules loaded:

requires:

    Module              Need  Have    
    ------------------- ----- --------
    Cache::Cache        0     1.08    
    File::Path          0     2.12_01 
    File::Spec          0     3.67    
    perl                5.005 5.026000
    Storable            0     2.62    
    Tie::Restore        0     0.11    

build_requires:

    Module              Need  Have    
    ------------------- ----- --------
    Error               0     0.17026 
    ExtUtils::MakeMaker 6.36  7.24    
    File::Slurper       0     0.012   
    Test::Compile       0     v1.3.0  
    Test::More          0     1.302136
    UNIVERSAL::require  0     0.18    
    URI::Escape         0     3.31    

configure_requires:

    Module              Need  Have    
    ------------------- ----- --------
    ExtUtils::MakeMaker 6.36  7.24    
    URI::Escape         0     3.31    


------------------------------
ENVIRONMENT AND OTHER CONTEXT
------------------------------

Environment variables:

    AUTOMATED_TESTING = 1
    PATH = /home/njh/perl5/perlbrew/bin:/home/njh/perl5/perlbrew/perls/perl-5.26.0/bin:/home/njh/src/njh/smoker/bin:/usr/bin:/bin:/usr/pkg/bin:/usr/local/bin
    PERL5LIB = /home/njh/.cpan/build/Tie-Restore-0.11-0/blib/arch:/home/njh/.cpan/build/Tie-Restore-0.11-0/blib/lib:/home/njh/.cpan/build/Cache-Cache-1.08-0/blib/arch:/home/njh/.cpan/build/Cache-Cache-1.08-0/blib/lib:/home/njh/.cpan/build/Error-0.17026-0/blib/arch:/home/njh/.cpan/build/Error-0.17026-0/blib/lib:/home/njh/.cpan/build/Digest-SHA1-2.13-0/blib/arch:/home/njh/.cpan/build/Digest-SHA1-2.13-0/blib/lib
    PERL5OPT = 
    PERL5_CPANPLUS_IS_RUNNING = 14014
    PERL5_CPAN_IS_RUNNING = 14014
    PERLBREW_HOME = /home/njh/.perlbrew
    PERLBREW_MANPATH = /home/njh/perl5/perlbrew/perls/perl-5.26.0/man
    PERLBREW_PATH = /home/njh/perl5/perlbrew/bin:/home/njh/perl5/perlbrew/perls/perl-5.26.0/bin
    PERLBREW_PERL = perl-5.26.0
    PERLBREW_ROOT = /home/njh/perl5/perlbrew
    PERLBREW_SHELLRC_VERSION = 0.82
    PERLBREW_VERSION = 0.82
    PERL_USE_UNSAFE_INC = 1
    SHELL = /bin/sh
    TMPDIR = /tmp/testwrapper.519

Perl special variables (and OS-specific diagnostics, for MSWin32):

    $^X = /home/njh/perl5/perlbrew/perls/perl-5.26.0/bin/perl
    $UID/$EUID = 1000 / 1000
    $GID = 100 100 0
    $EGID = 100 100 0

Perl module toolchain versions installed:

    Module              Have      
    ------------------- ----------
    CPAN                2.18      
    CPAN::Meta          2.150010  
    Cwd                 3.67      
    ExtUtils::CBuilder  0.280225  
    ExtUtils::Command   7.24      
    ExtUtils::Install   2.04      
    ExtUtils::MakeMaker 7.24      
    ExtUtils::Manifest  1.70      
    ExtUtils::ParseXS   3.34      
    File::Spec          3.67      
    JSON                2.97001   
    JSON::PP            2.27400_02
    Module::Build       0.4224    
    Module::Signature   n/a       
    Parse::CPAN::Meta   2.150010  
    Test::Harness       3.38      
    Test::More          1.302136  
    YAML                1.26      
    YAML::Syck          1.30      
    version             0.9917    


--

Summary of my perl5 (revision 5 version 26 subversion 0) configuration:
   
  Platform:
    osname=netbsd
    osvers=7.1.2
    archname=amd64-netbsd
    uname='netbsd njh2.vultr.com 7.1.2 netbsd 7.1.2 (generic.201803151611z) amd64 '
    config_args='-de -Dprefix=/home/njh/perl5/perlbrew/perls/perl-5.26.0 -Aeval:scriptdir=/home/njh/perl5/perlbrew/perls/perl-5.26.0/bin'
    hint=recommended
    useposix=true
    d_sigaction=define
    useithreads=undef
    usemultiplicity=undef
    use64bitint=define
    use64bitall=define
    uselongdouble=undef
    usemymalloc=n
    default_inc_excludes_dot=define
    bincompat5005=undef
  Compiler:
    cc='cc'
    ccflags ='-fwrapv -fno-strict-aliasing -pipe -fstack-protector -I/usr/pkg/include -D_FORTIFY_SOURCE=2'
    optimize='-O'
    cppflags='-fwrapv -fno-strict-aliasing -pipe -fstack-protector -I/usr/pkg/include'
    ccversion=''
    gccversion='4.8.5'
    gccosandvers=''
    intsize=4
    longsize=8
    ptrsize=8
    doublesize=8
    byteorder=12345678
    doublekind=3
    d_longlong=define
    longlongsize=8
    d_longdbl=define
    longdblsize=16
    longdblkind=3
    ivtype='long'
    ivsize=8
    nvtype='double'
    nvsize=8
    Off_t='off_t'
    lseeksize=8
    alignbytes=8
    prototype=define
  Linker and Libraries:
    ld='cc'
    ldflags =' -Wl,-rpath,/usr/pkg/lib -Wl,-rpath,/usr/local/lib -fstack-protector -L/usr/pkg/lib'
    libpth=/usr/include/gcc-4.8 /usr/lib /usr/pkg/lib /lib
    libs=-lpthread -lm -lcrypt -lutil -lc -lposix
    perllibs=-lpthread -lm -lcrypt -lutil -lc -lposix
    libc=/lib/libc.so
    so=so
    useshrplib=false
    libperl=libperl.a
    gnulibc_version=''
  Dynamic Linking:
    dlsrc=dl_dlopen.xs
    dlext=so
    d_dlsymun=undef
    ccdlflags='-Wl,-E '
    cccdlflags='-DPIC -fPIC '
    lddlflags='-shared  -L/usr/pkg/lib -fstack-protector'


Characteristics of this binary (from libperl): 
  Compile-time options:
    HAS_TIMES
    PERLIO_LAYERS
    PERL_COPY_ON_WRITE
    PERL_DONT_CREATE_GVSV
    PERL_MALLOC_WRAP
    PERL_OP_PARENT
    PERL_PRESERVE_IVUV
    USE_64_BIT_ALL
    USE_64_BIT_INT
    USE_LARGE_FILES
    USE_LOCALE
    USE_LOCALE_COLLATE
    USE_LOCALE_CTYPE
    USE_LOCALE_NUMERIC
    USE_LOCALE_TIME
    USE_PERLIO
    USE_PERL_ATOF
  Locally applied patches:
    Devel::PatchPerl 1.48
  Built under netbsd
  Compiled at May 27 2018 10:22:49
  %ENV:
    PERL5LIB="/home/njh/.cpan/build/Tie-Restore-0.11-0/blib/arch:/home/njh/.cpan/build/Tie-Restore-0.11-0/blib/lib:/home/njh/.cpan/build/Cache-Cache-1.08-0/blib/arch:/home/njh/.cpan/build/Cache-Cache-1.08-0/blib/lib:/home/njh/.cpan/build/Error-0.17026-0/blib/arch:/home/njh/.cpan/build/Error-0.17026-0/blib/lib:/home/njh/.cpan/build/Digest-SHA1-2.13-0/blib/arch:/home/njh/.cpan/build/Digest-SHA1-2.13-0/blib/lib"
    PERL5OPT=""
    PERL5_CPANPLUS_IS_RUNNING="14014"
    PERL5_CPAN_IS_RUNNING="14014"
    PERLBREW_HOME="/home/njh/.perlbrew"
    PERLBREW_MANPATH="/home/njh/perl5/perlbrew/perls/perl-5.26.0/man"
    PERLBREW_PATH="/home/njh/perl5/perlbrew/bin:/home/njh/perl5/perlbrew/perls/perl-5.26.0/bin"
    PERLBREW_PERL="perl-5.26.0"
    PERLBREW_ROOT="/home/njh/perl5/perlbrew"
    PERLBREW_SHELLRC_VERSION="0.82"
    PERLBREW_VERSION="0.82"
    PERL_USE_UNSAFE_INC="1"
  @INC:
    /home/njh/.cpan/build/Tie-Restore-0.11-0/blib/arch
    /home/njh/.cpan/build/Tie-Restore-0.11-0/blib/lib
    /home/njh/.cpan/build/Cache-Cache-1.08-0/blib/arch
    /home/njh/.cpan/build/Cache-Cache-1.08-0/blib/lib
    /home/njh/.cpan/build/Error-0.17026-0/blib/arch
    /home/njh/.cpan/build/Error-0.17026-0/blib/lib
    /home/njh/.cpan/build/Digest-SHA1-2.13-0/blib/arch
    /home/njh/.cpan/build/Digest-SHA1-2.13-0/blib/lib
    /home/njh/perl5/perlbrew/perls/perl-5.26.0/lib/site_perl/5.26.0/amd64-netbsd
    /home/njh/perl5/perlbrew/perls/perl-5.26.0/lib/site_perl/5.26.0
    /home/njh/perl5/perlbrew/perls/perl-5.26.0/lib/5.26.0/amd64-netbsd
    /home/njh/perl5/perlbrew/perls/perl-5.26.0/lib/5.26.0
    .