IO-Iron v0.13 Perl 5 v5.26.3 x86_64-linux

Status
Pass
From
Oleg Pronin (SYBER)
Dist
IO-Iron v0.13
Platform
Perl 5 v5.26.3 x86_64-linux
Date
2019-08-06 11:41:54
ID
3050d67a-b83f-11e9-8aaf-a9d92958ff60
This distribution has been tested as part of the CPAN Testers
project, supporting the Perl programming language.  See
http://wiki.cpantesters.org/ for more information or email
questions to cpan-testers-discuss@perl.org


--
Dear Mikko Koivunalho,

This is a computer-generated report for IO-Iron-0.13
on perl 5.26.3, created by CPAN-Reporter-1.2018.

Thank you for uploading your work to CPAN.  Congratulations!
All tests were successful.

Sections of this report:

    * Tester comments
    * Program output
    * Prerequisites
    * Environment and other context

------------------------------
TESTER COMMENTS
------------------------------

Additional comments from tester:

this report is from an automated smoke testing program
and was not reviewed by a human for accuracy

------------------------------
PROGRAM OUTPUT
------------------------------

Output from '/usr/bin/make test':

PERL_DL_NONLAZY=1 "/home/syber/perl5/perlbrew/perls/5.26.3/bin/perl" "-MExtUtils::Command::MM" "-MTest::Harness" "-e" "undef *Test::Harness::Switches; test_harness(0, 'blib/lib', 'blib/arch')" t/*.t t/Iron/*.t t/IronCache/*.t t/IronMQ/*.t t/IronWorker/*.t
# 
# Versions for all modules listed in MYMETA.json (including optional ones):
# 
# === Configure Requires ===
# 
#     Module              Want    Have
#     ------------------- ---- -------
#     ExtUtils::MakeMaker  any 7.37_03
# 
# === Build Requires ===
# 
#     Module              Want    Have
#     ------------------- ---- -------
#     ExtUtils::MakeMaker  any 7.37_03
# 
# === Test Requires ===
# 
#     Module              Want     Have
#     ------------------- ---- --------
#     Data::Dumper         any    2.173
#     ExtUtils::MakeMaker  any  7.37_03
#     File::Copy           any     2.32
#     File::Remove         any     1.58
#     File::Spec           any     3.75
#     Log::Any::Test       any    1.707
#     Test::Exception      any     0.43
#     Test::More           any 1.302164
#     lib                  any     0.64
# 
# === Test Recommends ===
# 
#     Module         Want     Have
#     ---------- -------- --------
#     CPAN::Meta 2.120900 2.150010
# 
# === Runtime Requires ===
# 
#     Module             Want     Have
#     ------------------ ---- --------
#     Carp                any     1.42
#     Carp::Assert        any     0.21
#     Carp::Assert::More  any     1.18
#     Const::Fast         any    0.014
#     Data::UUID          any    1.224
#     English             any     1.10
#     Exception::Class    any     1.44
#     Exporter            any     5.72
#     File::HomeDir       any    1.004
#     File::Spec          any     3.75
#     Hash::Util         0.06     0.22
#     JSON::MaybeXS       any 1.004000
#     Log::Any            any    1.707
#     Params::Validate    any     1.29
#     Path::Tiny          any    0.108
#     REST::Client        any      273
#     Scalar::Util        any     1.50
#     Try::Tiny           any     0.30
#     URI::Escape         any     3.31
#     parent              any    0.236
#     strict              any     1.11
#     warnings            any     1.37
# 
t/00-report-prereqs.t ........ ok
# Testing IO::Iron::IronWorker::Client (0.13), Perl 5.026003, /home/syber/perl5/perlbrew/perls/5.26.3/bin/perl
# test ReadIronMQConfig
# Current dir config filename: ./iron.json
# Extra config filename: t/.IronMQTestConfig.json
t/Iron/client_readconfig.t ... ok
# Testing IO::Iron::Common (0.13), Perl 5.026003, /home/syber/perl5/perlbrew/perls/5.26.3/bin/perl
t/Iron/common.t .............. ok
# Testing IO::Iron (0.13), Perl 5.026003, /home/syber/perl5/perlbrew/perls/5.26.3/bin/perl
t/Iron/load.t ................ ok
# Testing IO::Iron::IronCache::Client (0.13) with policies, Perl 5.026003, /home/syber/perl5/perlbrew/perls/5.26.3/bin/perl
t/IronCache/cache_policy.t ... ok
# Testing IO::Iron::IronCache::Client (0.13), Perl 5.026003, /home/syber/perl5/perlbrew/perls/5.26.3/bin/perl
t/IronCache/cache_policy2.t .. ok
# Testing IO::Iron::IronCache::Client (0.13), Perl 5.026003, /home/syber/perl5/perlbrew/perls/5.26.3/bin/perl
t/IronCache/load.t ........... ok
# Testing IO::Iron::IronMQ::Client (0.13), Perl 5.026003, /home/syber/perl5/perlbrew/perls/5.26.3/bin/perl
t/IronMQ/load.t .............. ok
# Testing IO::Iron::IronCache::Client (0.13), Perl 5.026003, /home/syber/perl5/perlbrew/perls/5.26.3/bin/perl
t/IronWorker/load.t .......... ok
All tests successful.
Files=9, Tests=104,  2 wallclock secs ( 0.03 usr  0.01 sys +  1.08 cusr  0.04 csys =  1.16 CPU)
Result: PASS

------------------------------
PREREQUISITES
------------------------------

Prerequisite modules loaded:

requires:

    Module              Need      Have    
    ------------------- --------- --------
    Carp                0         1.42    
    Carp::Assert        0         0.21    
    Carp::Assert::More  0         1.18    
    Const::Fast         0         0.014   
    Data::UUID          0         1.224   
    English             0         1.10    
    Exception::Class    0         1.44    
    Exporter            0         5.72    
    File::HomeDir       0         1.004   
    File::Spec          0         3.75    
    Hash::Util          0.06      0.22    
    JSON::MaybeXS       0         1.004000
    Log::Any            0         1.707   
    Params::Validate    0         1.29    
    parent              0         0.236   
    Path::Tiny          0         0.108   
    perl                5.010000  5.026003
    REST::Client        0         273     
    Scalar::Util        0         1.50    
    strict              0         1.11    
    Try::Tiny           0         0.30    
    URI::Escape         0         3.31    
    warnings            0         1.37    

build_requires:

    Module              Need      Have    
    ------------------- --------- --------
    Data::Dumper        0         2.173   
    ExtUtils::MakeMaker 0         7.37_03 
    File::Copy          0         2.32    
    File::Remove        0         1.58    
    File::Spec          0         3.75    
    lib                 0         0.64    
    Log::Any::Test      0         1.707   
    Test::Exception     0         0.43    
    Test::More          0         1.302164

configure_requires:

    Module              Need      Have    
    ------------------- --------- --------
    ExtUtils::MakeMaker 0         7.37_03 
    perl                5.010_000 5.026003

opt_build_requires:

    Module              Need      Have    
    ------------------- --------- --------
    CPAN::Meta          2.120900  2.150010


------------------------------
ENVIRONMENT AND OTHER CONTEXT
------------------------------

Environment variables:

    AUTOMATED_TESTING = 1
    LC_COLLATE = ru_RU.utf8
    LC_CTYPE = ru_RU.utf8
    PATH = /home/syber/perl5/perlbrew/bin:/home/syber/perl5/perlbrew/perls/5.26.3/bin:/usr/local/bin:/usr/bin:/bin:/usr/local/games:/usr/games
    PERL5LIB = 
    PERL5OPT = 
    PERL5_CPANPLUS_IS_RUNNING = 32846
    PERL5_CPAN_IS_RUNNING = 32846
    PERL5_CPAN_IS_RUNNING_IN_RECURSION = 23353,32846
    PERLBREW_HOME = /home/syber/.perlbrew
    PERLBREW_MANPATH = /home/syber/perl5/perlbrew/perls/5.26.3/man
    PERLBREW_PATH = /home/syber/perl5/perlbrew/bin:/home/syber/perl5/perlbrew/perls/5.26.3/bin
    PERLBREW_PERL = 5.26.3
    PERLBREW_ROOT = /home/syber/perl5/perlbrew
    PERLBREW_SHELLRC_VERSION = 0.86
    PERLBREW_VERSION = 0.86
    PERL_CR_SMOKER_CURRENT = IO-Iron-0.13
    PERL_EXTUTILS_AUTOINSTALL = --defaultdeps
    PERL_MM_USE_DEFAULT = 1
    PERL_USE_UNSAFE_INC = 1
    SHELL = /bin/bash
    TERM = screen

Perl special variables (and OS-specific diagnostics, for MSWin32):

    $^X = /home/syber/perl5/perlbrew/perls/5.26.3/bin/perl
    $UID/$EUID = 1003 / 1003
    $GID = 1003 11 1003
    $EGID = 1003 11 1003

Perl module toolchain versions installed:

    Module              Have    
    ------------------- --------
    CPAN                2.27    
    CPAN::Meta          2.150010
    Cwd                 3.75    
    ExtUtils::CBuilder  0.280231
    ExtUtils::Command   7.37_03 
    ExtUtils::Install   2.06    
    ExtUtils::MakeMaker 7.37_03 
    ExtUtils::Manifest  1.72    
    ExtUtils::ParseXS   3.35    
    File::Spec          3.75    
    JSON                4.02    
    JSON::PP            4.04    
    Module::Build       0.42_30 
    Module::Signature   0.83    
    Parse::CPAN::Meta   2.150010
    Test::Harness       3.42    
    Test::More          1.302164
    YAML                1.29    
    YAML::Syck          1.31    
    version             0.9924  


--

Summary of my perl5 (revision 5 version 26 subversion 3) configuration:
   
  Platform:
    osname=linux
    osvers=4.9.0-8-amd64
    archname=x86_64-linux
    uname='linux dexter.crazypanda.ru 4.9.0-8-amd64 #1 smp debian 4.9.110-3+deb9u6 (2018-10-08) x86_64 gnulinux '
    config_args='-de -Dprefix=/home/syber/perl5/perlbrew/perls/5.26.3 -Aeval:scriptdir=/home/syber/perl5/perlbrew/perls/5.26.3/bin'
    hint=recommended
    useposix=true
    d_sigaction=define
    useithreads=undef
    usemultiplicity=undef
    use64bitint=define
    use64bitall=define
    uselongdouble=undef
    usemymalloc=n
    default_inc_excludes_dot=define
    bincompat5005=undef
  Compiler:
    cc='cc'
    ccflags ='-fwrapv -fno-strict-aliasing -pipe -fstack-protector-strong -I/usr/local/include -D_LARGEFILE_SOURCE -D_FILE_OFFSET_BITS=64 -D_FORTIFY_SOURCE=2'
    optimize='-O2'
    cppflags='-fwrapv -fno-strict-aliasing -pipe -fstack-protector-strong -I/usr/local/include'
    ccversion=''
    gccversion='6.3.0 20170516'
    gccosandvers=''
    intsize=4
    longsize=8
    ptrsize=8
    doublesize=8
    byteorder=12345678
    doublekind=3
    d_longlong=define
    longlongsize=8
    d_longdbl=define
    longdblsize=16
    longdblkind=3
    ivtype='long'
    ivsize=8
    nvtype='double'
    nvsize=8
    Off_t='off_t'
    lseeksize=8
    alignbytes=8
    prototype=define
  Linker and Libraries:
    ld='cc'
    ldflags =' -fstack-protector-strong -L/usr/local/lib'
    libpth=/usr/local/lib /usr/lib/gcc/x86_64-linux-gnu/6/include-fixed /usr/include/x86_64-linux-gnu /usr/lib /lib/x86_64-linux-gnu /lib/../lib /usr/lib/x86_64-linux-gnu /usr/lib/../lib /lib
    libs=-lpthread -lnsl -ldl -lm -lcrypt -lutil -lc
    perllibs=-lpthread -lnsl -ldl -lm -lcrypt -lutil -lc
    libc=libc-2.24.so
    so=so
    useshrplib=false
    libperl=libperl.a
    gnulibc_version='2.24'
  Dynamic Linking:
    dlsrc=dl_dlopen.xs
    dlext=so
    d_dlsymun=undef
    ccdlflags='-Wl,-E'
    cccdlflags='-fPIC'
    lddlflags='-shared -O2 -L/usr/local/lib -fstack-protector-strong'


Characteristics of this binary (from libperl): 
  Compile-time options:
    HAS_TIMES
    PERLIO_LAYERS
    PERL_COPY_ON_WRITE
    PERL_DONT_CREATE_GVSV
    PERL_MALLOC_WRAP
    PERL_OP_PARENT
    PERL_PRESERVE_IVUV
    USE_64_BIT_ALL
    USE_64_BIT_INT
    USE_LARGE_FILES
    USE_LOCALE
    USE_LOCALE_COLLATE
    USE_LOCALE_CTYPE
    USE_LOCALE_NUMERIC
    USE_LOCALE_TIME
    USE_PERLIO
    USE_PERL_ATOF
  Locally applied patches:
    Devel::PatchPerl 1.64
  Built under linux
  Compiled at Aug  5 2019 13:39:23
  %ENV:
    PERL5LIB=""
    PERL5OPT=""
    PERL5_CPANPLUS_IS_RUNNING="32846"
    PERL5_CPAN_IS_RUNNING="32846"
    PERL5_CPAN_IS_RUNNING_IN_RECURSION="23353,32846"
    PERLBREW_HOME="/home/syber/.perlbrew"
    PERLBREW_MANPATH="/home/syber/perl5/perlbrew/perls/5.26.3/man"
    PERLBREW_PATH="/home/syber/perl5/perlbrew/bin:/home/syber/perl5/perlbrew/perls/5.26.3/bin"
    PERLBREW_PERL="5.26.3"
    PERLBREW_ROOT="/home/syber/perl5/perlbrew"
    PERLBREW_SHELLRC_VERSION="0.86"
    PERLBREW_VERSION="0.86"
    PERL_CR_SMOKER_CURRENT="IO-Iron-0.13"
    PERL_EXTUTILS_AUTOINSTALL="--defaultdeps"
    PERL_MM_USE_DEFAULT="1"
    PERL_USE_UNSAFE_INC="1"
  @INC:
    /home/syber/perl5/perlbrew/perls/5.26.3/lib/site_perl/5.26.3/x86_64-linux
    /home/syber/perl5/perlbrew/perls/5.26.3/lib/site_perl/5.26.3
    /home/syber/perl5/perlbrew/perls/5.26.3/lib/5.26.3/x86_64-linux
    /home/syber/perl5/perlbrew/perls/5.26.3/lib/5.26.3
    .