Sub-MultiMethod v1.000 Perl 5 v5.38.2 aarch64-freebsd
- Status
- Pass
- From
- Slaven Rezić
- Dist
-
Sub-MultiMethod v1.000
- Platform
- Perl 5 v5.38.2 aarch64-freebsd
- Date
- 2023-12-29 17:10:38
- ID
- 302ae926-a66d-11ee-a62a-6fe86d8775ea
This distribution has been tested as part of the CPAN Testers
project, supporting the Perl programming language. See
http://wiki.cpantesters.org/ for more information or email
questions to cpan-testers-discuss@perl.org
--
Dear Toby Inkster,
This is a computer-generated report for Sub-MultiMethod-1.000
on perl 5.38.2, created by CPAN-Reporter-1.2019.
Thank you for uploading your work to CPAN. Congratulations!
All tests were successful.
Sections of this report:
* Tester comments
* Program output
* Prerequisites
* Environment and other context
------------------------------
TESTER COMMENTS
------------------------------
Additional comments from tester:
none provided
------------------------------
PROGRAM OUTPUT
------------------------------
Output from '/usr/bin/make test':
PERL_DL_NONLAZY=1 "/usr/perl5.38.2/bin/perl" "-MExtUtils::Command::MM" "-MTest::Harness" "-e" "undef *Test::Harness::Switches; test_harness(0, 'blib/lib', 'blib/arch')" t/*.t t/legacy/*.t
t/01basic.t ................................ ok
t/02singleclass.t .......................... ok
t/03inheritance.t .......................... ok
t/04roles.t ................................ ok
t/05rolesdonotinstalldispatchers.t ......... ok
t/06monomethod-weird.t ..................... ok
t/06monomethod.t ........................... ok
t/07multifunc.t ............................ ok
t/08mro.t .................................. ok
t/09coderef.t .............................. ok
t/10headtail.t ............................. ok
t/legacy/01basic.t ......................... ok
t/legacy/02singleclass.t ................... ok
t/legacy/03inheritance.t ................... ok
t/legacy/04roles.t ......................... ok
t/legacy/05rolesdonotinstalldispatchers.t .. ok
t/legacy/06monomethod-weird.t .............. ok
t/legacy/06monomethod.t .................... ok
t/legacy/07multifunc.t ..................... ok
t/legacy/08mro.t ........................... ok
t/legacy/09coderef.t ....................... ok
t/legacy/10headtail.t ...................... ok
All tests successful.
Files=22, Tests=130, 3 wallclock secs ( 0.09 usr 0.05 sys + 2.59 cusr 0.45 csys = 3.19 CPU)
Result: PASS
------------------------------
PREREQUISITES
------------------------------
Prerequisite modules loaded:
requires:
Module Need Have
------------------- -------- --------
Exporter::Shiny 0 1.006002
perl 5.008001 5.038002
Role::Hooks 0 0.008
Type::Params 2.000000 2.004000
Types::Standard 2.000000 2.004000
build_requires:
Module Need Have
------------------- -------- --------
Class::Tiny 0 1.008
parent 0 0.241
Role::Tiny 0 2.002004
Test::Fatal 0 0.017
Test::More 0.96 1.302198
Test::Requires 0 0.11
configure_requires:
Module Need Have
------------------- -------- --------
ExtUtils::MakeMaker 6.17 7.70
------------------------------
ENVIRONMENT AND OTHER CONTEXT
------------------------------
Environment variables:
LANG = C.UTF-8
PATH = /usr/local/bin:/usr/bin:/bin:/usr/local/sbin:/usr/sbin:/sbin:/home/cpansand/bin/freebsd14.0:/home/cpansand/bin/sh:/home/cpansand/bin:/usr/games:/home/cpansand/devel:/home/eserte/src/srezic-misc/scripts
PERL5LIB = /home/cpansand/.cpan/build/2023122914/MouseX-Foreign-1.000-2/blib/arch:/home/cpansand/.cpan/build/2023122914/MouseX-Foreign-1.000-2/blib/lib:/home/cpansand/.cpan/build/2023122914/Any-Moose-0.27-2/blib/arch:/home/cpansand/.cpan/build/2023122914/Any-Moose-0.27-2/blib/lib:/home/cpansand/.cpan/build/2023122914/MooseX-NonMoose-0.26-2/blib/arch:/home/cpansand/.cpan/build/2023122914/MooseX-NonMoose-0.26-2/blib/lib:/home/cpansand/.cpan/build/2023122914/Lexical-Accessor-0.014-2/blib/arch:/home/cpansand/.cpan/build/2023122914/Lexical-Accessor-0.014-2/blib/lib
PERL5OPT =
PERL5_CPANPLUS_IS_RUNNING = 50874
PERL5_CPAN_IS_RUNNING = 50874
PERL5_CPAN_IS_RUNNING_IN_RECURSION = 48072,50874
PERLDOC = -MPod::Perldoc::ToTextOverstrike
PERL_BATCH = yes
PERL_CANARY_STABILITY_NOPROMPT = 1
PERL_CPAN_REPORTER_CONFIG = /var/tmp/cpansmoker-1023/2023122914/cpanreporter_001_config.ini
PERL_EXTUTILS_AUTOINSTALL = --defaultdeps
PERL_USE_UNSAFE_INC = 1
SHELL = /usr/local/bin/zsh
TERM = screen
TMPDIR = /var/tmp/cpansmoker-1023/2023122914
Perl special variables (and OS-specific diagnostics, for MSWin32):
$^X = /usr/perl5.38.2/bin/perl
$UID/$EUID = 1023 / 1023
$GID = 1023 1023
$EGID = 1023 1023
Perl module toolchain versions installed:
Module Have
------------------- --------
CPAN 2.36
CPAN::Meta 2.150010
Cwd 3.89
ExtUtils::CBuilder 0.280238
ExtUtils::Command 7.70
ExtUtils::Install 2.22
ExtUtils::MakeMaker 7.70
ExtUtils::Manifest 1.73
ExtUtils::ParseXS 3.51
File::Spec 3.88
JSON 4.10
JSON::PP 4.16
Module::Build 0.4234
Module::Signature 0.88
Parse::CPAN::Meta 2.150010
Test2 1.302198
Test::Harness 3.44
Test::More 1.302198
YAML 1.30
YAML::Syck 1.34
version 0.9929
--
Summary of my perl5 (revision 5 version 38 subversion 2) configuration:
Platform:
osname=freebsd
osvers=14.0-stable
archname=aarch64-freebsd
uname='freebsd cloud9.bbbike.org 14.0-stable freebsd 14.0-stable #0 stable14-ac83f3fa4: mon dec 25 18:44:17 utc 2023 root@cloud9.bbbike.org:usrobjhomeprojectsfreebsd-srcarm64.aarch64sysgeneric arm64 '
config_args='-ds -e -Dprefix=/usr/perl5.38.2 -Dcf_email=srezic@cpan.org -Doptimize=-O2 -pipe'
hint=recommended
useposix=true
d_sigaction=define
useithreads=undef
usemultiplicity=undef
use64bitint=define
use64bitall=define
uselongdouble=undef
usemymalloc=n
default_inc_excludes_dot=define
Compiler:
cc='cc'
ccflags ='-DHAS_FPSETMASK -DHAS_FLOATINGPOINT_H -fno-strict-aliasing -pipe -fstack-protector-strong -I/usr/local/include'
optimize='-O2 -pipe'
cppflags='-DHAS_FPSETMASK -DHAS_FLOATINGPOINT_H -fno-strict-aliasing -pipe -fstack-protector-strong -I/usr/local/include'
ccversion=''
gccversion='FreeBSD Clang 16.0.6 (https://github.com/llvm/llvm-project.git llvmorg-16.0.6-0-g7cbf1a259152)'
gccosandvers=''
intsize=4
longsize=8
ptrsize=8
doublesize=8
byteorder=12345678
doublekind=3
d_longlong=define
longlongsize=8
d_longdbl=define
longdblsize=16
longdblkind=1
ivtype='long'
ivsize=8
nvtype='double'
nvsize=8
Off_t='off_t'
lseeksize=8
alignbytes=8
prototype=define
Linker and Libraries:
ld='cc'
ldflags ='-Wl,-E -fstack-protector-strong -L/usr/local/lib'
libpth=/usr/lib /usr/local/lib /usr/lib/clang/16/lib
libs=-lpthread -lgdbm -ldl -lm -lcrypt -lutil -lc
perllibs=-lpthread -ldl -lm -lcrypt -lutil -lc
libc=
so=so
useshrplib=false
libperl=libperl.a
gnulibc_version=''
Dynamic Linking:
dlsrc=dl_dlopen.xs
dlext=so
d_dlsymun=undef
ccdlflags=' '
cccdlflags='-DPIC -fPIC'
lddlflags='-shared -L/usr/local/lib -fstack-protector-strong'
Characteristics of this binary (from libperl):
Compile-time options:
HAS_LONG_DOUBLE
HAS_STRTOLD
HAS_TIMES
PERLIO_LAYERS
PERL_COPY_ON_WRITE
PERL_DONT_CREATE_GVSV
PERL_HASH_FUNC_SIPHASH13
PERL_HASH_USE_SBOX32
PERL_MALLOC_WRAP
PERL_OP_PARENT
PERL_PRESERVE_IVUV
PERL_USE_SAFE_PUTENV
USE_64_BIT_ALL
USE_64_BIT_INT
USE_LARGE_FILES
USE_LOCALE
USE_LOCALE_COLLATE
USE_LOCALE_CTYPE
USE_LOCALE_NUMERIC
USE_LOCALE_TIME
USE_PERLIO
USE_PERL_ATOF
Built under freebsd
Compiled at Dec 25 2023 21:42:33
%ENV:
PERL5LIB="/home/cpansand/.cpan/build/2023122914/MouseX-Foreign-1.000-2/blib/arch:/home/cpansand/.cpan/build/2023122914/MouseX-Foreign-1.000-2/blib/lib:/home/cpansand/.cpan/build/2023122914/Any-Moose-0.27-2/blib/arch:/home/cpansand/.cpan/build/2023122914/Any-Moose-0.27-2/blib/lib:/home/cpansand/.cpan/build/2023122914/MooseX-NonMoose-0.26-2/blib/arch:/home/cpansand/.cpan/build/2023122914/MooseX-NonMoose-0.26-2/blib/lib:/home/cpansand/.cpan/build/2023122914/Lexical-Accessor-0.014-2/blib/arch:/home/cpansand/.cpan/build/2023122914/Lexical-Accessor-0.014-2/blib/lib"
PERL5OPT=""
PERL5_CPANPLUS_IS_RUNNING="50874"
PERL5_CPAN_IS_RUNNING="50874"
PERL5_CPAN_IS_RUNNING_IN_RECURSION="48072,50874"
PERLDOC="-MPod::Perldoc::ToTextOverstrike"
PERL_BATCH="yes"
PERL_CANARY_STABILITY_NOPROMPT="1"
PERL_CPAN_REPORTER_CONFIG="/var/tmp/cpansmoker-1023/2023122914/cpanreporter_001_config.ini"
PERL_EXTUTILS_AUTOINSTALL="--defaultdeps"
PERL_USE_UNSAFE_INC="1"
@INC:
/home/cpansand/.cpan/build/2023122914/MouseX-Foreign-1.000-2/blib/arch
/home/cpansand/.cpan/build/2023122914/MouseX-Foreign-1.000-2/blib/lib
/home/cpansand/.cpan/build/2023122914/Any-Moose-0.27-2/blib/arch
/home/cpansand/.cpan/build/2023122914/Any-Moose-0.27-2/blib/lib
/home/cpansand/.cpan/build/2023122914/MooseX-NonMoose-0.26-2/blib/arch
/home/cpansand/.cpan/build/2023122914/MooseX-NonMoose-0.26-2/blib/lib
/home/cpansand/.cpan/build/2023122914/Lexical-Accessor-0.014-2/blib/arch
/home/cpansand/.cpan/build/2023122914/Lexical-Accessor-0.014-2/blib/lib
/usr/perl5.38.2/lib/site_perl/5.38.2/aarch64-freebsd
/usr/perl5.38.2/lib/site_perl/5.38.2
/usr/perl5.38.2/lib/5.38.2/aarch64-freebsd
/usr/perl5.38.2/lib/5.38.2
.