DBIx-Class-Helper-Row-Types vv0.3.1 Perl 5 v5.37.9 x86_64-linux-ld

Status
Pass
From
Andreas J. König (ANDK)
Dist
DBIx-Class-Helper-Row-Types vv0.3.1
Platform
Perl 5 v5.37.9 x86_64-linux-ld
Date
2023-03-10 16:18:26
ID
3024f05c-bf5f-11ed-929c-9d44f2d232d4
This distribution has been tested as part of the CPAN Testers
project, supporting the Perl programming language.  See
http://wiki.cpantesters.org/ for more information or email
questions to cpan-testers-discuss@perl.org


--
Dear Robert Rothenberg,

This is a computer-generated report for DBIx-Class-Helper-Row-Types-v0.3.1
on perl 5.37.9, created by CPAN-Reporter-1.2018.

Thank you for uploading your work to CPAN.  Congratulations!
All tests were successful.

Sections of this report:

    * Tester comments
    * Program output
    * Prerequisites
    * Environment and other context

------------------------------
TESTER COMMENTS
------------------------------

Additional comments from tester:

this report is from an automated smoke testing program
and was not reviewed by a human for accuracy

------------------------------
PROGRAM OUTPUT
------------------------------

Output from '/usr/bin/make test':

PERL_DL_NONLAZY=1 "/tmp/basesmoker-reloperl-gP8b/bin/perl" "-MExtUtils::Command::MM" "-MTest::Harness" "-e" "undef *Test::Harness::Switches; test_harness(0, 'blib/lib', 'blib/arch')" t/*.t
# 
# Versions for all modules listed in MYMETA.json (including optional ones):
# 
# === Configure Requires ===
# 
#     Module              Want Have
#     ------------------- ---- ----
#     ExtUtils::MakeMaker  any 7.66
# 
# === Build Requires ===
# 
#     Module              Want Have
#     ------------------- ---- ----
#     ExtUtils::MakeMaker  any 7.66
# 
# === Test Requires ===
# 
#     Module                   Want     Have
#     --------------------- ------- --------
#     DBD::SQLite               any     1.72
#     DBIx::Class::Core         any    undef
#     DBIx::Class::Schema       any    undef
#     File::Spec                any     3.88
#     Module::Metadata          any 1.000037
#     SQL::Translator       0.11018     1.63
#     Test::More                any 1.302193
#     Test::Most                any     0.38
#     Types::Common::String     any 2.002001
#     Types::SQL             v0.3.0   v0.6.1
#     Types::Standard           any 2.002001
# 
# === Test Recommends ===
# 
#     Module         Want     Have
#     ---------- -------- --------
#     CPAN::Meta 2.120900 2.150010
# 
# === Runtime Requires ===
# 
#     Module                Want     Have
#     ----------------- -------- --------
#     DBIx::Class::Core      any    undef
#     Ref::Util              any    0.204
#     Safe::Isa         1.000008 1.000010
#     Types::SQL::Util    v0.3.0   v0.6.1
# 
# === Runtime Recommends ===
# 
#     Module         Want  Have
#     -------------- ---- -----
#     Ref::Util::XS   any 0.117
#     Type::Tiny::XS  any 0.025
# 
# === Other Modules ===
# 
#     Module                       Have
#     ------------------------ --------
#     Class::C3::Componentised 1.001002
# 
t/00-report-prereqs.t ........ ok
t/01-basic.t ................. ok
t/author-clean-namespaces.t .. skipped: these tests are for testing by the author
t/author-critic.t ............ skipped: these tests are for testing by the author
t/author-eof.t ............... skipped: these tests are for testing by the author
t/author-eol.t ............... skipped: these tests are for testing by the author
t/author-minimum-version.t ... skipped: these tests are for testing by the author
t/author-no-tabs.t ........... skipped: these tests are for testing by the author
t/author-pod-coverage.t ...... skipped: these tests are for testing by the author
t/author-pod-linkcheck.t ..... skipped: these tests are for testing by the author
t/author-pod-syntax.t ........ skipped: these tests are for testing by the author
t/author-portability.t ....... skipped: these tests are for testing by the author
t/release-check-manifest.t ... skipped: these tests are for release candidate testing
t/release-fixme.t ............ skipped: these tests are for release candidate testing
t/release-kwalitee.t ......... skipped: these tests are for release candidate testing
t/release-trailing-space.t ... skipped: these tests are for release candidate testing
All tests successful.
Files=16, Tests=14,  4 wallclock secs ( 0.03 usr  0.05 sys +  0.64 cusr  0.33 csys =  1.05 CPU)
Result: PASS

------------------------------
PREREQUISITES
------------------------------

Prerequisite modules loaded:

requires:

    Module                Need     Have    
    --------------------- -------- --------
    DBIx::Class::Core     0        0       
    perl                  5.010000 5.037009
    Ref::Util             0        0.204   
    Safe::Isa             1.000008 1.000010
    Types::SQL::Util      v0.3.0   v0.6.1  

build_requires:

    Module                Need     Have    
    --------------------- -------- --------
    DBD::SQLite           0        1.72    
    DBIx::Class::Core     0        0       
    DBIx::Class::Schema   0        0       
    ExtUtils::MakeMaker   0        7.66    
    File::Spec            0        3.88    
    Module::Metadata      0        1.000037
    SQL::Translator       0.11018  1.63    
    Test::More            0        1.302193
    Test::Most            0        0.38    
    Types::Common::String 0        2.002001
    Types::SQL            v0.3.0   v0.6.1  
    Types::Standard       0        2.002001

configure_requires:

    Module                Need     Have    
    --------------------- -------- --------
    ExtUtils::MakeMaker   0        7.66    

opt_requires:

    Module                Need     Have    
    --------------------- -------- --------
    Ref::Util::XS         0        0.117   
    Type::Tiny::XS        0        0.025   


------------------------------
ENVIRONMENT AND OTHER CONTEXT
------------------------------

Environment variables:

    AUTOMATED_TESTING = 1
    LANG = en_US.UTF-8
    PATH = /home/sandler/bin:/usr/local/bin:/usr/local/sbin:/usr/sbin:/usr/bin:/sbin:/bin:/usr/games:/usr/local/games:/snap/bin:/usr/local/perl/bin:/usr/X11/bin
    PERL5LIB = /tmp/loop_over_bdir-3301-1V32Sr/Business-Shipping-DataFiles-1.02-0/blib/arch:/tmp/loop_over_bdir-3301-1V32Sr/Business-Shipping-DataFiles-1.02-0/blib/lib:/tmp/loop_over_bdir-3301-1V32Sr/Devel-Required-0.16-0/blib/arch:/tmp/loop_over_bdir-3301-1V32Sr/Devel-Required-0.16-0/blib/lib:/tmp/loop_over_bdir-3301-1V32Sr/LCFG-Build-Tools-0.9.30-0/blib/arch:/tmp/loop_over_bdir-3301-1V32Sr/LCFG-Build-Tools-0.9.30-0/blib/lib:/tmp/loop_over_bdir-3301-1V32Sr/App-oo_modulino_zsh_completion_helper-0.04-0/blib/arch:/tmp/loop_over_bdir-3301-1V32Sr/App-oo_modulino_zsh_completion_helper-0.04-0/blib/lib
    PERL5OPT = 
    PERL5_CPANPLUS_IS_RUNNING = 3310
    PERL5_CPAN_IS_RUNNING = 3310
    PERL_CANARY_STABILITY_NOPROMPT = 1
    PERL_MM_USE_DEFAULT = 1
    PERL_USE_UNSAFE_INC = 1
    SHELL = /usr/bin/zsh
    TERM = screen

Perl special variables (and OS-specific diagnostics, for MSWin32):

    $^X = /tmp/basesmoker-reloperl-gP8b/bin/perl
    $UID/$EUID = 1005 / 1005
    $GID = 1006 1005 1006
    $EGID = 1006 1005 1006

Perl module toolchain versions installed:

    Module              Have    
    ------------------- --------
    CPAN                2.34    
    CPAN::Meta          2.150010
    Cwd                 3.88    
    ExtUtils::CBuilder  0.280238
    ExtUtils::Command   7.66    
    ExtUtils::Install   2.22    
    ExtUtils::MakeMaker 7.66    
    ExtUtils::Manifest  1.73    
    ExtUtils::ParseXS   3.49    
    File::Spec          3.88    
    JSON                4.10    
    JSON::PP            4.16    
    Module::Build       0.4232  
    Module::Signature   0.88    
    Parse::CPAN::Meta   2.150010
    Test::Harness       3.44    
    Test::More          1.302193
    YAML                1.30    
    YAML::Syck          1.34    
    version             0.9929  


--

Summary of my perl5 (revision 5 version 37 subversion 9) configuration:
  Commit id: 692cfdb0a41902b1e4fd4d934426ef95c2b4b694
  Platform:
    osname=linux
    osvers=5.4.0-139-generic
    archname=x86_64-linux-ld
    uname='linux k93focal 5.4.0-139-generic #156-ubuntu smp fri jan 20 17:27:18 utc 2023 x86_64 x86_64 x86_64 gnulinux '
    config_args='-Dprefix=/home/sand/src/perl/repoperls/installed-perls/host/k93focal/v5.37.9/d3e4 -Dmyhostname=k93focal -Dinstallusrbinperl=n -Uversiononly -Dusedevel -des -Ui_db -Dlibswanted=cl pthread socket inet nsl gdbm dbm malloc dl ld sun m crypt sec util c cposix posix ucb BSD gdbm_compat -Uuseithreads -Duselongdouble -DEBUGGING=both'
    hint=recommended
    useposix=true
    d_sigaction=define
    useithreads=undef
    usemultiplicity=undef
    use64bitint=define
    use64bitall=define
    uselongdouble=define
    usemymalloc=n
    default_inc_excludes_dot=define
  Compiler:
    cc='cc'
    ccflags ='-fwrapv -DDEBUGGING -fno-strict-aliasing -pipe -fstack-protector-strong -I/usr/local/include -D_LARGEFILE_SOURCE -D_FILE_OFFSET_BITS=64'
    optimize='-O2 -g'
    cppflags='-fwrapv -DDEBUGGING -fno-strict-aliasing -pipe -fstack-protector-strong -I/usr/local/include'
    ccversion=''
    gccversion='9.4.0'
    gccosandvers=''
    intsize=4
    longsize=8
    ptrsize=8
    doublesize=8
    byteorder=12345678
    doublekind=3
    d_longlong=define
    longlongsize=8
    d_longdbl=define
    longdblsize=16
    longdblkind=3
    ivtype='long'
    ivsize=8
    nvtype='long double'
    nvsize=16
    Off_t='off_t'
    lseeksize=8
    alignbytes=16
    prototype=define
  Linker and Libraries:
    ld='cc'
    ldflags =' -fstack-protector-strong -L/usr/local/lib'
    libpth=/usr/local/lib /usr/lib/x86_64-linux-gnu /usr/lib /usr/lib64
    libs=-lpthread -lnsl -ldl -lm -lcrypt -lutil -lc
    perllibs=-lpthread -lnsl -ldl -lm -lcrypt -lutil -lc
    libc=libc-2.31.so
    so=so
    useshrplib=false
    libperl=libperl.a
    gnulibc_version='2.31'
  Dynamic Linking:
    dlsrc=dl_dlopen.xs
    dlext=so
    d_dlsymun=undef
    ccdlflags='-Wl,-E'
    cccdlflags='-fPIC'
    lddlflags='-shared -O2 -g -L/usr/local/lib -fstack-protector-strong'


Characteristics of this binary (from libperl): 
  Compile-time options:
    DEBUGGING
    HAS_TIMES
    PERLIO_LAYERS
    PERL_COPY_ON_WRITE
    PERL_DONT_CREATE_GVSV
    PERL_HASH_FUNC_SIPHASH13
    PERL_HASH_USE_SBOX32
    PERL_MALLOC_WRAP
    PERL_OP_PARENT
    PERL_PRESERVE_IVUV
    PERL_USE_DEVEL
    PERL_USE_SAFE_PUTENV
    USE_64_BIT_ALL
    USE_64_BIT_INT
    USE_LARGE_FILES
    USE_LOCALE
    USE_LOCALE_COLLATE
    USE_LOCALE_CTYPE
    USE_LOCALE_NUMERIC
    USE_LOCALE_TIME
    USE_LONG_DOUBLE
    USE_PERLIO
    USE_PERL_ATOF
  Built under linux
  Compiled at Mar  7 2023 20:23:23
  %ENV:
    PERL5LIB="/tmp/loop_over_bdir-3301-1V32Sr/Business-Shipping-DataFiles-1.02-0/blib/arch:/tmp/loop_over_bdir-3301-1V32Sr/Business-Shipping-DataFiles-1.02-0/blib/lib:/tmp/loop_over_bdir-3301-1V32Sr/Devel-Required-0.16-0/blib/arch:/tmp/loop_over_bdir-3301-1V32Sr/Devel-Required-0.16-0/blib/lib:/tmp/loop_over_bdir-3301-1V32Sr/LCFG-Build-Tools-0.9.30-0/blib/arch:/tmp/loop_over_bdir-3301-1V32Sr/LCFG-Build-Tools-0.9.30-0/blib/lib:/tmp/loop_over_bdir-3301-1V32Sr/App-oo_modulino_zsh_completion_helper-0.04-0/blib/arch:/tmp/loop_over_bdir-3301-1V32Sr/App-oo_modulino_zsh_completion_helper-0.04-0/blib/lib"
    PERL5OPT=""
    PERL5_CPANPLUS_IS_RUNNING="3310"
    PERL5_CPAN_IS_RUNNING="3310"
    PERL_CANARY_STABILITY_NOPROMPT="1"
    PERL_MM_USE_DEFAULT="1"
    PERL_USE_UNSAFE_INC="1"
  @INC:
    /tmp/loop_over_bdir-3301-1V32Sr/Business-Shipping-DataFiles-1.02-0/blib/arch
    /tmp/loop_over_bdir-3301-1V32Sr/Business-Shipping-DataFiles-1.02-0/blib/lib
    /tmp/loop_over_bdir-3301-1V32Sr/Devel-Required-0.16-0/blib/arch
    /tmp/loop_over_bdir-3301-1V32Sr/Devel-Required-0.16-0/blib/lib
    /tmp/loop_over_bdir-3301-1V32Sr/LCFG-Build-Tools-0.9.30-0/blib/arch
    /tmp/loop_over_bdir-3301-1V32Sr/LCFG-Build-Tools-0.9.30-0/blib/lib
    /tmp/loop_over_bdir-3301-1V32Sr/App-oo_modulino_zsh_completion_helper-0.04-0/blib/arch
    /tmp/loop_over_bdir-3301-1V32Sr/App-oo_modulino_zsh_completion_helper-0.04-0/blib/lib
    /home/sand/src/perl/repoperls/installed-perls/host/k93focal/v5.37.9/d3e4/lib/site_perl/5.37.9/x86_64-linux-ld
    /home/sand/src/perl/repoperls/installed-perls/host/k93focal/v5.37.9/d3e4/lib/site_perl/5.37.9
    /home/sand/src/perl/repoperls/installed-perls/host/k93focal/v5.37.9/d3e4/lib/5.37.9/x86_64-linux-ld
    /home/sand/src/perl/repoperls/installed-perls/host/k93focal/v5.37.9/d3e4/lib/5.37.9
    .