Reaction v0.002005 Perl 5 v5.26.1 amd64-freebsd

Status
Pass
From
Slaven Rezić (SREZIC)
Dist
Reaction v0.002005
Platform
Perl 5 v5.26.1 amd64-freebsd
Date
2019-01-28 12:35:26
ID
300f682e-22f9-11e9-a7b1-ccef6a705125
This distribution has been tested as part of the CPAN Testers
project, supporting the Perl programming language.  See
http://wiki.cpantesters.org/ for more information or email
questions to cpan-testers-discuss@perl.org


--
Dear Justin Hunter,

This is a computer-generated report for Reaction-0.002005
on perl 5.26.1, created by CPAN-Reporter-1.2018.

Thank you for uploading your work to CPAN.  Congratulations!
All tests were successful.

Sections of this report:

    * Tester comments
    * Program output
    * Prerequisites
    * Environment and other context

------------------------------
TESTER COMMENTS
------------------------------

Additional comments from tester:

none provided

------------------------------
PROGRAM OUTPUT
------------------------------

Output from '/usr/bin/make test':

PERL_DL_NONLAZY=1 "/usr/perl5.26.1p/bin/perl" "-MExtUtils::Command::MM" "-MTest::Harness" "-e" "undef *Test::Harness::Switches; test_harness(0, 'inc', 'blib/lib', 'blib/arch')" t/00componentui_compiles.t t/01app.t t/04load_all.t t/05reflect_attr_from.t t/im_dbic.t t/ui_focus_stack.t t/ui_view.t t/ui_viewport.t t/uncheck_bool_field.t
Class::MOP::load_class is deprecated at /usr/perl5.26.1p/lib/site_perl/5.26.1/amd64-freebsd/Class/MOP.pm line 69.
	Class::MOP::load_class("ComponentUI::TestModel") called at /home/cpansand/.cpan/build/2019012820/Reaction-0.002005-0/blib/lib/Catalyst/Model/Reaction/InterfaceModel/DBIC.pm line 24
	Catalyst::Model::Reaction::InterfaceModel::DBIC::COMPONENT("ComponentUI::Model::TestModel", "ComponentUI", HASH(0x4ee44300)) called at /usr/perl5.26.1p/lib/site_perl/5.26.1/Catalyst.pm line 3212
	eval {...} called at /usr/perl5.26.1p/lib/site_perl/5.26.1/Catalyst.pm line 3213
	Catalyst::setup_component("ComponentUI", "ComponentUI::Model::TestModel") called at /usr/perl5.26.1p/lib/site_perl/5.26.1/Catalyst.pm line 3190
	Catalyst::__ANON__() called at /usr/perl5.26.1p/lib/site_perl/5.26.1/Catalyst.pm line 3037
	Catalyst::setup_components("ComponentUI") called at /usr/perl5.26.1p/lib/site_perl/5.26.1/Catalyst.pm line 1422
	Catalyst::setup("ComponentUI") called at /home/cpansand/.cpan/build/2019012820/Reaction-0.002005-0/blib/lib/ComponentUI.pm line 32
	require ComponentUI.pm called at t/00componentui_compiles.t line 7
	main::BEGIN() called at /home/cpansand/.cpan/build/2019012820/Reaction-0.002005-0/blib/lib/ComponentUI.pm line 0
	eval {...} called at /home/cpansand/.cpan/build/2019012820/Reaction-0.002005-0/blib/lib/ComponentUI.pm line 0
	eval 'package main;
BEGIN { ${^WARNING_BITS} = $args[-1] if defined $args[-1] }
#line 7 t/00componentui_compiles.t
use ComponentUI @{$args[0]};
1;
' called at /usr/perl5.26.1p/lib/site_perl/5.26.1/Test/More.pm line 1031
	Test::More::_eval("package main;\x{a}BEGIN { \${^WARNING_BITS} = \$args[-1] if defined"..., ARRAY(0x42d39ab0), "UUUUUUUUUUUUUUUUU\x{1}") called at /usr/perl5.26.1p/lib/site_perl/5.26.1/Test/More.pm line 1007
	Test::More::use_ok("ComponentUI") called at t/00componentui_compiles.t line 7
Class::MOP::load_class is deprecated at /usr/perl5.26.1p/lib/site_perl/5.26.1/amd64-freebsd/Class/MOP.pm line 69.
	Class::MOP::load_class("Reaction::InterfaceModel::Object") called at /home/cpansand/.cpan/build/2019012820/Reaction-0.002005-0/blib/lib/Reaction/InterfaceModel/Reflector/DBIC.pm line 149
	Reaction::InterfaceModel::Reflector::DBIC::reflect_schema(Reaction::InterfaceModel::Reflector::DBIC=HASH(0x507fef18), "model_class", "ComponentUI::TestModel", "schema_class", "RTest::TestDB", "sources", ARRAY(0x507fec78)) called at /home/cpansand/.cpan/build/2019012820/Reaction-0.002005-0/blib/lib/ComponentUI/TestModel.pm line 10
	require ComponentUI/TestModel.pm called at /usr/perl5.26.1p/lib/site_perl/5.26.1/Module/Runtime.pm line 314
	Module::Runtime::require_module("ComponentUI::TestModel") called at /usr/perl5.26.1p/lib/site_perl/5.26.1/Class/Load.pm line 174
	Class::Load::try {...} () called at /usr/perl5.26.1p/lib/site_perl/5.26.1/Try/Tiny.pm line 98
	eval {...} called at /usr/perl5.26.1p/lib/site_perl/5.26.1/Try/Tiny.pm line 93
	Try::Tiny::try(CODE(0x4eebdc78), Try::Tiny::Catch=REF(0x4b86c720)) called at /usr/perl5.26.1p/lib/site_perl/5.26.1/Class/Load.pm line 180
	Class::Load::try_load_class("ComponentUI::TestModel", undef) called at /usr/perl5.26.1p/lib/site_perl/5.26.1/Class/Load.pm line 35
	Class::Load::load_class("ComponentUI::TestModel") called at /home/cpansand/.cpan/build/2019012820/Reaction-0.002005-0/blib/lib/Catalyst/Model/Reaction/InterfaceModel/DBIC.pm line 24
	Catalyst::Model::Reaction::InterfaceModel::DBIC::COMPONENT("ComponentUI::Model::TestModel", "ComponentUI", HASH(0x4ee44300)) called at /usr/perl5.26.1p/lib/site_perl/5.26.1/Catalyst.pm line 3212
	eval {...} called at /usr/perl5.26.1p/lib/site_perl/5.26.1/Catalyst.pm line 3213
	Catalyst::setup_component("ComponentUI", "ComponentUI::Model::TestModel") called at /usr/perl5.26.1p/lib/site_perl/5.26.1/Catalyst.pm line 3190
	Catalyst::__ANON__() called at /usr/perl5.26.1p/lib/site_perl/5.26.1/Catalyst.pm line 3037
	Catalyst::setup_components("ComponentUI") called at /usr/perl5.26.1p/lib/site_perl/5.26.1/Catalyst.pm line 1422
	Catalyst::setup("ComponentUI") called at /home/cpansand/.cpan/build/2019012820/Reaction-0.002005-0/blib/lib/ComponentUI.pm line 32
	require ComponentUI.pm called at t/00componentui_compiles.t line 7
	main::BEGIN() called at /home/cpansand/.cpan/build/2019012820/Reaction-0.002005-0/blib/lib/ComponentUI/TestModel.pm line 0
	eval {...} called at /home/cpansand/.cpan/build/2019012820/Reaction-0.002005-0/blib/lib/ComponentUI/TestModel.pm line 0
	eval 'package main;
BEGIN { ${^WARNING_BITS} = $args[-1] if defined $args[-1] }
#line 7 t/00componentui_compiles.t
use ComponentUI @{$args[0]};
1;
' called at /usr/perl5.26.1p/lib/site_perl/5.26.1/Test/More.pm line 1031
	Test::More::_eval("package main;\x{a}BEGIN { \${^WARNING_BITS} = \$args[-1] if defined"..., ARRAY(0x42d39ab0), "UUUUUUUUUUUUUUUUU\x{1}") called at /usr/perl5.26.1p/lib/site_perl/5.26.1/Test/More.pm line 1007
	Test::More::use_ok("ComponentUI") called at t/00componentui_compiles.t line 7
Class::MOP::load_class is deprecated at /usr/perl5.26.1p/lib/site_perl/5.26.1/amd64-freebsd/Class/MOP.pm line 69.
	Class::MOP::load_class("Reaction::InterfaceModel::Object") called at /home/cpansand/.cpan/build/2019012820/Reaction-0.002005-0/blib/lib/Reaction/Class.pm line 123
	Reaction::Class::do_class_sub("Reaction::Class", "ComponentUI::TestModel::Foo", "ComponentUI::TestModel::Foo", "is", "Reaction::InterfaceModel::Object", "which", CODE(0x5091d930)) called at /home/cpansand/.cpan/build/2019012820/Reaction-0.002005-0/blib/lib/Reaction/Class.pm line 86
	Reaction::Class::("ComponentUI::TestModel::Foo", "is", "Reaction::InterfaceModel::Object", "which", CODE(0x5091d930)) called at /home/cpansand/.cpan/build/2019012820/Reaction-0.002005-0/blib/lib/ComponentUI/TestModel/Foo.pm line 8
	require ComponentUI/TestModel/Foo.pm called at /usr/perl5.26.1p/lib/site_perl/5.26.1/Module/Runtime.pm line 314
	Module::Runtime::require_module("ComponentUI::TestModel::Foo") called at /usr/perl5.26.1p/lib/site_perl/5.26.1/Class/Load.pm line 174
	Class::Load::try {...} () called at /usr/perl5.26.1p/lib/site_perl/5.26.1/Try/Tiny.pm line 98
	eval {...} called at /usr/perl5.26.1p/lib/site_perl/5.26.1/Try/Tiny.pm line 93
	Try::Tiny::try(CODE(0x50917c78), Try::Tiny::Catch=REF(0x5091b300)) called at /usr/perl5.26.1p/lib/site_perl/5.26.1/Class/Load.pm line 180
	Class::Load::try_load_class("ComponentUI::TestModel::Foo", undef) called at /usr/perl5.26.1p/lib/site_perl/5.26.1/Class/Load.pm line 35
	Class::Load::load_class("ComponentUI::TestModel::Foo") called at /home/cpansand/.cpan/build/2019012820/Reaction-0.002005-0/blib/lib/Reaction/InterfaceModel/Reflector/DBIC.pm line 892
	eval {...} called at /home/cpansand/.cpan/build/2019012820/Reaction-0.002005-0/blib/lib/Reaction/InterfaceModel/Reflector/DBIC.pm line 892
	Reaction::InterfaceModel::Reflector::DBIC::_maybe_load_class(Reaction::InterfaceModel::Reflector::DBIC=HASH(0x507fef18), "ComponentUI::TestModel::Foo") called at /home/cpansand/.cpan/build/2019012820/Reaction-0.002005-0/blib/lib/Reaction/InterfaceModel/Reflector/DBIC.pm line 876
	Reaction::InterfaceModel::Reflector::DBIC::_load_or_create(Reaction::InterfaceModel::Reflector::DBIC=HASH(0x507fef18), "ComponentUI::TestModel::Foo", "superclasses", ARRAY(0x507fe150)) called at /home/cpansand/.cpan/build/2019012820/Reaction-0.002005-0/blib/lib/Reaction/InterfaceModel/Reflector/DBIC.pm line 448
	Reaction::InterfaceModel::Reflector::DBIC::reflect_source_object(Reaction::InterfaceModel::Reflector::DBIC=HASH(0x507fef18), "source_name", "Foo", "source_class", "RTest::TestDB::Foo", "parent_domain_model_name", "_rtest_test_db_store", "parent_class", ...) called at /home/cpansand/.cpan/build/2019012820/Reaction-0.002005-0/blib/lib/Reaction/InterfaceModel/Reflector/DBIC.pm line 323
	Reaction::InterfaceModel::Reflector::DBIC::reflect_source(Reaction::InterfaceModel::Reflector::DBIC=HASH(0x507fef18), "source_name", "Foo", "parent_class", "ComponentUI::TestModel", "schema_class", "RTest::TestDB", "source_class", ...) called at /home/cpansand/.cpan/build/2019012820/Reaction-0.002005-0/blib/lib/Reaction/InterfaceModel/Reflector/DBIC.pm line 185
	Reaction::InterfaceModel::Reflector::DBIC::reflect_schema(Reaction::InterfaceModel::Reflector::DBIC=HASH(0x507fef18), "model_class", "ComponentUI::TestModel", "schema_class", "RTest::TestDB", "sources", ARRAY(0x507fec78)) called at /home/cpansand/.cpan/build/2019012820/Reaction-0.002005-0/blib/lib/ComponentUI/TestModel.pm line 10
	require ComponentUI/TestModel.pm called at /usr/perl5.26.1p/lib/site_perl/5.26.1/Module/Runtime.pm line 314
	Module::Runtime::require_module("ComponentUI::TestModel") called at /usr/perl5.26.1p/lib/site_perl/5.26.1/Class/Load.pm line 174
	Class::Load::try {...} () called at /usr/perl5.26.1p/lib/site_perl/5.26.1/Try/Tiny.pm line 98
	eval {...} called at /usr/perl5.26.1p/lib/site_perl/5.26.1/Try/Tiny.pm line 93
	Try::Tiny::try(CODE(0x4eebdc78), Try::Tiny::Catch=REF(0x4b86c720)) called at /usr/perl5.26.1p/lib/site_perl/5.26.1/Class/Load.pm line 180
	Class::Load::try_load_class("ComponentUI::TestModel", undef) called at /usr/perl5.26.1p/lib/site_perl/5.26.1/Class/Load.pm line 35
	Class::Load::load_class("ComponentUI::TestModel") called at /home/cpansand/.cpan/build/2019012820/Reaction-0.002005-0/blib/lib/Catalyst/Model/Reaction/InterfaceModel/DBIC.pm line 24
	Catalyst::Model::Reaction::InterfaceModel::DBIC::COMPONENT("ComponentUI::Model::TestModel", "ComponentUI", HASH(0x4ee44300)) called at /usr/perl5.26.1p/lib/site_perl/5.26.1/Catalyst.pm line 3212
	eval {...} called at /usr/perl5.26.1p/lib/site_perl/5.26.1/Catalyst.pm line 3213
	Catalyst::setup_component("ComponentUI", "ComponentUI::Model::TestModel") called at /usr/perl5.26.1p/lib/site_perl/5.26.1/Catalyst.pm line 3190
	Catalyst::__ANON__() called at /usr/perl5.26.1p/lib/site_perl/5.26.1/Catalyst.pm line 3037
	Catalyst::setup_components("ComponentUI") called at /usr/perl5.26.1p/lib/site_perl/5.26.1/Catalyst.pm line 1422
	Catalyst::setup("ComponentUI") called at /home/cpansand/.cpan/build/2019012820/Reaction-0.002005-0/blib/lib/ComponentUI.pm line 32
	require ComponentUI.pm called at t/00componentui_compiles.t line 7
	main::BEGIN() called at /home/cpansand/.cpan/build/2019012820/Reaction-0.002005-0/blib/lib/ComponentUI/TestModel/Foo.pm line 0
	eval {...} called at /home/cpansand/.cpan/build/2019012820/Reaction-0.002005-0/blib/lib/ComponentUI/TestModel/Foo.pm line 0
	eval 'package main;
BEGIN { ${^WARNING_BITS} = $args[-1] if defined $args[-1] }
#line 7 t/00componentui_compiles.t
use ComponentUI @{$args[0]};
1;
' called at /usr/perl5.26.1p/lib/site_perl/5.26.1/Test/More.pm line 1031
	Test::More::_eval("package main;\x{a}BEGIN { \${^WARNING_BITS} = \$args[-1] if defined"..., ARRAY(0x42d39ab0), "UUUUUUUUUUUUUUUUU\x{1}") called at /usr/perl5.26.1p/lib/site_perl/5.26.1/Test/More.pm line 1007
	Test::More::use_ok("ComponentUI") called at t/00componentui_compiles.t line 7
t/00componentui_compiles.t .. ok
Class::MOP::load_class is deprecated at /usr/perl5.26.1p/lib/site_perl/5.26.1/amd64-freebsd/Class/MOP.pm line 69.
	Class::MOP::load_class("ComponentUI::TestModel") called at /home/cpansand/.cpan/build/2019012820/Reaction-0.002005-0/blib/lib/Catalyst/Model/Reaction/InterfaceModel/DBIC.pm line 24
	Catalyst::Model::Reaction::InterfaceModel::DBIC::COMPONENT("ComponentUI::Model::TestModel", "ComponentUI", HASH(0x4aee9af8)) called at /usr/perl5.26.1p/lib/site_perl/5.26.1/Catalyst.pm line 3212
	eval {...} called at /usr/perl5.26.1p/lib/site_perl/5.26.1/Catalyst.pm line 3213
	Catalyst::setup_component("ComponentUI", "ComponentUI::Model::TestModel") called at /usr/perl5.26.1p/lib/site_perl/5.26.1/Catalyst.pm line 3190
	Catalyst::__ANON__() called at /usr/perl5.26.1p/lib/site_perl/5.26.1/Catalyst.pm line 3037
	Catalyst::setup_components("ComponentUI") called at /usr/perl5.26.1p/lib/site_perl/5.26.1/Catalyst.pm line 1422
	Catalyst::setup("ComponentUI") called at /home/cpansand/.cpan/build/2019012820/Reaction-0.002005-0/blib/lib/ComponentUI.pm line 32
	require ComponentUI.pm called at /usr/perl5.26.1p/lib/site_perl/5.26.1/Module/Runtime.pm line 314
	Module::Runtime::require_module("ComponentUI") called at /usr/perl5.26.1p/lib/site_perl/5.26.1/Class/Load.pm line 174
	Class::Load::try {...} () called at /usr/perl5.26.1p/lib/site_perl/5.26.1/Try/Tiny.pm line 98
	eval {...} called at /usr/perl5.26.1p/lib/site_perl/5.26.1/Try/Tiny.pm line 93
	Try::Tiny::try(CODE(0x465b14e0), Try::Tiny::Catch=REF(0x454cade0)) called at /usr/perl5.26.1p/lib/site_perl/5.26.1/Class/Load.pm line 180
	Class::Load::try_load_class("ComponentUI", undef) called at /usr/perl5.26.1p/lib/site_perl/5.26.1/Class/Load.pm line 35
	Class::Load::load_class("ComponentUI") called at /usr/perl5.26.1p/lib/site_perl/5.26.1/Catalyst/Test.pm line 29
	Catalyst::Test::_build_request_export("Catalyst::Test", HASH(0x465cef00)) called at /usr/perl5.26.1p/lib/site_perl/5.26.1/Catalyst/Test.pm line 95
	Catalyst::Test::__ANON__("Catalyst::Test", "all", HASH(0x42d547f8), HASH(0x42d548d0)) called at /usr/perl5.26.1p/lib/site_perl/5.26.1/Sub/Exporter.pm line 108
	Sub::Exporter::_expand_group("Catalyst::Test", HASH(0x4661f2e8), ARRAY(0x42d54888), HASH(0x42d548d0), HASH(0x465cef30), HASH(0x42d54858)) called at /usr/perl5.26.1p/lib/site_perl/5.26.1/Sub/Exporter.pm line 39
	Sub::Exporter::_expand_groups("Catalyst::Test", HASH(0x4661f2e8), ARRAY(0x4661f720), HASH(0x42d548d0)) called at /usr/perl5.26.1p/lib/site_perl/5.26.1/Sub/Exporter.pm line 323
	Sub::Exporter::__ANON__("Catalyst::Test", "-all", HASH(0x41a8a330)) called at /usr/perl5.26.1p/lib/site_perl/5.26.1/Catalyst/Test.pm line 155
	Catalyst::Test::import("Catalyst::Test", "ComponentUI") called at t/01app.t line 7
	main::BEGIN() called at /home/cpansand/.cpan/build/2019012820/Reaction-0.002005-0/blib/lib/ComponentUI.pm line 0
	eval {...} called at /home/cpansand/.cpan/build/2019012820/Reaction-0.002005-0/blib/lib/ComponentUI.pm line 0
	eval 'package main;
BEGIN { ${^WARNING_BITS} = $args[-1] if defined $args[-1] }
#line 7 t/01app.t
use Catalyst::Test @{$args[0]};
1;
' called at /usr/perl5.26.1p/lib/site_perl/5.26.1/Test/More.pm line 1031
	Test::More::_eval("package main;\x{a}BEGIN { \${^WARNING_BITS} = \$args[-1] if defined"..., ARRAY(0x42d39ab0), "UUUUUUUUUUUUUUUUU\x{1}") called at /usr/perl5.26.1p/lib/site_perl/5.26.1/Test/More.pm line 1007
	Test::More::use_ok("Catalyst::Test", "ComponentUI") called at t/01app.t line 7
	main::BEGIN() called at /home/cpansand/.cpan/build/2019012820/Reaction-0.002005-0/blib/lib/ComponentUI.pm line 0
	eval {...} called at /home/cpansand/.cpan/build/2019012820/Reaction-0.002005-0/blib/lib/ComponentUI.pm line 0
Class::MOP::load_class is deprecated at /usr/perl5.26.1p/lib/site_perl/5.26.1/amd64-freebsd/Class/MOP.pm line 69.
	Class::MOP::load_class("Reaction::InterfaceModel::Object") called at /home/cpansand/.cpan/build/2019012820/Reaction-0.002005-0/blib/lib/Reaction/InterfaceModel/Reflector/DBIC.pm line 149
	Reaction::InterfaceModel::Reflector::DBIC::reflect_schema(Reaction::InterfaceModel::Reflector::DBIC=HASH(0x508507e0), "model_class", "ComponentUI::TestModel", "schema_class", "RTest::TestDB", "sources", ARRAY(0x50850588)) called at /home/cpansand/.cpan/build/2019012820/Reaction-0.002005-0/blib/lib/ComponentUI/TestModel.pm line 10
	require ComponentUI/TestModel.pm called at /usr/perl5.26.1p/lib/site_perl/5.26.1/Module/Runtime.pm line 314
	Module::Runtime::require_module("ComponentUI::TestModel") called at /usr/perl5.26.1p/lib/site_perl/5.26.1/Class/Load.pm line 174
	Class::Load::try {...} () called at /usr/perl5.26.1p/lib/site_perl/5.26.1/Try/Tiny.pm line 98
	eval {...} called at /usr/perl5.26.1p/lib/site_perl/5.26.1/Try/Tiny.pm line 93
	Try::Tiny::try(CODE(0x49154a98), Try::Tiny::Catch=REF(0x502acee8)) called at /usr/perl5.26.1p/lib/site_perl/5.26.1/Class/Load.pm line 180
	Class::Load::try_load_class("ComponentUI::TestModel", undef) called at /usr/perl5.26.1p/lib/site_perl/5.26.1/Class/Load.pm line 35
	Class::Load::load_class("ComponentUI::TestModel") called at /home/cpansand/.cpan/build/2019012820/Reaction-0.002005-0/blib/lib/Catalyst/Model/Reaction/InterfaceModel/DBIC.pm line 24
	Catalyst::Model::Reaction::InterfaceModel::DBIC::COMPONENT("ComponentUI::Model::TestModel", "ComponentUI", HASH(0x4aee9af8)) called at /usr/perl5.26.1p/lib/site_perl/5.26.1/Catalyst.pm line 3212
	eval {...} called at /usr/perl5.26.1p/lib/site_perl/5.26.1/Catalyst.pm line 3213
	Catalyst::setup_component("ComponentUI", "ComponentUI::Model::TestModel") called at /usr/perl5.26.1p/lib/site_perl/5.26.1/Catalyst.pm line 3190
	Catalyst::__ANON__() called at /usr/perl5.26.1p/lib/site_perl/5.26.1/Catalyst.pm line 3037
	Catalyst::setup_components("ComponentUI") called at /usr/perl5.26.1p/lib/site_perl/5.26.1/Catalyst.pm line 1422
	Catalyst::setup("ComponentUI") called at /home/cpansand/.cpan/build/2019012820/Reaction-0.002005-0/blib/lib/ComponentUI.pm line 32
	require ComponentUI.pm called at /usr/perl5.26.1p/lib/site_perl/5.26.1/Module/Runtime.pm line 314
	Module::Runtime::require_module("ComponentUI") called at /usr/perl5.26.1p/lib/site_perl/5.26.1/Class/Load.pm line 174
	Class::Load::try {...} () called at /usr/perl5.26.1p/lib/site_perl/5.26.1/Try/Tiny.pm line 98
	eval {...} called at /usr/perl5.26.1p/lib/site_perl/5.26.1/Try/Tiny.pm line 93
	Try::Tiny::try(CODE(0x465b14e0), Try::Tiny::Catch=REF(0x454cade0)) called at /usr/perl5.26.1p/lib/site_perl/5.26.1/Class/Load.pm line 180
	Class::Load::try_load_class("ComponentUI", undef) called at /usr/perl5.26.1p/lib/site_perl/5.26.1/Class/Load.pm line 35
	Class::Load::load_class("ComponentUI") called at /usr/perl5.26.1p/lib/site_perl/5.26.1/Catalyst/Test.pm line 29
	Catalyst::Test::_build_request_export("Catalyst::Test", HASH(0x465cef00)) called at /usr/perl5.26.1p/lib/site_perl/5.26.1/Catalyst/Test.pm line 95
	Catalyst::Test::__ANON__("Catalyst::Test", "all", HASH(0x42d547f8), HASH(0x42d548d0)) called at /usr/perl5.26.1p/lib/site_perl/5.26.1/Sub/Exporter.pm line 108
	Sub::Exporter::_expand_group("Catalyst::Test", HASH(0x4661f2e8), ARRAY(0x42d54888), HASH(0x42d548d0), HASH(0x465cef30), HASH(0x42d54858)) called at /usr/perl5.26.1p/lib/site_perl/5.26.1/Sub/Exporter.pm line 39
	Sub::Exporter::_expand_groups("Catalyst::Test", HASH(0x4661f2e8), ARRAY(0x4661f720), HASH(0x42d548d0)) called at /usr/perl5.26.1p/lib/site_perl/5.26.1/Sub/Exporter.pm line 323
	Sub::Exporter::__ANON__("Catalyst::Test", "-all", HASH(0x41a8a330)) called at /usr/perl5.26.1p/lib/site_perl/5.26.1/Catalyst/Test.pm line 155
	Catalyst::Test::import("Catalyst::Test", "ComponentUI") called at t/01app.t line 7
	main::BEGIN() called at /home/cpansand/.cpan/build/2019012820/Reaction-0.002005-0/blib/lib/ComponentUI/TestModel.pm line 0
	eval {...} called at /home/cpansand/.cpan/build/2019012820/Reaction-0.002005-0/blib/lib/ComponentUI/TestModel.pm line 0
	eval 'package main;
BEGIN { ${^WARNING_BITS} = $args[-1] if defined $args[-1] }
#line 7 t/01app.t
use Catalyst::Test @{$args[0]};
1;
' called at /usr/perl5.26.1p/lib/site_perl/5.26.1/Test/More.pm line 1031
	Test::More::_eval("package main;\x{a}BEGIN { \${^WARNING_BITS} = \$args[-1] if defined"..., ARRAY(0x42d39ab0), "UUUUUUUUUUUUUUUUU\x{1}") called at /usr/perl5.26.1p/lib/site_perl/5.26.1/Test/More.pm line 1007
	Test::More::use_ok("Catalyst::Test", "ComponentUI") called at t/01app.t line 7
	main::BEGIN() called at /home/cpansand/.cpan/build/2019012820/Reaction-0.002005-0/blib/lib/ComponentUI/TestModel.pm line 0
	eval {...} called at /home/cpansand/.cpan/build/2019012820/Reaction-0.002005-0/blib/lib/ComponentUI/TestModel.pm line 0
Class::MOP::load_class is deprecated at /usr/perl5.26.1p/lib/site_perl/5.26.1/amd64-freebsd/Class/MOP.pm line 69.
	Class::MOP::load_class("Reaction::InterfaceModel::Object") called at /home/cpansand/.cpan/build/2019012820/Reaction-0.002005-0/blib/lib/Reaction/Class.pm line 123
	Reaction::Class::do_class_sub("Reaction::Class", "ComponentUI::TestModel::Foo", "ComponentUI::TestModel::Foo", "is", "Reaction::InterfaceModel::Object", "which", CODE(0x509764e0)) called at /home/cpansand/.cpan/build/2019012820/Reaction-0.002005-0/blib/lib/Reaction/Class.pm line 86
	Reaction::Class::("ComponentUI::TestModel::Foo", "is", "Reaction::InterfaceModel::Object", "which", CODE(0x509764e0)) called at /home/cpansand/.cpan/build/2019012820/Reaction-0.002005-0/blib/lib/ComponentUI/TestModel/Foo.pm line 8
	require ComponentUI/TestModel/Foo.pm called at /usr/perl5.26.1p/lib/site_perl/5.26.1/Module/Runtime.pm line 314
	Module::Runtime::require_module("ComponentUI::TestModel::Foo") called at /usr/perl5.26.1p/lib/site_perl/5.26.1/Class/Load.pm line 174
	Class::Load::try {...} () called at /usr/perl5.26.1p/lib/site_perl/5.26.1/Try/Tiny.pm line 98
	eval {...} called at /usr/perl5.26.1p/lib/site_perl/5.26.1/Try/Tiny.pm line 93
	Try::Tiny::try(CODE(0x507286a8), Try::Tiny::Catch=REF(0x50924d80)) called at /usr/perl5.26.1p/lib/site_perl/5.26.1/Class/Load.pm line 180
	Class::Load::try_load_class("ComponentUI::TestModel::Foo", undef) called at /usr/perl5.26.1p/lib/site_perl/5.26.1/Class/Load.pm line 35
	Class::Load::load_class("ComponentUI::TestModel::Foo") called at /home/cpansand/.cpan/build/2019012820/Reaction-0.002005-0/blib/lib/Reaction/InterfaceModel/Reflector/DBIC.pm line 892
	eval {...} called at /home/cpansand/.cpan/build/2019012820/Reaction-0.002005-0/blib/lib/Reaction/InterfaceModel/Reflector/DBIC.pm line 892
	Reaction::InterfaceModel::Reflector::DBIC::_maybe_load_class(Reaction::InterfaceModel::Reflector::DBIC=HASH(0x508507e0), "ComponentUI::TestModel::Foo") called at /home/cpansand/.cpan/build/2019012820/Reaction-0.002005-0/blib/lib/Reaction/InterfaceModel/Reflector/DBIC.pm line 876
	Reaction::InterfaceModel::Reflector::DBIC::_load_or_create(Reaction::InterfaceModel::Reflector::DBIC=HASH(0x508507e0), "ComponentUI::TestModel::Foo", "superclasses", ARRAY(0x507265e8)) called at /home/cpansand/.cpan/build/2019012820/Reaction-0.002005-0/blib/lib/Reaction/InterfaceModel/Reflector/DBIC.pm line 448
	Reaction::InterfaceModel::Reflector::DBIC::reflect_source_object(Reaction::InterfaceModel::Reflector::DBIC=HASH(0x508507e0), "source_class", "RTest::TestDB::Foo", "parent_class", "ComponentUI::TestModel", "source_name", "Foo", "parent_domain_model_name", ...) called at /home/cpansand/.cpan/build/2019012820/Reaction-0.002005-0/blib/lib/Reaction/InterfaceModel/Reflector/DBIC.pm line 323
	Reaction::InterfaceModel::Reflector::DBIC::reflect_source(Reaction::InterfaceModel::Reflector::DBIC=HASH(0x508507e0), "source_name", "Foo", "parent_class", "ComponentUI::TestModel", "schema_class", "RTest::TestDB", "source_class", ...) called at /home/cpansand/.cpan/build/2019012820/Reaction-0.002005-0/blib/lib/Reaction/InterfaceModel/Reflector/DBIC.pm line 185
	Reaction::InterfaceModel::Reflector::DBIC::reflect_schema(Reaction::InterfaceModel::Reflector::DBIC=HASH(0x508507e0), "model_class", "ComponentUI::TestModel", "schema_class", "RTest::TestDB", "sources", ARRAY(0x50850588)) called at /home/cpansand/.cpan/build/2019012820/Reaction-0.002005-0/blib/lib/ComponentUI/TestModel.pm line 10
	require ComponentUI/TestModel.pm called at /usr/perl5.26.1p/lib/site_perl/5.26.1/Module/Runtime.pm line 314
	Module::Runtime::require_module("ComponentUI::TestModel") called at /usr/perl5.26.1p/lib/site_perl/5.26.1/Class/Load.pm line 174
	Class::Load::try {...} () called at /usr/perl5.26.1p/lib/site_perl/5.26.1/Try/Tiny.pm line 98
	eval {...} called at /usr/perl5.26.1p/lib/site_perl/5.26.1/Try/Tiny.pm line 93
	Try::Tiny::try(CODE(0x49154a98), Try::Tiny::Catch=REF(0x502acee8)) called at /usr/perl5.26.1p/lib/site_perl/5.26.1/Class/Load.pm line 180
	Class::Load::try_load_class("ComponentUI::TestModel", undef) called at /usr/perl5.26.1p/lib/site_perl/5.26.1/Class/Load.pm line 35
	Class::Load::load_class("ComponentUI::TestModel") called at /home/cpansand/.cpan/build/2019012820/Reaction-0.002005-0/blib/lib/Catalyst/Model/Reaction/InterfaceModel/DBIC.pm line 24
	Catalyst::Model::Reaction::InterfaceModel::DBIC::COMPONENT("ComponentUI::Model::TestModel", "ComponentUI", HASH(0x4aee9af8)) called at /usr/perl5.26.1p/lib/site_perl/5.26.1/Catalyst.pm line 3212
	eval {...} called at /usr/perl5.26.1p/lib/site_perl/5.26.1/Catalyst.pm line 3213
	Catalyst::setup_component("ComponentUI", "ComponentUI::Model::TestModel") called at /usr/perl5.26.1p/lib/site_perl/5.26.1/Catalyst.pm line 3190
	Catalyst::__ANON__() called at /usr/perl5.26.1p/lib/site_perl/5.26.1/Catalyst.pm line 3037
	Catalyst::setup_components("ComponentUI") called at /usr/perl5.26.1p/lib/site_perl/5.26.1/Catalyst.pm line 1422
	Catalyst::setup("ComponentUI") called at /home/cpansand/.cpan/build/2019012820/Reaction-0.002005-0/blib/lib/ComponentUI.pm line 32
	require ComponentUI.pm called at /usr/perl5.26.1p/lib/site_perl/5.26.1/Module/Runtime.pm line 314
	Module::Runtime::require_module("ComponentUI") called at /usr/perl5.26.1p/lib/site_perl/5.26.1/Class/Load.pm line 174
	Class::Load::try {...} () called at /usr/perl5.26.1p/lib/site_perl/5.26.1/Try/Tiny.pm line 98
	eval {...} called at /usr/perl5.26.1p/lib/site_perl/5.26.1/Try/Tiny.pm line 93
	Try::Tiny::try(CODE(0x465b14e0), Try::Tiny::Catch=REF(0x454cade0)) called at /usr/perl5.26.1p/lib/site_perl/5.26.1/Class/Load.pm line 180
	Class::Load::try_load_class("ComponentUI", undef) called at /usr/perl5.26.1p/lib/site_perl/5.26.1/Class/Load.pm line 35
	Class::Load::load_class("ComponentUI") called at /usr/perl5.26.1p/lib/site_perl/5.26.1/Catalyst/Test.pm line 29
	Catalyst::Test::_build_request_export("Catalyst::Test", HASH(0x465cef00)) called at /usr/perl5.26.1p/lib/site_perl/5.26.1/Catalyst/Test.pm line 95
	Catalyst::Test::__ANON__("Catalyst::Test", "all", HASH(0x42d547f8), HASH(0x42d548d0)) called at /usr/perl5.26.1p/lib/site_perl/5.26.1/Sub/Exporter.pm line 108
	Sub::Exporter::_expand_group("Catalyst::Test", HASH(0x4661f2e8), ARRAY(0x42d54888), HASH(0x42d548d0), HASH(0x465cef30), HASH(0x42d54858)) called at /usr/perl5.26.1p/lib/site_perl/5.26.1/Sub/Exporter.pm line 39
	Sub::Exporter::_expand_groups("Catalyst::Test", HASH(0x4661f2e8), ARRAY(0x4661f720), HASH(0x42d548d0)) called at /usr/perl5.26.1p/lib/site_perl/5.26.1/Sub/Exporter.pm line 323
	Sub::Exporter::__ANON__("Catalyst::Test", "-all", HASH(0x41a8a330)) called at /usr/perl5.26.1p/lib/site_perl/5.26.1/Catalyst/Test.pm line 155
	Catalyst::Test::import("Catalyst::Test", "ComponentUI") called at t/01app.t line 7
	main::BEGIN() called at /home/cpansand/.cpan/build/2019012820/Reaction-0.002005-0/blib/lib/ComponentUI/TestModel/Foo.pm line 0
	eval {...} called at /home/cpansand/.cpan/build/2019012820/Reaction-0.002005-0/blib/lib/ComponentUI/TestModel/Foo.pm line 0
	eval 'package main;
BEGIN { ${^WARNING_BITS} = $args[-1] if defined $args[-1] }
#line 7 t/01app.t
use Catalyst::Test @{$args[0]};
1;
' called at /usr/perl5.26.1p/lib/site_perl/5.26.1/Test/More.pm line 1031
	Test::More::_eval("package main;\x{a}BEGIN { \${^WARNING_BITS} = \$args[-1] if defined"..., ARRAY(0x42d39ab0), "UUUUUUUUUUUUUUUUU\x{1}") called at /usr/perl5.26.1p/lib/site_perl/5.26.1/Test/More.pm line 1007
	Test::More::use_ok("Catalyst::Test", "ComponentUI") called at t/01app.t line 7
	main::BEGIN() called at /home/cpansand/.cpan/build/2019012820/Reaction-0.002005-0/blib/lib/ComponentUI/TestModel/Foo.pm line 0
	eval {...} called at /home/cpansand/.cpan/build/2019012820/Reaction-0.002005-0/blib/lib/ComponentUI/TestModel/Foo.pm line 0
Class::MOP::load_class is deprecated at /usr/perl5.26.1p/lib/site_perl/5.26.1/amd64-freebsd/Class/MOP.pm line 69.
	Class::MOP::load_class("ComponentUI::RenderingContext::Site") called at /home/cpansand/.cpan/build/2019012820/Reaction-0.002005-0/blib/lib/Reaction/UI/View.pm line 125
	eval {...} called at /home/cpansand/.cpan/build/2019012820/Reaction-0.002005-0/blib/lib/Reaction/UI/View.pm line 125
	Reaction::UI::View::find_related_class(ComponentUI::View::Site=HASH(0x4b61da80), "RenderingContext") called at /home/cpansand/.cpan/build/2019012820/Reaction-0.002005-0/blib/lib/Reaction/UI/View.pm line 43
	Reaction::UI::View::_build_rendering_context_class(ComponentUI::View::Site=HASH(0x4b61da80)) called at reader Reaction::UI::View::rendering_context_class (defined at /home/cpansand/.cpan/build/2019012820/Reaction-0.002005-0/blib/lib/Reaction/UI/View.pm line 29) line 8
	Reaction::UI::View::rendering_context_class(ComponentUI::View::Site=HASH(0x4b61da80)) called at /home/cpansand/.cpan/build/2019012820/Reaction-0.002005-0/blib/lib/Reaction/UI/View.pm line 134
	Reaction::UI::View::create_rendering_context(ComponentUI::View::Site=HASH(0x4b61da80)) called at /home/cpansand/.cpan/build/2019012820/Reaction-0.002005-0/blib/lib/Reaction/UI/View.pm line 60
	Reaction::UI::View::render_window(ComponentUI::View::Site=HASH(0x4b61da80), Reaction::UI::Window=HASH(0x514ecfa8)) called at /home/cpansand/.cpan/build/2019012820/Reaction-0.002005-0/blib/lib/Reaction/UI/Window.pm line 74
	Reaction::UI::Window::flush_view(Reaction::UI::Window=HASH(0x514ecfa8)) called at /home/cpansand/.cpan/build/2019012820/Reaction-0.002005-0/blib/lib/Reaction/UI/Window.pm line 36
	Reaction::UI::Window::flush(Reaction::UI::Window=HASH(0x514ecfa8)) called at /home/cpansand/.cpan/build/2019012820/Reaction-0.002005-0/blib/lib/Reaction/UI/Controller/Root.pm line 38
	Reaction::UI::Controller::Root::end(ComponentUI::Controller::Root=HASH(0x514e0648), ComponentUI=HASH(0x514db960)) called at /usr/perl5.26.1p/lib/site_perl/5.26.1/Catalyst/Action.pm line 358
	Catalyst::Action::execute(Catalyst::Action=HASH(0x50f1f030), ComponentUI::Controller::Root=HASH(0x514e0648), ComponentUI=HASH(0x514db960)) called at /usr/perl5.26.1p/lib/site_perl/5.26.1/Catalyst.pm line 2049
	eval {...} called at /usr/perl5.26.1p/lib/site_perl/5.26.1/Catalyst.pm line 2049
	Catalyst::execute(ComponentUI=HASH(0x514db960), "ComponentUI::Controller::Root", Catalyst::Action=HASH(0x50f1f030)) called at /usr/perl5.26.1p/lib/site_perl/5.26.1/Catalyst/Action.pm line 353
	Catalyst::Action::dispatch(Catalyst::Action=HASH(0x50f1f030), ComponentUI=HASH(0x514db960)) called at /usr/perl5.26.1p/lib/site_perl/5.26.1/Catalyst/Controller.pm line 188
	Catalyst::Controller::_END(ComponentUI::Controller::Root=HASH(0x514e0648), ComponentUI=HASH(0x514db960)) called at /usr/perl5.26.1p/lib/site_perl/5.26.1/Catalyst/Action.pm line 358
	Catalyst::Action::execute(Catalyst::Action=HASH(0x50f05528), ComponentUI::Controller::Root=HASH(0x514e0648), ComponentUI=HASH(0x514db960)) called at /usr/perl5.26.1p/lib/site_perl/5.26.1/Catalyst.pm line 2049
	eval {...} called at /usr/perl5.26.1p/lib/site_perl/5.26.1/Catalyst.pm line 2049
	Catalyst::execute(ComponentUI=HASH(0x514db960), "ComponentUI::Controller::Root", Catalyst::Action=HASH(0x50f05528)) called at /usr/perl5.26.1p/lib/site_perl/5.26.1/Catalyst/Action.pm line 353
	Catalyst::Action::dispatch(Catalyst::Action=HASH(0x50f05528), ComponentUI=HASH(0x514db960)) called at /usr/perl5.26.1p/lib/site_perl/5.26.1/Catalyst/Dispatcher.pm line 261
	Catalyst::Dispatcher::_do_forward(Catalyst::Dispatcher=HASH(0x48d273d8), "forward", ComponentUI=HASH(0x514db960), "_END") called at /usr/perl5.26.1p/lib/site_perl/5.26.1/Catalyst/Dispatcher.pm line 241
	Catalyst::Dispatcher::forward(Catalyst::Dispatcher=HASH(0x48d273d8), ComponentUI=HASH(0x514db960), "_END") called at /usr/perl5.26.1p/lib/site_perl/5.26.1/Catalyst.pm line 477
	Catalyst::forward(ComponentUI=HASH(0x514db960), "_END") called at /usr/perl5.26.1p/lib/site_perl/5.26.1/Catalyst/Controller.pm line 137
	Catalyst::Controller::_DISPATCH(ComponentUI::Controller::Root=HASH(0x514e0648), ComponentUI=HASH(0x514db960)) called at /usr/perl5.26.1p/lib/site_perl/5.26.1/Catalyst/Action.pm line 358
	Catalyst::Action::execute(Catalyst::Action=HASH(0x50d7ff00), ComponentUI::Controller::Root=HASH(0x514e0648), ComponentUI=HASH(0x514db960)) called at /usr/perl5.26.1p/lib/site_perl/5.26.1/Catalyst.pm line 2049
	eval {...} called at /usr/perl5.26.1p/lib/site_perl/5.26.1/Catalyst.pm line 2049
	Catalyst::execute(ComponentUI=HASH(0x514db960), "ComponentUI::Controller::Root", Catalyst::Action=HASH(0x50d7ff00)) called at /usr/perl5.26.1p/lib/site_perl/5.26.1/Catalyst/Action.pm line 353
	Catalyst::Action::dispatch(Catalyst::Action=HASH(0x50d7ff00), ComponentUI=HASH(0x514db960)) called at /usr/perl5.26.1p/lib/site_perl/5.26.1/Catalyst/Dispatcher.pm line 261
	Catalyst::Dispatcher::_do_forward(Catalyst::Dispatcher=HASH(0x48d273d8), "forward", ComponentUI=HASH(0x514db960), "//_DISPATCH") called at /usr/perl5.26.1p/lib/site_perl/5.26.1/Catalyst/Dispatcher.pm line 241
	Catalyst::Dispatcher::forward(Catalyst::Dispatcher=HASH(0x48d273d8), ComponentUI=HASH(0x514db960), "//_DISPATCH") called at /usr/perl5.26.1p/lib/site_perl/5.26.1/Catalyst.pm line 477
	Catalyst::forward(ComponentUI=HASH(0x514db960), "//_DISPATCH") called at /usr/perl5.26.1p/lib/site_perl/5.26.1/Catalyst/Dispatcher.pm line 107
	Catalyst::Dispatcher::dispatch(Catalyst::Dispatcher=HASH(0x48d273d8), ComponentUI=HASH(0x514db960)) called at /usr/perl5.26.1p/lib/site_perl/5.26.1/Catalyst.pm line 1995
	Catalyst::dispatch(ComponentUI=HASH(0x514db960)) called at /usr/perl5.26.1p/lib/site_perl/5.26.1/Catalyst/Plugin/Static/Simple.pm line 86
	Class::MOP::Class:::around(CODE(0x483e2498), ComponentUI=HASH(0x514db960)) called at /usr/perl5.26.1p/lib/site_perl/5.26.1/amd64-freebsd/Class/MOP/Method/Wrapped.pm line 164
	ComponentUI::_wrapped_dispatch(ComponentUI=HASH(0x514db960)) called at /usr/perl5.26.1p/lib/site_perl/5.26.1/amd64-freebsd/Class/MOP/Method/Wrapped.pm line 95
	ComponentUI::dispatch(ComponentUI=HASH(0x514db960)) called at /usr/perl5.26.1p/lib/site_perl/5.26.1/Catalyst.pm line 2390
	Catalyst::try {...} () called at /usr/perl5.26.1p/lib/site_perl/5.26.1/Try/Tiny.pm line 102
	eval {...} called at /usr/perl5.26.1p/lib/site_perl/5.26.1/Try/Tiny.pm line 93
	Try::Tiny::try(CODE(0x514db2d0), Try::Tiny::Catch=REF(0x514db0d8)) called at /usr/perl5.26.1p/lib/site_perl/5.26.1/Catalyst.pm line 2399
	Catalyst::handle_request("ComponentUI", "env", HASH(0x514bcf60), "response_cb", CODE(0x514db138)) called at /usr/perl5.26.1p/lib/site_perl/5.26.1/Catalyst/Engine.pm line 806
	Catalyst::Engine::__ANON__(CODE(0x514db138)) called at /usr/perl5.26.1p/lib/site_perl/5.26.1/Plack/Middleware/HTTPExceptions.pm line 32
	Plack::Middleware::HTTPExceptions::try {...} () called at /usr/perl5.26.1p/lib/site_perl/5.26.1/Try/Tiny.pm line 102
	eval {...} called at /usr/perl5.26.1p/lib/site_perl/5.26.1/Try/Tiny.pm line 93
	Try::Tiny::try(CODE(0x514d8f48), Try::Tiny::Catch=REF(0x514d87b0)) called at /usr/perl5.26.1p/lib/site_perl/5.26.1/Plack/Middleware/HTTPExceptions.pm line 41
	Plack::Middleware::HTTPExceptions::__ANON__(CODE(0x514d8570)) called at /usr/perl5.26.1p/lib/site_perl/5.26.1/Plack/Util.pm line 339
	Plack::Util::__ANON__(CODE(0x514bcee8)) called at /usr/perl5.26.1p/lib/site_perl/5.26.1/Plack/Util.pm line 339
	Plack::Util::__ANON__(CODE(0x514bcdf8)) called at /usr/perl5.26.1p/lib/site_perl/5.26.1/Plack/Util.pm line 339
	Plack::Util::__ANON__(CODE(0x514bcd80)) called at /usr/perl5.26.1p/lib/site_perl/5.26.1/HTTP/Message/PSGI.pm line 100
	HTTP::Message::PSGI::res_from_psgi(CODE(0x514d8cc0)) called at /usr/perl5.26.1p/lib/site_perl/5.26.1/HTTP/Message/PSGI.pm line 156
	HTTP::Response::from_psgi("HTTP::Response", CODE(0x514d8cc0)) called at /usr/perl5.26.1p/lib/site_perl/5.26.1/Plack/Test/MockHTTP.pm line 24
	Plack::Test::MockHTTP::try {...} () called at /usr/perl5.26.1p/lib/site_perl/5.26.1/Try/Tiny.pm line 100
	eval {...} called at /usr/perl5.26.1p/lib/site_perl/5.26.1/Try/Tiny.pm line 93
	Try::Tiny::try(CODE(0x41a259c0), Try::Tiny::Catch=REF(0x50f19738)) called at /usr/perl5.26.1p/lib/site_perl/5.26.1/Plack/Test/MockHTTP.pm line 27
	Plack::Test::MockHTTP::request(Plack::Test::MockHTTP=HASH(0x514748e8), HTTP::Request=HASH(0x514744b0)) called at /usr/perl5.26.1p/lib/site_perl/5.26.1/Plack/Test.pm line 38
	Plack::Test::__ANON__(HTTP::Request=HASH(0x514744b0)) called at /usr/perl5.26.1p/lib/site_perl/5.26.1/Catalyst/Test.pm line 290
	Catalyst::Test::__ANON__(CODE(0x51474798)) called at /usr/perl5.26.1p/lib/site_perl/5.26.1/Plack/Test.pm line 38
	Plack::Test::test_psgi("mangle_response", CODE(0x465fb5e8), "app", CODE(0x51474030), "app", CODE(0x50fa99d8), "client", CODE(0x51474660)) called at /usr/perl5.26.1p/lib/site_perl/5.26.1/Catalyst/Test.pm line 293
	Catalyst::Test::_request(HASH(0x5144d378), "/") called at /usr/perl5.26.1p/lib/site_perl/5.26.1/Catalyst/Test.pm line 336
	Catalyst::Test::_local_request("ComponentUI", "/") called at /usr/perl5.26.1p/lib/site_perl/5.26.1/Catalyst/Test.pm line 32
	Catalyst::Test::__ANON__("/") called at t/01app.t line 10
Class::MOP::is_class_loaded is deprecated at /usr/perl5.26.1p/lib/site_perl/5.26.1/amd64-freebsd/Class/MOP.pm line 87.
	Class::MOP::is_class_loaded("ComponentUI::UI::Widget::SiteLayout") called at /home/cpansand/.cpan/build/2019012820/Reaction-0.002005-0/blib/lib/Reaction/UI/Skin.pm line 178
	Reaction::UI::Skin::widget_class_for(Reaction::UI::Skin=HASH(0x51535b28), Reaction::UI::LayoutSet::TT=HASH(0x51486420)) called at /home/cpansand/.cpan/build/2019012820/Reaction-0.002005-0/blib/lib/Reaction/UI/LayoutSet.pm line 29
	Reaction::UI::LayoutSet::BUILD(Reaction::UI::LayoutSet::TT=HASH(0x51486420), HASH(0x51486408)) called at constructor Reaction::UI::LayoutSet::TT::new (defined at /home/cpansand/.cpan/build/2019012820/Reaction-0.002005-0/blib/lib/Reaction/UI/LayoutSet/TT.pm line 43) line 80
	Reaction::UI::LayoutSet::TT::new("Reaction::UI::LayoutSet::TT", "name", "site_layout", "skin", Reaction::UI::Skin=HASH(0x51535b28), "tt_object", Template=HASH(0x4aee9f00), "source_file", ...) called at /home/cpansand/.cpan/build/2019012820/Reaction-0.002005-0/blib/lib/Reaction/UI/Skin.pm line 115
	Reaction::UI::Skin::_create_layout_set(Reaction::UI::Skin=HASH(0x51535b28), "site_layout", ARRAY(0x515506d8), Reaction::UI::Skin=HASH(0x51535b28)) called at /home/cpansand/.cpan/build/2019012820/Reaction-0.002005-0/blib/lib/Reaction/UI/Skin.pm line 110
	Reaction::UI::Skin::create_layout_set(Reaction::UI::Skin=HASH(0x51535b28), "site_layout") called at /home/cpansand/.cpan/build/2019012820/Reaction-0.002005-0/blib/lib/Reaction/UI/LayoutSet.pm line 83
	Reaction::UI::LayoutSet::_load_file(Reaction::UI::LayoutSet::TT=HASH(0x5154aed0), Path::Class::File=HASH(0x5154a570), HASH(0x5154af00)) called at /home/cpansand/.cpan/build/2019012820/Reaction-0.002005-0/blib/lib/Reaction/UI/LayoutSet.pm line 27
	Reaction::UI::LayoutSet::BUILD(Reaction::UI::LayoutSet::TT=HASH(0x5154aed0), HASH(0x5154af00)) called at constructor Reaction::UI::LayoutSet::TT::new (defined at /home/cpansand/.cpan/build/2019012820/Reaction-0.002005-0/blib/lib/Reaction/UI/LayoutSet/TT.pm line 43) line 80
	Reaction::UI::LayoutSet::TT::new("Reaction::UI::LayoutSet::TT", "name", "site_layout", "skin", Reaction::UI::Skin=HASH(0x51530e58), "next_skin", Reaction::UI::Skin=HASH(0x51535b28), "tt_object", ...) called at /home/cpansand/.cpan/build/2019012820/Reaction-0.002005-0/blib/lib/Reaction/UI/Skin.pm line 115
	Reaction::UI::Skin::_create_layout_set(Reaction::UI::Skin=HASH(0x51530e58), "site_layout", ARRAY(0x514edee8), Reaction::UI::Skin=HASH(0x51530e58)) called at /home/cpansand/.cpan/build/2019012820/Reaction-0.002005-0/blib/lib/Reaction/UI/Skin.pm line 110
	Reaction::UI::Skin::create_layout_set(Reaction::UI::Skin=HASH(0x51530e58), "site_layout") called at /home/cpansand/.cpan/build/2019012820/Reaction-0.002005-0/blib/lib/Reaction/UI/LayoutSet.pm line 83
	Reaction::UI::LayoutSet::_load_file(Reaction::UI::LayoutSet::TT=HASH(0x514f4270), Path::Class::File=HASH(0x51530708), HASH(0x514f42d0)) called at /home/cpansand/.cpan/build/2019012820/Reaction-0.002005-0/blib/lib/Reaction/UI/LayoutSet.pm line 27
	Reaction::UI::LayoutSet::BUILD(Reaction::UI::LayoutSet::TT=HASH(0x514f4270), HASH(0x514f42d0)) called at constructor Reaction::UI::LayoutSet::TT::new (defined at /home/cpansand/.cpan/build/2019012820/Reaction-0.002005-0/blib/lib/Reaction/UI/LayoutSet/TT.pm line 43) line 80
	Reaction::UI::LayoutSet::TT::new("Reaction::UI::LayoutSet::TT", "name", "site_layout", "skin", Reaction::UI::Skin=HASH(0x514f0990), "next_skin", Reaction::UI::Skin=HASH(0x51530e58), "tt_object", ...) called at /home/cpansand/.cpan/build/2019012820/Reaction-0.002005-0/blib/lib/Reaction/UI/Skin.pm line 115
	Reaction::UI::Skin::_create_layout_set(Reaction::UI::Skin=HASH(0x514f0990), "site_layout", ARRAY(0x48d58b40), Reaction::UI::Skin=HASH(0x514f0990)) called at /home/cpansand/.cpan/build/2019012820/Reaction-0.002005-0/blib/lib/Reaction/UI/Skin.pm line 110
	Reaction::UI::Skin::create_layout_set(Reaction::UI::Skin=HASH(0x514f0990), "site_layout") called at inline delegation in Reaction::UI::View for skin->create_layout_set (attribute declared in /home/cpansand/.cpan/build/2019012820/Reaction-0.002005-0/blib/lib/Reaction/UI/View.pm at line 22) line 18
	Reaction::UI::View::create_layout_set(ComponentUI::View::Site=HASH(0x4b61da80), "site_layout") called at /home/cpansand/.cpan/build/2019012820/Reaction-0.002005-0/blib/lib/Reaction/UI/View.pm line 99
	Reaction::UI::View::layout_set_for(ComponentUI::View::Site=HASH(0x4b61da80), Reaction::UI::ViewPort::SiteLayout=HASH(0x514ed600)) called at /home/cpansand/.cpan/build/2019012820/Reaction-0.002005-0/blib/lib/Reaction/UI/View.pm line 78
	Reaction::UI::View::render_viewport_args(ComponentUI::View::Site=HASH(0x4b61da80), Reaction::UI::ViewPort::SiteLayout=HASH(0x514ed600)) called at /home/cpansand/.cpan/build/2019012820/Reaction-0.002005-0/blib/lib/Reaction/UI/View.pm line 61
	Reaction::UI::View::render_window(ComponentUI::View::Site=HASH(0x4b61da80), Reaction::UI::Window=HASH(0x514ecfa8)) called at /home/cpansand/.cpan/build/2019012820/Reaction-0.002005-0/blib/lib/Reaction/UI/Window.pm line 74
	Reaction::UI::Window::flush_view(Reaction::UI::Window=HASH(0x514ecfa8)) called at /home/cpansand/.cpan/build/2019012820/Reaction-0.002005-0/blib/lib/Reaction/UI/Window.pm line 36
	Reaction::UI::Window::flush(Reaction::UI::Window=HASH(0x514ecfa8)) called at /home/cpansand/.cpan/build/2019012820/Reaction-0.002005-0/blib/lib/Reaction/UI/Controller/Root.pm line 38
	Reaction::UI::Controller::Root::end(ComponentUI::Controller::Root=HASH(0x514e0648), ComponentUI=HASH(0x514db960)) called at /usr/perl5.26.1p/lib/site_perl/5.26.1/Catalyst/Action.pm line 358
	Catalyst::Action::execute(Catalyst::Action=HASH(0x50f1f030), ComponentUI::Controller::Root=HASH(0x514e0648), ComponentUI=HASH(0x514db960)) called at /usr/perl5.26.1p/lib/site_perl/5.26.1/Catalyst.pm line 2049
	eval {...} called at /usr/perl5.26.1p/lib/site_perl/5.26.1/Catalyst.pm line 2049
	Catalyst::execute(ComponentUI=HASH(0x514db960), "ComponentUI::Controller::Root", Catalyst::Action=HASH(0x50f1f030)) called at /usr/perl5.26.1p/lib/site_perl/5.26.1/Catalyst/Action.pm line 353
	Catalyst::Action::dispatch(Catalyst::Action=HASH(0x50f1f030), ComponentUI=HASH(0x514db960)) called at /usr/perl5.26.1p/lib/site_perl/5.26.1/Catalyst/Controller.pm line 188
	Catalyst::Controller::_END(ComponentUI::Controller::Root=HASH(0x514e0648), ComponentUI=HASH(0x514db960)) called at /usr/perl5.26.1p/lib/site_perl/5.26.1/Catalyst/Action.pm line 358
	Catalyst::Action::execute(Catalyst::Action=HASH(0x50f05528), ComponentUI::Controller::Root=HASH(0x514e0648), ComponentUI=HASH(0x514db960)) called at /usr/perl5.26.1p/lib/site_perl/5.26.1/Catalyst.pm line 2049
	eval {...} called at /usr/perl5.26.1p/lib/site_perl/5.26.1/Catalyst.pm line 2049
	Catalyst::execute(ComponentUI=HASH(0x514db960), "ComponentUI::Controller::Root", Catalyst::Action=HASH(0x50f05528)) called at /usr/perl5.26.1p/lib/site_perl/5.26.1/Catalyst/Action.pm line 353
	Catalyst::Action::dispatch(Catalyst::Action=HASH(0x50f05528), ComponentUI=HASH(0x514db960)) called at /usr/perl5.26.1p/lib/site_perl/5.26.1/Catalyst/Dispatcher.pm line 261
	Catalyst::Dispatcher::_do_forward(Catalyst::Dispatcher=HASH(0x48d273d8), "forward", ComponentUI=HASH(0x514db960), "_END") called at /usr/perl5.26.1p/lib/site_perl/5.26.1/Catalyst/Dispatcher.pm line 241
	Catalyst::Dispatcher::forward(Catalyst::Dispatcher=HASH(0x48d273d8), ComponentUI=HASH(0x514db960), "_END") called at /usr/perl5.26.1p/lib/site_perl/5.26.1/Catalyst.pm line 477
	Catalyst::forward(ComponentUI=HASH(0x514db960), "_END") called at /usr/perl5.26.1p/lib/site_perl/5.26.1/Catalyst/Controller.pm line 137
	Catalyst::Controller::_DISPATCH(ComponentUI::Controller::Root=HASH(0x514e0648), ComponentUI=HASH(0x514db960)) called at /usr/perl5.26.1p/lib/site_perl/5.26.1/Catalyst/Action.pm line 358
	Catalyst::Action::execute(Catalyst::Action=HASH(0x50d7ff00), ComponentUI::Controller::Root=HASH(0x514e0648), ComponentUI=HASH(0x514db960)) called at /usr/perl5.26.1p/lib/site_perl/5.26.1/Catalyst.pm line 2049
	eval {...} called at /usr/perl5.26.1p/lib/site_perl/5.26.1/Catalyst.pm line 2049
	Catalyst::execute(ComponentUI=HASH(0x514db960), "ComponentUI::Controller::Root", Catalyst::Action=HASH(0x50d7ff00)) called at /usr/perl5.26.1p/lib/site_perl/5.26.1/Catalyst/Action.pm line 353
	Catalyst::Action::dispatch(Catalyst::Action=HASH(0x50d7ff00), ComponentUI=HASH(0x514db960)) called at /usr/perl5.26.1p/lib/site_perl/5.26.1/Catalyst/Dispatcher.pm line 261
	Catalyst::Dispatcher::_do_forward(Catalyst::Dispatcher=HASH(0x48d273d8), "forward", ComponentUI=HASH(0x514db960), "//_DISPATCH") called at /usr/perl5.26.1p/lib/site_perl/5.26.1/Catalyst/Dispatcher.pm line 241
	Catalyst::Dispatcher::forward(Catalyst::Dispatcher=HASH(0x48d273d8), ComponentUI=HASH(0x514db960), "//_DISPATCH") called at /usr/perl5.26.1p/lib/site_perl/5.26.1/Catalyst.pm line 477
	Catalyst::forward(ComponentUI=HASH(0x514db960), "//_DISPATCH") called at /usr/perl5.26.1p/lib/site_perl/5.26.1/Catalyst/Dispatcher.pm line 107
	Catalyst::Dispatcher::dispatch(Catalyst::Dispatcher=HASH(0x48d273d8), ComponentUI=HASH(0x514db960)) called at /usr/perl5.26.1p/lib/site_perl/5.26.1/Catalyst.pm line 1995
	Catalyst::dispatch(ComponentUI=HASH(0x514db960)) called at /usr/perl5.26.1p/lib/site_perl/5.26.1/Catalyst/Plugin/Static/Simple.pm line 86
	Class::MOP::Class:::around(CODE(0x483e2498), ComponentUI=HASH(0x514db960)) called at /usr/perl5.26.1p/lib/site_perl/5.26.1/amd64-freebsd/Class/MOP/Method/Wrapped.pm line 164
	ComponentUI::_wrapped_dispatch(ComponentUI=HASH(0x514db960)) called at /usr/perl5.26.1p/lib/site_perl/5.26.1/amd64-freebsd/Class/MOP/Method/Wrapped.pm line 95
	ComponentUI::dispatch(ComponentUI=HASH(0x514db960)) called at /usr/perl5.26.1p/lib/site_perl/5.26.1/Catalyst.pm line 2390
	Catalyst::try {...} () called at /usr/perl5.26.1p/lib/site_perl/5.26.1/Try/Tiny.pm line 102
	eval {...} called at /usr/perl5.26.1p/lib/site_perl/5.26.1/Try/Tiny.pm line 93
	Try::Tiny::try(CODE(0x514db2d0), Try::Tiny::Catch=REF(0x514db0d8)) called at /usr/perl5.26.1p/lib/site_perl/5.26.1/Catalyst.pm line 2399
	Catalyst::handle_request("ComponentUI", "env", HASH(0x514bcf60), "response_cb", CODE(0x514db138)) called at /usr/perl5.26.1p/lib/site_perl/5.26.1/Catalyst/Engine.pm line 806
	Catalyst::Engine::__ANON__(CODE(0x514db138)) called at /usr/perl5.26.1p/lib/site_perl/5.26.1/Plack/Middleware/HTTPExceptions.pm line 32
	Plack::Middleware::HTTPExceptions::try {...} () called at /usr/perl5.26.1p/lib/site_perl/5.26.1/Try/Tiny.pm line 102
	eval {...} called at /usr/perl5.26.1p/lib/site_perl/5.26.1/Try/Tiny.pm line 93
	Try::Tiny::try(CODE(0x514d8f48), Try::Tiny::Catch=REF(0x514d87b0)) called at /usr/perl5.26.1p/lib/site_perl/5.26.1/Plack/Middleware/HTTPExceptions.pm line 41
	Plack::Middleware::HTTPExceptions::__ANON__(CODE(0x514d8570)) called at /usr/perl5.26.1p/lib/site_perl/5.26.1/Plack/Util.pm line 339
	Plack::Util::__ANON__(CODE(0x514bcee8)) called at /usr/perl5.26.1p/lib/site_perl/5.26.1/Plack/Util.pm line 339
	Plack::Util::__ANON__(CODE(0x514bcdf8)) called at /usr/perl5.26.1p/lib/site_perl/5.26.1/Plack/Util.pm line 339
	Plack::Util::__ANON__(CODE(0x514bcd80)) called at /usr/perl5.26.1p/lib/site_perl/5.26.1/HTTP/Message/PSGI.pm line 100
	HTTP::Message::PSGI::res_from_psgi(CODE(0x514d8cc0)) called at /usr/perl5.26.1p/lib/site_perl/5.26.1/HTTP/Message/PSGI.pm line 156
	HTTP::Response::from_psgi("HTTP::Response", CODE(0x514d8cc0)) called at /usr/perl5.26.1p/lib/site_perl/5.26.1/Plack/Test/MockHTTP.pm line 24
	Plack::Test::MockHTTP::try {...} () called at /usr/perl5.26.1p/lib/site_perl/5.26.1/Try/Tiny.pm line 100
	eval {...} called at /usr/perl5.26.1p/lib/site_perl/5.26.1/Try/Tiny.pm line 93
	Try::Tiny::try(CODE(0x41a259c0), Try::Tiny::Catch=REF(0x50f19738)) called at /usr/perl5.26.1p/lib/site_perl/5.26.1/Plack/Test/MockHTTP.pm line 27
	Plack::Test::MockHTTP::request(Plack::Test::MockHTTP=HASH(0x514748e8), HTTP::Request=HASH(0x514744b0)) called at /usr/perl5.26.1p/lib/site_perl/5.26.1/Plack/Test.pm line 38
	Plack::Test::__ANON__(HTTP::Request=HASH(0x514744b0)) called at /usr/perl5.26.1p/lib/site_perl/5.26.1/Catalyst/Test.pm line 290
	Catalyst::Test::__ANON__(CODE(0x51474798)) called at /usr/perl5.26.1p/lib/site_perl/5.26.1/Plack/Test.pm line 38
	Plack::Test::test_psgi("mangle_response", CODE(0x465fb5e8), "app", CODE(0x51474030), "app", CODE(0x50fa99d8), "client", CODE(0x51474660)) called at /usr/perl5.26.1p/lib/site_perl/5.26.1/Catalyst/Test.pm line 293
	Catalyst::Test::_request(HASH(0x5144d378), "/") called at /usr/perl5.26.1p/lib/site_perl/5.26.1/Catalyst/Test.pm line 336
	Catalyst::Test::_local_request("ComponentUI", "/") called at /usr/perl5.26.1p/lib/site_perl/5.26.1/Catalyst/Test.pm line 32
	Catalyst::Test::__ANON__("/") called at t/01app.t line 10
Class::MOP::load_class is deprecated at /usr/perl5.26.1p/lib/site_perl/5.26.1/amd64-freebsd/Class/MOP.pm line 69.
	Class::MOP::load_class("Reaction::UI::Widget::SiteLayout") called at /home/cpansand/.cpan/build/2019012820/Reaction-0.002005-0/blib/lib/Reaction/UI/Skin.pm line 181
	eval {...} called at /home/cpansand/.cpan/build/2019012820/Reaction-0.002005-0/blib/lib/Reaction/UI/Skin.pm line 181
	Reaction::UI::Skin::widget_class_for(Reaction::UI::Skin=HASH(0x51535b28), Reaction::UI::LayoutSet::TT=HASH(0x51486420)) called at /home/cpansand/.cpan/build/2019012820/Reaction-0.002005-0/blib/lib/Reaction/UI/LayoutSet.pm line 29
	Reaction::UI::LayoutSet::BUILD(Reaction::UI::LayoutSet::TT=HASH(0x51486420), HASH(0x51486408)) called at constructor Reaction::UI::LayoutSet::TT::new (defined at /home/cpansand/.cpan/build/2019012820/Reaction-0.002005-0/blib/lib/Reaction/UI/LayoutSet/TT.pm line 43) line 80
	Reaction::UI::LayoutSet::TT::new("Reaction::UI::LayoutSet::TT", "name", "site_layout", "skin", Reaction::UI::Skin=HASH(0x51535b28), "tt_object", Template=HASH(0x4aee9f00), "source_file", ...) called at /home/cpansand/.cpan/build/2019012820/Reaction-0.002005-0/blib/lib/Reaction/UI/Skin.pm line 115
	Reaction::UI::Skin::_create_layout_set(Reaction::UI::Skin=HASH(0x51535b28), "site_layout", ARRAY(0x515506d8), Reaction::UI::Skin=HASH(0x51535b28)) called at /home/cpansand/.cpan/build/2019012820/Reaction-0.002005-0/blib/lib/Reaction/UI/Skin.pm line 110
	Reaction::UI::Skin::create_layout_set(Reaction::UI::Skin=HASH(0x51535b28), "site_layout") called at /home/cpansand/.cpan/build/2019012820/Reaction-0.002005-0/blib/lib/Reaction/UI/LayoutSet.pm line 83
	Reaction::UI::LayoutSet::_load_file(Reaction::UI::LayoutSet::TT=HASH(0x5154aed0), Path::Class::File=HASH(0x5154a570), HASH(0x5154af00)) called at /home/cpansand/.cpan/build/2019012820/Reaction-0.002005-0/blib/lib/Reaction/UI/LayoutSet.pm line 27
	Reaction::UI::LayoutSet::BUILD(Reaction::UI::LayoutSet::TT=HASH(0x5154aed0), HASH(0x5154af00)) called at constructor Reaction::UI::LayoutSet::TT::new (defined at /home/cpansand/.cpan/build/2019012820/Reaction-0.002005-0/blib/lib/Reaction/UI/LayoutSet/TT.pm line 43) line 80
	Reaction::UI::LayoutSet::TT::new("Reaction::UI::LayoutSet::TT", "name", "site_layout", "skin", Reaction::UI::Skin=HASH(0x51530e58), "next_skin", Reaction::UI::Skin=HASH(0x51535b28), "tt_object", ...) called at /home/cpansand/.cpan/build/2019012820/Reaction-0.002005-0/blib/lib/Reaction/UI/Skin.pm line 115
	Reaction::UI::Skin::_create_layout_set(Reaction::UI::Skin=HASH(0x51530e58), "site_layout", ARRAY(0x514edee8), Reaction::UI::Skin=HASH(0x51530e58)) called at /home/cpansand/.cpan/build/2019012820/Reaction-0.002005-0/blib/lib/Reaction/UI/Skin.pm line 110
	Reaction::UI::Skin::create_layout_set(Reaction::UI::Skin=HASH(0x51530e58), "site_layout") called at /home/cpansand/.cpan/build/2019012820/Reaction-0.002005-0/blib/lib/Reaction/UI/LayoutSet.pm line 83
	Reaction::UI::LayoutSet::_load_file(Reaction::UI::LayoutSet::TT=HASH(0x514f4270), Path::Class::File=HASH(0x51530708), HASH(0x514f42d0)) called at /home/cpansand/.cpan/build/2019012820/Reaction-0.002005-0/blib/lib/Reaction/UI/LayoutSet.pm line 27
	Reaction::UI::LayoutSet::BUILD(Reaction::UI::LayoutSet::TT=HASH(0x514f4270), HASH(0x514f42d0)) called at constructor Reaction::UI::LayoutSet::TT::new (defined at /home/cpansand/.cpan/build/2019012820/Reaction-0.002005-0/blib/lib/Reaction/UI/LayoutSet/TT.pm line 43) line 80
	Reaction::UI::LayoutSet::TT::new("Reaction::UI::LayoutSet::TT", "name", "site_layout", "skin", Reaction::UI::Skin=HASH(0x514f0990), "next_skin", Reaction::UI::Skin=HASH(0x51530e58), "tt_object", ...) called at /home/cpansand/.cpan/build/2019012820/Reaction-0.002005-0/blib/lib/Reaction/UI/Skin.pm line 115
	Reaction::UI::Skin::_create_layout_set(Reaction::UI::Skin=HASH(0x514f0990), "site_layout", ARRAY(0x48d58b40), Reaction::UI::Skin=HASH(0x514f0990)) called at /home/cpansand/.cpan/build/2019012820/Reaction-0.002005-0/blib/lib/Reaction/UI/Skin.pm line 110
	Reaction::UI::Skin::create_layout_set(Reaction::UI::Skin=HASH(0x514f0990), "site_layout") called at inline delegation in Reaction::UI::View for skin->create_layout_set (attribute declared in /home/cpansand/.cpan/build/2019012820/Reaction-0.002005-0/blib/lib/Reaction/UI/View.pm at line 22) line 18
	Reaction::UI::View::create_layout_set(ComponentUI::View::Site=HASH(0x4b61da80), "site_layout") called at /home/cpansand/.cpan/build/2019012820/Reaction-0.002005-0/blib/lib/Reaction/UI/View.pm line 99
	Reaction::UI::View::layout_set_for(ComponentUI::View::Site=HASH(0x4b61da80), Reaction::UI::ViewPort::SiteLayout=HASH(0x514ed600)) called at /home/cpansand/.cpan/build/2019012820/Reaction-0.002005-0/blib/lib/Reaction/UI/View.pm line 78
	Reaction::UI::View::render_viewport_args(ComponentUI::View::Site=HASH(0x4b61da80), Reaction::UI::ViewPort::SiteLayout=HASH(0x514ed600)) called at /home/cpansand/.cpan/build/2019012820/Reaction-0.002005-0/blib/lib/Reaction/UI/View.pm line 61
	Reaction::UI::View::render_window(ComponentUI::View::Site=HASH(0x4b61da80), Reaction::UI::Window=HASH(0x514ecfa8)) called at /home/cpansand/.cpan/build/2019012820/Reaction-0.002005-0/blib/lib/Reaction/UI/Window.pm line 74
	Reaction::UI::Window::flush_view(Reaction::UI::Window=HASH(0x514ecfa8)) called at /home/cpansand/.cpan/build/2019012820/Reaction-0.002005-0/blib/lib/Reaction/UI/Window.pm line 36
	Reaction::UI::Window::flush(Reaction::UI::Window=HASH(0x514ecfa8)) called at /home/cpansand/.cpan/build/2019012820/Reaction-0.002005-0/blib/lib/Reaction/UI/Controller/Root.pm line 38
	Reaction::UI::Controller::Root::end(ComponentUI::Controller::Root=HASH(0x514e0648), ComponentUI=HASH(0x514db960)) called at /usr/perl5.26.1p/lib/site_perl/5.26.1/Catalyst/Action.pm line 358
	Catalyst::Action::execute(Catalyst::Action=HASH(0x50f1f030), ComponentUI::Controller::Root=HASH(0x514e0648), ComponentUI=HASH(0x514db960)) called at /usr/perl5.26.1p/lib/site_perl/5.26.1/Catalyst.pm line 2049
	eval {...} called at /usr/perl5.26.1p/lib/site_perl/5.26.1/Catalyst.pm line 2049
	Catalyst::execute(ComponentUI=HASH(0x514db960), "ComponentUI::Controller::Root", Catalyst::Action=HASH(0x50f1f030)) called at /usr/perl5.26.1p/lib/site_perl/5.26.1/Catalyst/Action.pm line 353
	Catalyst::Action::dispatch(Catalyst::Action=HASH(0x50f1f030), ComponentUI=HASH(0x514db960)) called at /usr/perl5.26.1p/lib/site_perl/5.26.1/Catalyst/Controller.pm line 188
	Catalyst::Controller::_END(ComponentUI::Controller::Root=HASH(0x514e0648), ComponentUI=HASH(0x514db960)) called at /usr/perl5.26.1p/lib/site_perl/5.26.1/Catalyst/Action.pm line 358
	Catalyst::Action::execute(Catalyst::Action=HASH(0x50f05528), ComponentUI::Controller::Root=HASH(0x514e0648), ComponentUI=HASH(0x514db960)) called at /usr/perl5.26.1p/lib/site_perl/5.26.1/Catalyst.pm line 2049
	eval {...} called at /usr/perl5.26.1p/lib/site_perl/5.26.1/Catalyst.pm line 2049
	Catalyst::execute(ComponentUI=HASH(0x514db960), "ComponentUI::Controller::Root", Catalyst::Action=HASH(0x50f05528)) called at /usr/perl5.26.1p/lib/site_perl/5.26.1/Catalyst/Action.pm line 353
	Catalyst::Action::dispatch(Catalyst::Action=HASH(0x50f05528), ComponentUI=HASH(0x514db960)) called at /usr/perl5.26.1p/lib/site_perl/5.26.1/Catalyst/Dispatcher.pm line 261
	Catalyst::Dispatcher::_do_forward(Catalyst::Dispatcher=HASH(0x48d273d8), "forward", ComponentUI=HASH(0x514db960), "_END") called at /usr/perl5.26.1p/lib/site_perl/5.26.1/Catalyst/Dispatcher.pm line 241
	Catalyst::Dispatcher::forward(Catalyst::Dispatcher=HASH(0x48d273d8), ComponentUI=HASH(0x514db960), "_END") called at /usr/perl5.26.1p/lib/site_perl/5.26.1/Catalyst.pm line 477
	Catalyst::forward(ComponentUI=HASH(0x514db960), "_END") called at /usr/perl5.26.1p/lib/site_perl/5.26.1/Catalyst/Controller.pm line 137
	Catalyst::Controller::_DISPATCH(ComponentUI::Controller::Root=HASH(0x514e0648), ComponentUI=HASH(0x514db960)) called at /usr/perl5.26.1p/lib/site_perl/5.26.1/Catalyst/Action.pm line 358
	Catalyst::Action::execute(Catalyst::Action=HASH(0x50d7ff00), ComponentUI::Controller::Root=HASH(0x514e0648), ComponentUI=HASH(0x514db960)) called at /usr/perl5.26.1p/lib/site_perl/5.26.1/Catalyst.pm line 2049
	eval {...} called at /usr/perl5.26.1p/lib/site_perl/5.26.1/Catalyst.pm line 2049
	Catalyst::execute(ComponentUI=HASH(0x514db960), "ComponentUI::Controller::Root", Catalyst::Action=HASH(0x50d7ff00)) called at /usr/perl5.26.1p/lib/site_perl/5.26.1/Catalyst/Action.pm line 353
	Catalyst::Action::dispatch(Catalyst::Action=HASH(0x50d7ff00), ComponentUI=HASH(0x514db960)) called at /usr/perl5.26.1p/lib/site_perl/5.26.1/Catalyst/Dispatcher.pm line 261
	Catalyst::Dispatcher::_do_forward(Catalyst::Dispatcher=HASH(0x48d273d8), "forward", ComponentUI=HASH(0x514db960), "//_DISPATCH") called at /usr/perl5.26.1p/lib/site_perl/5.26.1/Catalyst/Dispatcher.pm line 241
	Catalyst::Dispatcher::forward(Catalyst::Dispatcher=HASH(0x48d273d8), ComponentUI=HASH(0x514db960), "//_DISPATCH") called at /usr/perl5.26.1p/lib/site_perl/5.26.1/Catalyst.pm line 477
	Catalyst::forward(ComponentUI=HASH(0x514db960), "//_DISPATCH") called at /usr/perl5.26.1p/lib/site_perl/5.26.1/Catalyst/Dispatcher.pm line 107
	Catalyst::Dispatcher::dispatch(Catalyst::Dispatcher=HASH(0x48d273d8), ComponentUI=HASH(0x514db960)) called at /usr/perl5.26.1p/lib/site_perl/5.26.1/Catalyst.pm line 1995
	Catalyst::dispatch(ComponentUI=HASH(0x514db960)) called at /usr/perl5.26.1p/lib/site_perl/5.26.1/Catalyst/Plugin/Static/Simple.pm line 86
	Class::MOP::Class:::around(CODE(0x483e2498), ComponentUI=HASH(0x514db960)) called at /usr/perl5.26.1p/lib/site_perl/5.26.1/amd64-freebsd/Class/MOP/Method/Wrapped.pm line 164
	ComponentUI::_wrapped_dispatch(ComponentUI=HASH(0x514db960)) called at /usr/perl5.26.1p/lib/site_perl/5.26.1/amd64-freebsd/Class/MOP/Method/Wrapped.pm line 95
	ComponentUI::dispatch(ComponentUI=HASH(0x514db960)) called at /usr/perl5.26.1p/lib/site_perl/5.26.1/Catalyst.pm line 2390
	Catalyst::try {...} () called at /usr/perl5.26.1p/lib/site_perl/5.26.1/Try/Tiny.pm line 102
	eval {...} called at /usr/perl5.26.1p/lib/site_perl/5.26.1/Try/Tiny.pm line 93
	Try::Tiny::try(CODE(0x514db2d0), Try::Tiny::Catch=REF(0x514db0d8)) called at /usr/perl5.26.1p/lib/site_perl/5.26.1/Catalyst.pm line 2399
	Catalyst::handle_request("ComponentUI", "env", HASH(0x514bcf60), "response_cb", CODE(0x514db138)) called at /usr/perl5.26.1p/lib/site_perl/5.26.1/Catalyst/Engine.pm line 806
	Catalyst::Engine::__ANON__(CODE(0x514db138)) called at /usr/perl5.26.1p/lib/site_perl/5.26.1/Plack/Middleware/HTTPExceptions.pm line 32
	Plack::Middleware::HTTPExceptions::try {...} () called at /usr/perl5.26.1p/lib/site_perl/5.26.1/Try/Tiny.pm line 102
	eval {...} called at /usr/perl5.26.1p/lib/site_perl/5.26.1/Try/Tiny.pm line 93
	Try::Tiny::try(CODE(0x514d8f48), Try::Tiny::Catch=REF(0x514d87b0)) called at /usr/perl5.26.1p/lib/site_perl/5.26.1/Plack/Middleware/HTTPExceptions.pm line 41
	Plack::Middleware::HTTPExceptions::__ANON__(CODE(0x514d8570)) called at /usr/perl5.26.1p/lib/site_perl/5.26.1/Plack/Util.pm line 339
	Plack::Util::__ANON__(CODE(0x514bcee8)) called at /usr/perl5.26.1p/lib/site_perl/5.26.1/Plack/Util.pm line 339
	Plack::Util::__ANON__(CODE(0x514bcdf8)) called at /usr/perl5.26.1p/lib/site_perl/5.26.1/Plack/Util.pm line 339
	Plack::Util::__ANON__(CODE(0x514bcd80)) called at /usr/perl5.26.1p/lib/site_perl/5.26.1/HTTP/Message/PSGI.pm line 100
	HTTP::Message::PSGI::res_from_psgi(CODE(0x514d8cc0)) called at /usr/perl5.26.1p/lib/site_perl/5.26.1/HTTP/Message/PSGI.pm line 156
	HTTP::Response::from_psgi("HTTP::Response", CODE(0x514d8cc0)) called at /usr/perl5.26.1p/lib/site_perl/5.26.1/Plack/Test/MockHTTP.pm line 24
	Plack::Test::MockHTTP::try {...} () called at /usr/perl5.26.1p/lib/site_perl/5.26.1/Try/Tiny.pm line 100
	eval {...} called at /usr/perl5.26.1p/lib/site_perl/5.26.1/Try/Tiny.pm line 93
	Try::Tiny::try(CODE(0x41a259c0), Try::Tiny::Catch=REF(0x50f19738)) called at /usr/perl5.26.1p/lib/site_perl/5.26.1/Plack/Test/MockHTTP.pm line 27
	Plack::Test::MockHTTP::request(Plack::Test::MockHTTP=HASH(0x514748e8), HTTP::Request=HASH(0x514744b0)) called at /usr/perl5.26.1p/lib/site_perl/5.26.1/Plack/Test.pm line 38
	Plack::Test::__ANON__(HTTP::Request=HASH(0x514744b0)) called at /usr/perl5.26.1p/lib/site_perl/5.26.1/Catalyst/Test.pm line 290
	Catalyst::Test::__ANON__(CODE(0x51474798)) called at /usr/perl5.26.1p/lib/site_perl/5.26.1/Plack/Test.pm line 38
	Plack::Test::test_psgi("mangle_response", CODE(0x465fb5e8), "app", CODE(0x51474030), "app", CODE(0x50fa99d8), "client", CODE(0x51474660)) called at /usr/perl5.26.1p/lib/site_perl/5.26.1/Catalyst/Test.pm line 293
	Catalyst::Test::_request(HASH(0x5144d378), "/") called at /usr/perl5.26.1p/lib/site_perl/5.26.1/Catalyst/Test.pm line 336
	Catalyst::Test::_local_request("ComponentUI", "/") called at /usr/perl5.26.1p/lib/site_perl/5.26.1/Catalyst/Test.pm line 32
	Catalyst::Test::__ANON__("/") called at t/01app.t line 10
[debug] remote
t/01app.t ................... ok
t/04load_all.t .............. ok
t/05reflect_attr_from.t ..... ok
Class::MOP::load_class is deprecated at /usr/perl5.26.1p/lib/site_perl/5.26.1/amd64-freebsd/Class/MOP.pm line 69.
	Class::MOP::load_class("Reaction::InterfaceModel::Object") called at /home/cpansand/.cpan/build/2019012820/Reaction-0.002005-0/blib/lib/Reaction/InterfaceModel/Reflector/DBIC.pm line 149
	Reaction::InterfaceModel::Reflector::DBIC::reflect_schema(Reaction::InterfaceModel::Reflector::DBIC=HASH(0x46f15810), "model_class", "ComponentUI::TestModel", "schema_class", "RTest::TestDB", "sources", ARRAY(0x47b9ec00)) called at /home/cpansand/.cpan/build/2019012820/Reaction-0.002005-0/blib/lib/ComponentUI/TestModel.pm line 10
	require ComponentUI/TestModel.pm called at t/lib/RTest/InterfaceModel/Reflector/DBIC.pm line 6
	RTest::InterfaceModel::Reflector::DBIC::BEGIN() called at /home/cpansand/.cpan/build/2019012820/Reaction-0.002005-0/blib/lib/ComponentUI/TestModel.pm line 0
	eval {...} called at /home/cpansand/.cpan/build/2019012820/Reaction-0.002005-0/blib/lib/ComponentUI/TestModel.pm line 0
	require RTest/InterfaceModel/Reflector/DBIC.pm called at t/im_dbic.t line 7
	main::BEGIN() called at /home/cpansand/.cpan/build/2019012820/Reaction-0.002005-0/blib/lib/ComponentUI/TestModel.pm line 0
	eval {...} called at /home/cpansand/.cpan/build/2019012820/Reaction-0.002005-0/blib/lib/ComponentUI/TestModel.pm line 0
Class::MOP::load_class is deprecated at /usr/perl5.26.1p/lib/site_perl/5.26.1/amd64-freebsd/Class/MOP.pm line 69.
	Class::MOP::load_class("Reaction::InterfaceModel::Object") called at /home/cpansand/.cpan/build/2019012820/Reaction-0.002005-0/blib/lib/Reaction/Class.pm line 123
	Reaction::Class::do_class_sub("Reaction::Class", "ComponentUI::TestModel::Foo", "ComponentUI::TestModel::Foo", "is", "Reaction::InterfaceModel::Object", "which", CODE(0x4986e420)) called at /home/cpansand/.cpan/build/2019012820/Reaction-0.002005-0/blib/lib/Reaction/Class.pm line 86
	Reaction::Class::("ComponentUI::TestModel::Foo", "is", "Reaction::InterfaceModel::Object", "which", CODE(0x4986e420)) called at /home/cpansand/.cpan/build/2019012820/Reaction-0.002005-0/blib/lib/ComponentUI/TestModel/Foo.pm line 8
	require ComponentUI/TestModel/Foo.pm called at /usr/perl5.26.1p/lib/site_perl/5.26.1/Module/Runtime.pm line 314
	Module::Runtime::require_module("ComponentUI::TestModel::Foo") called at /usr/perl5.26.1p/lib/site_perl/5.26.1/Class/Load.pm line 174
	Class::Load::try {...} () called at /usr/perl5.26.1p/lib/site_perl/5.26.1/Try/Tiny.pm line 98
	eval {...} called at /usr/perl5.26.1p/lib/site_perl/5.26.1/Try/Tiny.pm line 93
	Try::Tiny::try(CODE(0x4986a2b8), Try::Tiny::Catch=REF(0x4984d288)) called at /usr/perl5.26.1p/lib/site_perl/5.26.1/Class/Load.pm line 180
	Class::Load::try_load_class("ComponentUI::TestModel::Foo", undef) called at /usr/perl5.26.1p/lib/site_perl/5.26.1/Class/Load.pm line 35
	Class::Load::load_class("ComponentUI::TestModel::Foo") called at /home/cpansand/.cpan/build/2019012820/Reaction-0.002005-0/blib/lib/Reaction/InterfaceModel/Reflector/DBIC.pm line 892
	eval {...} called at /home/cpansand/.cpan/build/2019012820/Reaction-0.002005-0/blib/lib/Reaction/InterfaceModel/Reflector/DBIC.pm line 892
	Reaction::InterfaceModel::Reflector::DBIC::_maybe_load_class(Reaction::InterfaceModel::Reflector::DBIC=HASH(0x46f15810), "ComponentUI::TestModel::Foo") called at /home/cpansand/.cpan/build/2019012820/Reaction-0.002005-0/blib/lib/Reaction/InterfaceModel/Reflector/DBIC.pm line 876
	Reaction::InterfaceModel::Reflector::DBIC::_load_or_create(Reaction::InterfaceModel::Reflector::DBIC=HASH(0x46f15810), "ComponentUI::TestModel::Foo", "superclasses", ARRAY(0x43370228)) called at /home/cpansand/.cpan/build/2019012820/Reaction-0.002005-0/blib/lib/Reaction/InterfaceModel/Reflector/DBIC.pm line 448
	Reaction::InterfaceModel::Reflector::DBIC::reflect_source_object(Reaction::InterfaceModel::Reflector::DBIC=HASH(0x46f15810), "schema_class", "RTest::TestDB", "source_class", "RTest::TestDB::Foo", "source_name", "Foo", "parent_class", ...) called at /home/cpansand/.cpan/build/2019012820/Reaction-0.002005-0/blib/lib/Reaction/InterfaceModel/Reflector/DBIC.pm line 323
	Reaction::InterfaceModel::Reflector::DBIC::reflect_source(Reaction::InterfaceModel::Reflector::DBIC=HASH(0x46f15810), "source_name", "Foo", "parent_class", "ComponentUI::TestModel", "schema_class", "RTest::TestDB", "source_class", ...) called at /home/cpansand/.cpan/build/2019012820/Reaction-0.002005-0/blib/lib/Reaction/InterfaceModel/Reflector/DBIC.pm line 185
	Reaction::InterfaceModel::Reflector::DBIC::reflect_schema(Reaction::InterfaceModel::Reflector::DBIC=HASH(0x46f15810), "model_class", "ComponentUI::TestModel", "schema_class", "RTest::TestDB", "sources", ARRAY(0x47b9ec00)) called at /home/cpansand/.cpan/build/2019012820/Reaction-0.002005-0/blib/lib/ComponentUI/TestModel.pm line 10
	require ComponentUI/TestModel.pm called at t/lib/RTest/InterfaceModel/Reflector/DBIC.pm line 6
	RTest::InterfaceModel::Reflector::DBIC::BEGIN() called at /home/cpansand/.cpan/build/2019012820/Reaction-0.002005-0/blib/lib/ComponentUI/TestModel/Foo.pm line 0
	eval {...} called at /home/cpansand/.cpan/build/2019012820/Reaction-0.002005-0/blib/lib/ComponentUI/TestModel/Foo.pm line 0
	require RTest/InterfaceModel/Reflector/DBIC.pm called at t/im_dbic.t line 7
	main::BEGIN() called at /home/cpansand/.cpan/build/2019012820/Reaction-0.002005-0/blib/lib/ComponentUI/TestModel/Foo.pm line 0
	eval {...} called at /home/cpansand/.cpan/build/2019012820/Reaction-0.002005-0/blib/lib/ComponentUI/TestModel/Foo.pm line 0
Class::MOP::is_class_loaded is deprecated at /usr/perl5.26.1p/lib/site_perl/5.26.1/amd64-freebsd/Class/MOP.pm line 87.
	Class::MOP::is_class_loaded("RTest::TestIM::Foo") called at t/lib/RTest/InterfaceModel/Reflector/DBIC.pm line 74
	RTest::InterfaceModel::Reflector::DBIC::test_reflect_schema(RTest::InterfaceModel::Reflector::DBIC=HASH(0x49ccea68)) called at /usr/perl5.26.1p/lib/site_perl/5.26.1/Test/Class.pm line 293
	Test::Class::try {...} () called at /usr/perl5.26.1p/lib/site_perl/5.26.1/Try/Tiny.pm line 100
	eval {...} called at /usr/perl5.26.1p/lib/site_perl/5.26.1/Try/Tiny.pm line 93
	Try::Tiny::try(CODE(0x4bde3078), Try::Tiny::Catch=REF(0x4ba52e88)) called at /usr/perl5.26.1p/lib/site_perl/5.26.1/Test/Class.pm line 293
	Test::Class::_run_method(RTest::InterfaceModel::Reflector::DBIC=HASH(0x49ccea68), "test_reflect_schema", ARRAY(0x432868e8)) called at /usr/perl5.26.1p/lib/site_perl/5.26.1/Test/Class.pm line 395
	Test::Class::runtests("Test::Class", RTest::InterfaceModel::Reflector::DBIC=HASH(0x49ccea68)) called at t/im_dbic.t line 10
t/im_dbic.t ................. ok
t/ui_focus_stack.t .......... ok
t/ui_view.t ................. ok
t/ui_viewport.t ............. ok
Class::MOP::load_class is deprecated at /usr/perl5.26.1p/lib/site_perl/5.26.1/amd64-freebsd/Class/MOP.pm line 69.
	Class::MOP::load_class("ComponentUI::TestModel") called at /home/cpansand/.cpan/build/2019012820/Reaction-0.002005-0/blib/lib/Catalyst/Model/Reaction/InterfaceModel/DBIC.pm line 24
	Catalyst::Model::Reaction::InterfaceModel::DBIC::COMPONENT("ComponentUI::Model::TestModel", "ComponentUI", HASH(0x4fa398e8)) called at /usr/perl5.26.1p/lib/site_perl/5.26.1/Catalyst.pm line 3212
	eval {...} called at /usr/perl5.26.1p/lib/site_perl/5.26.1/Catalyst.pm line 3213
	Catalyst::setup_component("ComponentUI", "ComponentUI::Model::TestModel") called at /usr/perl5.26.1p/lib/site_perl/5.26.1/Catalyst.pm line 3190
	Catalyst::__ANON__() called at /usr/perl5.26.1p/lib/site_perl/5.26.1/Catalyst.pm line 3037
	Catalyst::setup_components("ComponentUI") called at /usr/perl5.26.1p/lib/site_perl/5.26.1/Catalyst.pm line 1422
	Catalyst::setup("ComponentUI") called at /home/cpansand/.cpan/build/2019012820/Reaction-0.002005-0/blib/lib/ComponentUI.pm line 32
	require ComponentUI.pm called at /usr/perl5.26.1p/lib/site_perl/5.26.1/Module/Runtime.pm line 314
	Module::Runtime::require_module("ComponentUI") called at /usr/perl5.26.1p/lib/site_perl/5.26.1/Class/Load.pm line 174
	Class::Load::try {...} () called at /usr/perl5.26.1p/lib/site_perl/5.26.1/Try/Tiny.pm line 98
	eval {...} called at /usr/perl5.26.1p/lib/site_perl/5.26.1/Try/Tiny.pm line 93
	Try::Tiny::try(CODE(0x41a85438), Try::Tiny::Catch=REF(0x47d0dc30)) called at /usr/perl5.26.1p/lib/site_perl/5.26.1/Class/Load.pm line 180
	Class::Load::try_load_class("ComponentUI", undef) called at /usr/perl5.26.1p/lib/site_perl/5.26.1/Class/Load.pm line 35
	Class::Load::load_class("ComponentUI") called at /usr/perl5.26.1p/lib/site_perl/5.26.1/Test/WWW/Mechanize/Catalyst.pm line 245
	Test::WWW::Mechanize::Catalyst::import("Test::WWW::Mechanize::Catalyst", "ComponentUI") called at t/uncheck_bool_field.t line 6
	main::BEGIN() called at /home/cpansand/.cpan/build/2019012820/Reaction-0.002005-0/blib/lib/ComponentUI.pm line 0
	eval {...} called at /home/cpansand/.cpan/build/2019012820/Reaction-0.002005-0/blib/lib/ComponentUI.pm line 0
Class::MOP::load_class is deprecated at /usr/perl5.26.1p/lib/site_perl/5.26.1/amd64-freebsd/Class/MOP.pm line 69.
	Class::MOP::load_class("Reaction::InterfaceModel::Object") called at /home/cpansand/.cpan/build/2019012820/Reaction-0.002005-0/blib/lib/Reaction/InterfaceModel/Reflector/DBIC.pm line 149
	Reaction::InterfaceModel::Reflector::DBIC::reflect_schema(Reaction::InterfaceModel::Reflector::DBIC=HASH(0x51427600), "model_class", "ComponentUI::TestModel", "schema_class", "RTest::TestDB", "sources", ARRAY(0x513dcfd8)) called at /home/cpansand/.cpan/build/2019012820/Reaction-0.002005-0/blib/lib/ComponentUI/TestModel.pm line 10
	require ComponentUI/TestModel.pm called at /usr/perl5.26.1p/lib/site_perl/5.26.1/Module/Runtime.pm line 314
	Module::Runtime::require_module("ComponentUI::TestModel") called at /usr/perl5.26.1p/lib/site_perl/5.26.1/Class/Load.pm line 174
	Class::Load::try {...} () called at /usr/perl5.26.1p/lib/site_perl/5.26.1/Try/Tiny.pm line 98
	eval {...} called at /usr/perl5.26.1p/lib/site_perl/5.26.1/Try/Tiny.pm line 93
	Try::Tiny::try(CODE(0x49f568d0), Try::Tiny::Catch=REF(0x50e82d20)) called at /usr/perl5.26.1p/lib/site_perl/5.26.1/Class/Load.pm line 180
	Class::Load::try_load_class("ComponentUI::TestModel", undef) called at /usr/perl5.26.1p/lib/site_perl/5.26.1/Class/Load.pm line 35
	Class::Load::load_class("ComponentUI::TestModel") called at /home/cpansand/.cpan/build/2019012820/Reaction-0.002005-0/blib/lib/Catalyst/Model/Reaction/InterfaceModel/DBIC.pm line 24
	Catalyst::Model::Reaction::InterfaceModel::DBIC::COMPONENT("ComponentUI::Model::TestModel", "ComponentUI", HASH(0x4fa398e8)) called at /usr/perl5.26.1p/lib/site_perl/5.26.1/Catalyst.pm line 3212
	eval {...} called at /usr/perl5.26.1p/lib/site_perl/5.26.1/Catalyst.pm line 3213
	Catalyst::setup_component("ComponentUI", "ComponentUI::Model::TestModel") called at /usr/perl5.26.1p/lib/site_perl/5.26.1/Catalyst.pm line 3190
	Catalyst::__ANON__() called at /usr/perl5.26.1p/lib/site_perl/5.26.1/Catalyst.pm line 3037
	Catalyst::setup_components("ComponentUI") called at /usr/perl5.26.1p/lib/site_perl/5.26.1/Catalyst.pm line 1422
	Catalyst::setup("ComponentUI") called at /home/cpansand/.cpan/build/2019012820/Reaction-0.002005-0/blib/lib/ComponentUI.pm line 32
	require ComponentUI.pm called at /usr/perl5.26.1p/lib/site_perl/5.26.1/Module/Runtime.pm line 314
	Module::Runtime::require_module("ComponentUI") called at /usr/perl5.26.1p/lib/site_perl/5.26.1/Class/Load.pm line 174
	Class::Load::try {...} () called at /usr/perl5.26.1p/lib/site_perl/5.26.1/Try/Tiny.pm line 98
	eval {...} called at /usr/perl5.26.1p/lib/site_perl/5.26.1/Try/Tiny.pm line 93
	Try::Tiny::try(CODE(0x41a85438), Try::Tiny::Catch=REF(0x47d0dc30)) called at /usr/perl5.26.1p/lib/site_perl/5.26.1/Class/Load.pm line 180
	Class::Load::try_load_class("ComponentUI", undef) called at /usr/perl5.26.1p/lib/site_perl/5.26.1/Class/Load.pm line 35
	Class::Load::load_class("ComponentUI") called at /usr/perl5.26.1p/lib/site_perl/5.26.1/Test/WWW/Mechanize/Catalyst.pm line 245
	Test::WWW::Mechanize::Catalyst::import("Test::WWW::Mechanize::Catalyst", "ComponentUI") called at t/uncheck_bool_field.t line 6
	main::BEGIN() called at /home/cpansand/.cpan/build/2019012820/Reaction-0.002005-0/blib/lib/ComponentUI/TestModel.pm line 0
	eval {...} called at /home/cpansand/.cpan/build/2019012820/Reaction-0.002005-0/blib/lib/ComponentUI/TestModel.pm line 0
Class::MOP::load_class is deprecated at /usr/perl5.26.1p/lib/site_perl/5.26.1/amd64-freebsd/Class/MOP.pm line 69.
	Class::MOP::load_class("Reaction::InterfaceModel::Object") called at /home/cpansand/.cpan/build/2019012820/Reaction-0.002005-0/blib/lib/Reaction/Class.pm line 123
	Reaction::Class::do_class_sub("Reaction::Class", "ComponentUI::TestModel::Foo", "ComponentUI::TestModel::Foo", "is", "Reaction::InterfaceModel::Object", "which", CODE(0x516709a8)) called at /home/cpansand/.cpan/build/2019012820/Reaction-0.002005-0/blib/lib/Reaction/Class.pm line 86
	Reaction::Class::("ComponentUI::TestModel::Foo", "is", "Reaction::InterfaceModel::Object", "which", CODE(0x516709a8)) called at /home/cpansand/.cpan/build/2019012820/Reaction-0.002005-0/blib/lib/ComponentUI/TestModel/Foo.pm line 8
	require ComponentUI/TestModel/Foo.pm called at /usr/perl5.26.1p/lib/site_perl/5.26.1/Module/Runtime.pm line 314
	Module::Runtime::require_module("ComponentUI::TestModel::Foo") called at /usr/perl5.26.1p/lib/site_perl/5.26.1/Class/Load.pm line 174
	Class::Load::try {...} () called at /usr/perl5.26.1p/lib/site_perl/5.26.1/Try/Tiny.pm line 98
	eval {...} called at /usr/perl5.26.1p/lib/site_perl/5.26.1/Try/Tiny.pm line 93
	Try::Tiny::try(CODE(0x51628468), Try::Tiny::Catch=REF(0x5162c768)) called at /usr/perl5.26.1p/lib/site_perl/5.26.1/Class/Load.pm line 180
	Class::Load::try_load_class("ComponentUI::TestModel::Foo", undef) called at /usr/perl5.26.1p/lib/site_perl/5.26.1/Class/Load.pm line 35
	Class::Load::load_class("ComponentUI::TestModel::Foo") called at /home/cpansand/.cpan/build/2019012820/Reaction-0.002005-0/blib/lib/Reaction/InterfaceModel/Reflector/DBIC.pm line 892
	eval {...} called at /home/cpansand/.cpan/build/2019012820/Reaction-0.002005-0/blib/lib/Reaction/InterfaceModel/Reflector/DBIC.pm line 892
	Reaction::InterfaceModel::Reflector::DBIC::_maybe_load_class(Reaction::InterfaceModel::Reflector::DBIC=HASH(0x51427600), "ComponentUI::TestModel::Foo") called at /home/cpansand/.cpan/build/2019012820/Reaction-0.002005-0/blib/lib/Reaction/InterfaceModel/Reflector/DBIC.pm line 876
	Reaction::InterfaceModel::Reflector::DBIC::_load_or_create(Reaction::InterfaceModel::Reflector::DBIC=HASH(0x51427600), "ComponentUI::TestModel::Foo", "superclasses", ARRAY(0x51522468)) called at /home/cpansand/.cpan/build/2019012820/Reaction-0.002005-0/blib/lib/Reaction/InterfaceModel/Reflector/DBIC.pm line 448
	Reaction::InterfaceModel::Reflector::DBIC::reflect_source_object(Reaction::InterfaceModel::Reflector::DBIC=HASH(0x51427600), "parent_domain_model_name", "_rtest_test_db_store", "source_class", "RTest::TestDB::Foo", "schema_class", "RTest::TestDB", "source_name", ...) called at /home/cpansand/.cpan/build/2019012820/Reaction-0.002005-0/blib/lib/Reaction/InterfaceModel/Reflector/DBIC.pm line 323
	Reaction::InterfaceModel::Reflector::DBIC::reflect_source(Reaction::InterfaceModel::Reflector::DBIC=HASH(0x51427600), "source_name", "Foo", "parent_class", "ComponentUI::TestModel", "schema_class", "RTest::TestDB", "source_class", ...) called at /home/cpansand/.cpan/build/2019012820/Reaction-0.002005-0/blib/lib/Reaction/InterfaceModel/Reflector/DBIC.pm line 185
	Reaction::InterfaceModel::Reflector::DBIC::reflect_schema(Reaction::InterfaceModel::Reflector::DBIC=HASH(0x51427600), "model_class", "ComponentUI::TestModel", "schema_class", "RTest::TestDB", "sources", ARRAY(0x513dcfd8)) called at /home/cpansand/.cpan/build/2019012820/Reaction-0.002005-0/blib/lib/ComponentUI/TestModel.pm line 10
	require ComponentUI/TestModel.pm called at /usr/perl5.26.1p/lib/site_perl/5.26.1/Module/Runtime.pm line 314
	Module::Runtime::require_module("ComponentUI::TestModel") called at /usr/perl5.26.1p/lib/site_perl/5.26.1/Class/Load.pm line 174
	Class::Load::try {...} () called at /usr/perl5.26.1p/lib/site_perl/5.26.1/Try/Tiny.pm line 98
	eval {...} called at /usr/perl5.26.1p/lib/site_perl/5.26.1/Try/Tiny.pm line 93
	Try::Tiny::try(CODE(0x49f568d0), Try::Tiny::Catch=REF(0x50e82d20)) called at /usr/perl5.26.1p/lib/site_perl/5.26.1/Class/Load.pm line 180
	Class::Load::try_load_class("ComponentUI::TestModel", undef) called at /usr/perl5.26.1p/lib/site_perl/5.26.1/Class/Load.pm line 35
	Class::Load::load_class("ComponentUI::TestModel") called at /home/cpansand/.cpan/build/2019012820/Reaction-0.002005-0/blib/lib/Catalyst/Model/Reaction/InterfaceModel/DBIC.pm line 24
	Catalyst::Model::Reaction::InterfaceModel::DBIC::COMPONENT("ComponentUI::Model::TestModel", "ComponentUI", HASH(0x4fa398e8)) called at /usr/perl5.26.1p/lib/site_perl/5.26.1/Catalyst.pm line 3212
	eval {...} called at /usr/perl5.26.1p/lib/site_perl/5.26.1/Catalyst.pm line 3213
	Catalyst::setup_component("ComponentUI", "ComponentUI::Model::TestModel") called at /usr/perl5.26.1p/lib/site_perl/5.26.1/Catalyst.pm line 3190
	Catalyst::__ANON__() called at /usr/perl5.26.1p/lib/site_perl/5.26.1/Catalyst.pm line 3037
	Catalyst::setup_components("ComponentUI") called at /usr/perl5.26.1p/lib/site_perl/5.26.1/Catalyst.pm line 1422
	Catalyst::setup("ComponentUI") called at /home/cpansand/.cpan/build/2019012820/Reaction-0.002005-0/blib/lib/ComponentUI.pm line 32
	require ComponentUI.pm called at /usr/perl5.26.1p/lib/site_perl/5.26.1/Module/Runtime.pm line 314
	Module::Runtime::require_module("ComponentUI") called at /usr/perl5.26.1p/lib/site_perl/5.26.1/Class/Load.pm line 174
	Class::Load::try {...} () called at /usr/perl5.26.1p/lib/site_perl/5.26.1/Try/Tiny.pm line 98
	eval {...} called at /usr/perl5.26.1p/lib/site_perl/5.26.1/Try/Tiny.pm line 93
	Try::Tiny::try(CODE(0x41a85438), Try::Tiny::Catch=REF(0x47d0dc30)) called at /usr/perl5.26.1p/lib/site_perl/5.26.1/Class/Load.pm line 180
	Class::Load::try_load_class("ComponentUI", undef) called at /usr/perl5.26.1p/lib/site_perl/5.26.1/Class/Load.pm line 35
	Class::Load::load_class("ComponentUI") called at /usr/perl5.26.1p/lib/site_perl/5.26.1/Test/WWW/Mechanize/Catalyst.pm line 245
	Test::WWW::Mechanize::Catalyst::import("Test::WWW::Mechanize::Catalyst", "ComponentUI") called at t/uncheck_bool_field.t line 6
	main::BEGIN() called at /home/cpansand/.cpan/build/2019012820/Reaction-0.002005-0/blib/lib/ComponentUI/TestModel/Foo.pm line 0
	eval {...} called at /home/cpansand/.cpan/build/2019012820/Reaction-0.002005-0/blib/lib/ComponentUI/TestModel/Foo.pm line 0
Class::MOP::load_class is deprecated at /usr/perl5.26.1p/lib/site_perl/5.26.1/amd64-freebsd/Class/MOP.pm line 69.
	Class::MOP::load_class("ComponentUI::RenderingContext::Site") called at /home/cpansand/.cpan/build/2019012820/Reaction-0.002005-0/blib/lib/Reaction/UI/View.pm line 125
	eval {...} called at /home/cpansand/.cpan/build/2019012820/Reaction-0.002005-0/blib/lib/Reaction/UI/View.pm line 125
	Reaction::UI::View::find_related_class(ComponentUI::View::Site=HASH(0x4c24c7c8), "RenderingContext") called at /home/cpansand/.cpan/build/2019012820/Reaction-0.002005-0/blib/lib/Reaction/UI/View.pm line 43
	Reaction::UI::View::_build_rendering_context_class(ComponentUI::View::Site=HASH(0x4c24c7c8)) called at reader Reaction::UI::View::rendering_context_class (defined at /home/cpansand/.cpan/build/2019012820/Reaction-0.002005-0/blib/lib/Reaction/UI/View.pm line 29) line 8
	Reaction::UI::View::rendering_context_class(ComponentUI::View::Site=HASH(0x4c24c7c8)) called at /home/cpansand/.cpan/build/2019012820/Reaction-0.002005-0/blib/lib/Reaction/UI/View.pm line 134
	Reaction::UI::View::create_rendering_context(ComponentUI::View::Site=HASH(0x4c24c7c8)) called at /home/cpansand/.cpan/build/2019012820/Reaction-0.002005-0/blib/lib/Reaction/UI/View.pm line 60
	Reaction::UI::View::render_window(ComponentUI::View::Site=HASH(0x4c24c7c8), Reaction::UI::Window=HASH(0x52188690)) called at /home/cpansand/.cpan/build/2019012820/Reaction-0.002005-0/blib/lib/Reaction/UI/Window.pm line 74
	Reaction::UI::Window::flush_view(Reaction::UI::Window=HASH(0x52188690)) called at /home/cpansand/.cpan/build/2019012820/Reaction-0.002005-0/blib/lib/Reaction/UI/Window.pm line 36
	Reaction::UI::Window::flush(Reaction::UI::Window=HASH(0x52188690)) called at /home/cpansand/.cpan/build/2019012820/Reaction-0.002005-0/blib/lib/Reaction/UI/Controller/Root.pm line 38
	Reaction::UI::Controller::Root::end(ComponentUI::Controller::Root=HASH(0x521887e0), ComponentUI=HASH(0x52180420)) called at /usr/perl5.26.1p/lib/site_perl/5.26.1/Catalyst/Action.pm line 358
	Catalyst::Action::execute(Catalyst::Action=HASH(0x51a4ae10), ComponentUI::Controller::Root=HASH(0x521887e0), ComponentUI=HASH(0x52180420)) called at /usr/perl5.26.1p/lib/site_perl/5.26.1/Catalyst.pm line 2049
	eval {...} called at /usr/perl5.26.1p/lib/site_perl/5.26.1/Catalyst.pm line 2049
	Catalyst::execute(ComponentUI=HASH(0x52180420), "ComponentUI::Controller::Root", Catalyst::Action=HASH(0x51a4ae10)) called at /usr/perl5.26.1p/lib/site_perl/5.26.1/Catalyst/Action.pm line 353
	Catalyst::Action::dispatch(Catalyst::Action=HASH(0x51a4ae10), ComponentUI=HASH(0x52180420)) called at /usr/perl5.26.1p/lib/site_perl/5.26.1/Catalyst/Controller.pm line 188
	Catalyst::Controller::_END(ComponentUI::Controller::TestModel::Baz=HASH(0x52182840), ComponentUI=HASH(0x52180420)) called at /usr/perl5.26.1p/lib/site_perl/5.26.1/Catalyst/Action.pm line 358
	Catalyst::Action::execute(Catalyst::Action=HASH(0x51b752d0), ComponentUI::Controller::TestModel::Baz=HASH(0x52182840), ComponentUI=HASH(0x52180420)) called at /usr/perl5.26.1p/lib/site_perl/5.26.1/Catalyst.pm line 2049
	eval {...} called at /usr/perl5.26.1p/lib/site_perl/5.26.1/Catalyst.pm line 2049
	Catalyst::execute(ComponentUI=HASH(0x52180420), "ComponentUI::Controller::TestModel::Baz", Catalyst::Action=HASH(0x51b752d0)) called at /usr/perl5.26.1p/lib/site_perl/5.26.1/Catalyst/Action.pm line 353
	Catalyst::Action::dispatch(Catalyst::Action=HASH(0x51b752d0), ComponentUI=HASH(0x52180420)) called at /usr/perl5.26.1p/lib/site_perl/5.26.1/Catalyst/Dispatcher.pm line 261
	Catalyst::Dispatcher::_do_forward(Catalyst::Dispatcher=HASH(0x49b1e630), "forward", ComponentUI=HASH(0x52180420), "_END") called at /usr/perl5.26.1p/lib/site_perl/5.26.1/Catalyst/Dispatcher.pm line 241
	Catalyst::Dispatcher::forward(Catalyst::Dispatcher=HASH(0x49b1e630), ComponentUI=HASH(0x52180420), "_END") called at /usr/perl5.26.1p/lib/site_perl/5.26.1/Catalyst.pm line 477
	Catalyst::forward(ComponentUI=HASH(0x52180420), "_END") called at /usr/perl5.26.1p/lib/site_perl/5.26.1/Catalyst/Controller.pm line 137
	Catalyst::Controller::_DISPATCH(ComponentUI::Controller::TestModel::Baz=HASH(0x52182840), ComponentUI=HASH(0x52180420)) called at /usr/perl5.26.1p/lib/site_perl/5.26.1/Catalyst/Action.pm line 358
	Catalyst::Action::execute(Catalyst::Action=HASH(0x51b4d108), ComponentUI::Controller::TestModel::Baz=HASH(0x52182840), ComponentUI=HASH(0x52180420)) called at /usr/perl5.26.1p/lib/site_perl/5.26.1/Catalyst.pm line 2049
	eval {...} called at /usr/perl5.26.1p/lib/site_perl/5.26.1/Catalyst.pm line 2049
	Catalyst::execute(ComponentUI=HASH(0x52180420), "ComponentUI::Controller::TestModel::Baz", Catalyst::Action=HASH(0x51b4d108)) called at /usr/perl5.26.1p/lib/site_perl/5.26.1/Catalyst/Action.pm line 353
	Catalyst::Action::dispatch(Catalyst::Action=HASH(0x51b4d108), ComponentUI=HASH(0x52180420)) called at /usr/perl5.26.1p/lib/site_perl/5.26.1/Catalyst/Dispatcher.pm line 261
	Catalyst::Dispatcher::_do_forward(Catalyst::Dispatcher=HASH(0x49b1e630), "forward", ComponentUI=HASH(0x52180420), "/testmodel/baz/_DISPATCH") called at /usr/perl5.26.1p/lib/site_perl/5.26.1/Catalyst/Dispatcher.pm line 241
	Catalyst::Dispatcher::forward(Catalyst::Dispatcher=HASH(0x49b1e630), ComponentUI=HASH(0x52180420), "/testmodel/baz/_DISPATCH") called at /usr/perl5.26.1p/lib/site_perl/5.26.1/Catalyst.pm line 477
	Catalyst::forward(ComponentUI=HASH(0x52180420), "/testmodel/baz/_DISPATCH") called at /usr/perl5.26.1p/lib/site_perl/5.26.1/Catalyst/Dispatcher.pm line 107
	Catalyst::Dispatcher::dispatch(Catalyst::Dispatcher=HASH(0x49b1e630), ComponentUI=HASH(0x52180420)) called at /usr/perl5.26.1p/lib/site_perl/5.26.1/Catalyst.pm line 1995
	Catalyst::dispatch(ComponentUI=HASH(0x52180420)) called at /usr/perl5.26.1p/lib/site_perl/5.26.1/Catalyst/Plugin/Static/Simple.pm line 86
	Class::MOP::Class:::around(CODE(0x491d2798), ComponentUI=HASH(0x52180420)) called at /usr/perl5.26.1p/lib/site_perl/5.26.1/amd64-freebsd/Class/MOP/Method/Wrapped.pm line 164
	ComponentUI::_wrapped_dispatch(ComponentUI=HASH(0x52180420)) called at /usr/perl5.26.1p/lib/site_perl/5.26.1/amd64-freebsd/Class/MOP/Method/Wrapped.pm line 95
	ComponentUI::dispatch(ComponentUI=HASH(0x52180420)) called at /usr/perl5.26.1p/lib/site_perl/5.26.1/Catalyst.pm line 2390
	Catalyst::try {...} () called at /usr/perl5.26.1p/lib/site_perl/5.26.1/Try/Tiny.pm line 102
	eval {...} called at /usr/perl5.26.1p/lib/site_perl/5.26.1/Try/Tiny.pm line 93
	Try::Tiny::try(CODE(0x52171d68), Try::Tiny::Catch=REF(0x52171b70)) called at /usr/perl5.26.1p/lib/site_perl/5.26.1/Catalyst.pm line 2399
	Catalyst::handle_request("ComponentUI", "env", HASH(0x5216ba20), "response_cb", CODE(0x52171bd0)) called at /usr/perl5.26.1p/lib/site_perl/5.26.1/Catalyst/Engine.pm line 806
	Catalyst::Engine::__ANON__(CODE(0x52171bd0)) called at /usr/perl5.26.1p/lib/site_perl/5.26.1/Plack/Middleware/HTTPExceptions.pm line 32
	Plack::Middleware::HTTPExceptions::try {...} () called at /usr/perl5.26.1p/lib/site_perl/5.26.1/Try/Tiny.pm line 102
	eval {...} called at /usr/perl5.26.1p/lib/site_perl/5.26.1/Try/Tiny.pm line 93
	Try::Tiny::try(CODE(0x52171a08), Try::Tiny::Catch=REF(0x521712a0)) called at /usr/perl5.26.1p/lib/site_perl/5.26.1/Plack/Middleware/HTTPExceptions.pm line 41
	Plack::Middleware::HTTPExceptions::__ANON__(CODE(0x5216be40)) called at /usr/perl5.26.1p/lib/site_perl/5.26.1/Plack/Util.pm line 339
	Plack::Util::__ANON__(CODE(0x5216b978)) called at /usr/perl5.26.1p/lib/site_perl/5.26.1/Plack/Util.pm line 339
	Plack::Util::__ANON__(CODE(0x521496d8)) called at /usr/perl5.26.1p/lib/site_perl/5.26.1/Plack/Util.pm line 339
	Plack::Util::__ANON__(CODE(0x521497c8)) called at /usr/perl5.26.1p/lib/site_perl/5.26.1/HTTP/Message/PSGI.pm line 100
	HTTP::Message::PSGI::res_from_psgi(CODE(0x521717b0)) called at /usr/perl5.26.1p/lib/site_perl/5.26.1/HTTP/Message/PSGI.pm line 156
	HTTP::Response::from_psgi("HTTP::Response", CODE(0x521717b0)) called at /usr/perl5.26.1p/lib/site_perl/5.26.1/Plack/Test/MockHTTP.pm line 24
	Plack::Test::MockHTTP::try {...} () called at /usr/perl5.26.1p/lib/site_perl/5.26.1/Try/Tiny.pm line 100
	eval {...} called at /usr/perl5.26.1p/lib/site_perl/5.26.1/Try/Tiny.pm line 93
	Try::Tiny::try(CODE(0x52109db0), Try::Tiny::Catch=REF(0x51ab07b0)) called at /usr/perl5.26.1p/lib/site_perl/5.26.1/Plack/Test/MockHTTP.pm line 27
	Plack::Test::MockHTTP::request(Plack::Test::MockHTTP=HASH(0x52149450), HTTP::Request=HASH(0x520d1618)) called at /usr/perl5.26.1p/lib/site_perl/5.26.1/Plack/Test.pm line 38
	Plack::Test::__ANON__(HTTP::Request=HASH(0x520d1618)) called at /usr/perl5.26.1p/lib/site_perl/5.26.1/Catalyst/Test.pm line 290
	Catalyst::Test::__ANON__(CODE(0x52149300)) called at /usr/perl5.26.1p/lib/site_perl/5.26.1/Plack/Test.pm line 38
	Plack::Test::test_psgi("app", CODE(0x5210bee8), "mangle_response", CODE(0x47ce1c48), "app", CODE(0x52149150), "client", CODE(0x521491c8)) called at /usr/perl5.26.1p/lib/site_perl/5.26.1/Catalyst/Test.pm line 293
	Catalyst::Test::_request(HASH(0x5210b270), HTTP::Request=HASH(0x520d1618)) called at /usr/perl5.26.1p/lib/site_perl/5.26.1/Catalyst/Test.pm line 336
	Catalyst::Test::_local_request("ComponentUI", HTTP::Request=HASH(0x520d1618)) called at /usr/perl5.26.1p/lib/site_perl/5.26.1/Test/WWW/Mechanize/Catalyst.pm line 176
	Test::WWW::Mechanize::Catalyst::_do_catalyst_request(Test::WWW::Mechanize::Catalyst=HASH(0x51bb3b40), HTTP::Request=HASH(0x520d1618)) called at /usr/perl5.26.1p/lib/site_perl/5.26.1/Test/WWW/Mechanize/Catalyst.pm line 78
	Test::WWW::Mechanize::Catalyst::_make_request(Test::WWW::Mechanize::Catalyst=HASH(0x51bb3b40), HTTP::Request=HASH(0x520d1618)) called at /home/cpansand/.cpan/build/2019012820/WWW-Mechanize-1.91-5/blib/lib/WWW/Mechanize.pm line 1292
	WWW::Mechanize::request(Test::WWW::Mechanize::Catalyst=HASH(0x51bb3b40), HTTP::Request=HASH(0x520d1618)) called at /usr/perl5.26.1p/lib/site_perl/5.26.1/LWP/UserAgent.pm line 438
	LWP::UserAgent::get(Test::WWW::Mechanize::Catalyst=HASH(0x51bb3b40), "http://localhost/testmodel/baz/id/1/update") called at /home/cpansand/.cpan/build/2019012820/WWW-Mechanize-1.91-5/blib/lib/WWW/Mechanize.pm line 122
	WWW::Mechanize::get(Test::WWW::Mechanize::Catalyst=HASH(0x51bb3b40), "http://localhost/testmodel/baz/id/1/update") called at /usr/perl5.26.1p/lib/site_perl/5.26.1/Test/WWW/Mechanize.pm line 160
	Test::WWW::Mechanize::get_ok(Test::WWW::Mechanize::Catalyst=HASH(0x51bb3b40), "http://localhost/testmodel/baz/id/1/update") called at t/uncheck_bool_field.t line 9
Class::MOP::is_class_loaded is deprecated at /usr/perl5.26.1p/lib/site_perl/5.26.1/amd64-freebsd/Class/MOP.pm line 87.
	Class::MOP::is_class_loaded("ComponentUI::UI::Widget::SiteLayout") called at /home/cpansand/.cpan/build/2019012820/Reaction-0.002005-0/blib/lib/Reaction/UI/Skin.pm line 178
	Reaction::UI::Skin::widget_class_for(Reaction::UI::Skin=HASH(0x528adeb8), Reaction::UI::LayoutSet::TT=HASH(0x52f53288)) called at /home/cpansand/.cpan/build/2019012820/Reaction-0.002005-0/blib/lib/Reaction/UI/LayoutSet.pm line 29
	Reaction::UI::LayoutSet::BUILD(Reaction::UI::LayoutSet::TT=HASH(0x52f53288), HASH(0x52f53270)) called at constructor Reaction::UI::LayoutSet::TT::new (defined at /home/cpansand/.cpan/build/2019012820/Reaction-0.002005-0/blib/lib/Reaction/UI/LayoutSet/TT.pm line 43) line 80
	Reaction::UI::LayoutSet::TT::new("Reaction::UI::LayoutSet::TT", "name", "site_layout", "skin", Reaction::UI::Skin=HASH(0x528adeb8), "tt_object", Template=HASH(0x4fa39d38), "source_file", ...) called at /home/cpansand/.cpan/build/2019012820/Reaction-0.002005-0/blib/lib/Reaction/UI/Skin.pm line 115
	Reaction::UI::Skin::_create_layout_set(Reaction::UI::Skin=HASH(0x528adeb8), "site_layout", ARRAY(0x52f51540), Reaction::UI::Skin=HASH(0x528adeb8)) called at /home/cpansand/.cpan/build/2019012820/Reaction-0.002005-0/blib/lib/Reaction/UI/Skin.pm line 110
	Reaction::UI::Skin::create_layout_set(Reaction::UI::Skin=HASH(0x528adeb8), "site_layout") called at /home/cpansand/.cpan/build/2019012820/Reaction-0.002005-0/blib/lib/Reaction/UI/LayoutSet.pm line 83
	Reaction::UI::LayoutSet::_load_file(Reaction::UI::LayoutSet::TT=HASH(0x52f44d38), Path::Class::File=HASH(0x52e4c828), HASH(0x52f44d68)) called at /home/cpansand/.cpan/build/2019012820/Reaction-0.002005-0/blib/lib/Reaction/UI/LayoutSet.pm line 27
	Reaction::UI::LayoutSet::BUILD(Reaction::UI::LayoutSet::TT=HASH(0x52f44d38), HASH(0x52f44d68)) called at constructor Reaction::UI::LayoutSet::TT::new (defined at /home/cpansand/.cpan/build/2019012820/Reaction-0.002005-0/blib/lib/Reaction/UI/LayoutSet/TT.pm line 43) line 80
	Reaction::UI::LayoutSet::TT::new("Reaction::UI::LayoutSet::TT", "name", "site_layout", "skin", Reaction::UI::Skin=HASH(0x52f357f8), "next_skin", Reaction::UI::Skin=HASH(0x528adeb8), "tt_object", ...) called at /home/cpansand/.cpan/build/2019012820/Reaction-0.002005-0/blib/lib/Reaction/UI/Skin.pm line 115
	Reaction::UI::Skin::_create_layout_set(Reaction::UI::Skin=HASH(0x52f357f8), "site_layout", ARRAY(0x52f42030), Reaction::UI::Skin=HASH(0x52f357f8)) called at /home/cpansand/.cpan/build/2019012820/Reaction-0.002005-0/blib/lib/Reaction/UI/Skin.pm line 110
	Reaction::UI::Skin::create_layout_set(Reaction::UI::Skin=HASH(0x52f357f8), "site_layout") called at /home/cpansand/.cpan/build/2019012820/Reaction-0.002005-0/blib/lib/Reaction/UI/LayoutSet.pm line 83
	Reaction::UI::LayoutSet::_load_file(Reaction::UI::LayoutSet::TT=HASH(0x52ee9900), Path::Class::File=HASH(0x52f31cd8), HASH(0x52e4c420)) called at /home/cpansand/.cpan/build/2019012820/Reaction-0.002005-0/blib/lib/Reaction/UI/LayoutSet.pm line 27
	Reaction::UI::LayoutSet::BUILD(Reaction::UI::LayoutSet::TT=HASH(0x52ee9900), HASH(0x52e4c420)) called at constructor Reaction::UI::LayoutSet::TT::new (defined at /home/cpansand/.cpan/build/2019012820/Reaction-0.002005-0/blib/lib/Reaction/UI/LayoutSet/TT.pm line 43) line 80
	Reaction::UI::LayoutSet::TT::new("Reaction::UI::LayoutSet::TT", "name", "site_layout", "skin", Reaction::UI::Skin=HASH(0x52f35018), "next_skin", Reaction::UI::Skin=HASH(0x52f357f8), "tt_object", ...) called at /home/cpansand/.cpan/build/2019012820/Reaction-0.002005-0/blib/lib/Reaction/UI/Skin.pm line 115
	Reaction::UI::Skin::_create_layout_set(Reaction::UI::Skin=HASH(0x52f35018), "site_layout", ARRAY(0x52f35750), Reaction::UI::Skin=HASH(0x52f35018)) called at /home/cpansand/.cpan/build/2019012820/Reaction-0.002005-0/blib/lib/Reaction/UI/Skin.pm line 110
	Reaction::UI::Skin::create_layout_set(Reaction::UI::Skin=HASH(0x52f35018), "site_layout") called at inline delegation in Reaction::UI::View for skin->create_layout_set (attribute declared in /home/cpansand/.cpan/build/2019012820/Reaction-0.002005-0/blib/lib/Reaction/UI/View.pm at line 22) line 18
	Reaction::UI::View::create_layout_set(ComponentUI::View::Site=HASH(0x4c24c7c8), "site_layout") called at /home/cpansand/.cpan/build/2019012820/Reaction-0.002005-0/blib/lib/Reaction/UI/View.pm line 99
	Reaction::UI::View::layout_set_for(ComponentUI::View::Site=HASH(0x4c24c7c8), Reaction::UI::ViewPort::SiteLayout=HASH(0x52188ea0)) called at /home/cpansand/.cpan/build/2019012820/Reaction-0.002005-0/blib/lib/Reaction/UI/View.pm line 78
	Reaction::UI::View::render_viewport_args(ComponentUI::View::Site=HASH(0x4c24c7c8), Reaction::UI::ViewPort::SiteLayout=HASH(0x52188ea0)) called at /home/cpansand/.cpan/build/2019012820/Reaction-0.002005-0/blib/lib/Reaction/UI/View.pm line 61
	Reaction::UI::View::render_window(ComponentUI::View::Site=HASH(0x4c24c7c8), Reaction::UI::Window=HASH(0x52188690)) called at /home/cpansand/.cpan/build/2019012820/Reaction-0.002005-0/blib/lib/Reaction/UI/Window.pm line 74
	Reaction::UI::Window::flush_view(Reaction::UI::Window=HASH(0x52188690)) called at /home/cpansand/.cpan/build/2019012820/Reaction-0.002005-0/blib/lib/Reaction/UI/Window.pm line 36
	Reaction::UI::Window::flush(Reaction::UI::Window=HASH(0x52188690)) called at /home/cpansand/.cpan/build/2019012820/Reaction-0.002005-0/blib/lib/Reaction/UI/Controller/Root.pm line 38
	Reaction::UI::Controller::Root::end(ComponentUI::Controller::Root=HASH(0x521887e0), ComponentUI=HASH(0x52180420)) called at /usr/perl5.26.1p/lib/site_perl/5.26.1/Catalyst/Action.pm line 358
	Catalyst::Action::execute(Catalyst::Action=HASH(0x51a4ae10), ComponentUI::Controller::Root=HASH(0x521887e0), ComponentUI=HASH(0x52180420)) called at /usr/perl5.26.1p/lib/site_perl/5.26.1/Catalyst.pm line 2049
	eval {...} called at /usr/perl5.26.1p/lib/site_perl/5.26.1/Catalyst.pm line 2049
	Catalyst::execute(ComponentUI=HASH(0x52180420), "ComponentUI::Controller::Root", Catalyst::Action=HASH(0x51a4ae10)) called at /usr/perl5.26.1p/lib/site_perl/5.26.1/Catalyst/Action.pm line 353
	Catalyst::Action::dispatch(Catalyst::Action=HASH(0x51a4ae10), ComponentUI=HASH(0x52180420)) called at /usr/perl5.26.1p/lib/site_perl/5.26.1/Catalyst/Controller.pm line 188
	Catalyst::Controller::_END(ComponentUI::Controller::TestModel::Baz=HASH(0x52182840), ComponentUI=HASH(0x52180420)) called at /usr/perl5.26.1p/lib/site_perl/5.26.1/Catalyst/Action.pm line 358
	Catalyst::Action::execute(Catalyst::Action=HASH(0x51b752d0), ComponentUI::Controller::TestModel::Baz=HASH(0x52182840), ComponentUI=HASH(0x52180420)) called at /usr/perl5.26.1p/lib/site_perl/5.26.1/Catalyst.pm line 2049
	eval {...} called at /usr/perl5.26.1p/lib/site_perl/5.26.1/Catalyst.pm line 2049
	Catalyst::execute(ComponentUI=HASH(0x52180420), "ComponentUI::Controller::TestModel::Baz", Catalyst::Action=HASH(0x51b752d0)) called at /usr/perl5.26.1p/lib/site_perl/5.26.1/Catalyst/Action.pm line 353
	Catalyst::Action::dispatch(Catalyst::Action=HASH(0x51b752d0), ComponentUI=HASH(0x52180420)) called at /usr/perl5.26.1p/lib/site_perl/5.26.1/Catalyst/Dispatcher.pm line 261
	Catalyst::Dispatcher::_do_forward(Catalyst::Dispatcher=HASH(0x49b1e630), "forward", ComponentUI=HASH(0x52180420), "_END") called at /usr/perl5.26.1p/lib/site_perl/5.26.1/Catalyst/Dispatcher.pm line 241
	Catalyst::Dispatcher::forward(Catalyst::Dispatcher=HASH(0x49b1e630), ComponentUI=HASH(0x52180420), "_END") called at /usr/perl5.26.1p/lib/site_perl/5.26.1/Catalyst.pm line 477
	Catalyst::forward(ComponentUI=HASH(0x52180420), "_END") called at /usr/perl5.26.1p/lib/site_perl/5.26.1/Catalyst/Controller.pm line 137
	Catalyst::Controller::_DISPATCH(ComponentUI::Controller::TestModel::Baz=HASH(0x52182840), ComponentUI=HASH(0x52180420)) called at /usr/perl5.26.1p/lib/site_perl/5.26.1/Catalyst/Action.pm line 358
	Catalyst::Action::execute(Catalyst::Action=HASH(0x51b4d108), ComponentUI::Controller::TestModel::Baz=HASH(0x52182840), ComponentUI=HASH(0x52180420)) called at /usr/perl5.26.1p/lib/site_perl/5.26.1/Catalyst.pm line 2049
	eval {...} called at /usr/perl5.26.1p/lib/site_perl/5.26.1/Catalyst.pm line 2049
	Catalyst::execute(ComponentUI=HASH(0x52180420), "ComponentUI::Controller::TestModel::Baz", Catalyst::Action=HASH(0x51b4d108)) called at /usr/perl5.26.1p/lib/site_perl/5.26.1/Catalyst/Action.pm line 353
	Catalyst::Action::dispatch(Catalyst::Action=HASH(0x51b4d108), ComponentUI=HASH(0x52180420)) called at /usr/perl5.26.1p/lib/site_perl/5.26.1/Catalyst/Dispatcher.pm line 261
	Catalyst::Dispatcher::_do_forward(Catalyst::Dispatcher=HASH(0x49b1e630), "forward", ComponentUI=HASH(0x52180420), "/testmodel/baz/_DISPATCH") called at /usr/perl5.26.1p/lib/site_perl/5.26.1/Catalyst/Dispatcher.pm line 241
	Catalyst::Dispatcher::forward(Catalyst::Dispatcher=HASH(0x49b1e630), ComponentUI=HASH(0x52180420), "/testmodel/baz/_DISPATCH") called at /usr/perl5.26.1p/lib/site_perl/5.26.1/Catalyst.pm line 477
	Catalyst::forward(ComponentUI=HASH(0x52180420), "/testmodel/baz/_DISPATCH") called at /usr/perl5.26.1p/lib/site_perl/5.26.1/Catalyst/Dispatcher.pm line 107
	Catalyst::Dispatcher::dispatch(Catalyst::Dispatcher=HASH(0x49b1e630), ComponentUI=HASH(0x52180420)) called at /usr/perl5.26.1p/lib/site_perl/5.26.1/Catalyst.pm line 1995
	Catalyst::dispatch(ComponentUI=HASH(0x52180420)) called at /usr/perl5.26.1p/lib/site_perl/5.26.1/Catalyst/Plugin/Static/Simple.pm line 86
	Class::MOP::Class:::around(CODE(0x491d2798), ComponentUI=HASH(0x52180420)) called at /usr/perl5.26.1p/lib/site_perl/5.26.1/amd64-freebsd/Class/MOP/Method/Wrapped.pm line 164
	ComponentUI::_wrapped_dispatch(ComponentUI=HASH(0x52180420)) called at /usr/perl5.26.1p/lib/site_perl/5.26.1/amd64-freebsd/Class/MOP/Method/Wrapped.pm line 95
	ComponentUI::dispatch(ComponentUI=HASH(0x52180420)) called at /usr/perl5.26.1p/lib/site_perl/5.26.1/Catalyst.pm line 2390
	Catalyst::try {...} () called at /usr/perl5.26.1p/lib/site_perl/5.26.1/Try/Tiny.pm line 102
	eval {...} called at /usr/perl5.26.1p/lib/site_perl/5.26.1/Try/Tiny.pm line 93
	Try::Tiny::try(CODE(0x52171d68), Try::Tiny::Catch=REF(0x52171b70)) called at /usr/perl5.26.1p/lib/site_perl/5.26.1/Catalyst.pm line 2399
	Catalyst::handle_request("ComponentUI", "env", HASH(0x5216ba20), "response_cb", CODE(0x52171bd0)) called at /usr/perl5.26.1p/lib/site_perl/5.26.1/Catalyst/Engine.pm line 806
	Catalyst::Engine::__ANON__(CODE(0x52171bd0)) called at /usr/perl5.26.1p/lib/site_perl/5.26.1/Plack/Middleware/HTTPExceptions.pm line 32
	Plack::Middleware::HTTPExceptions::try {...} () called at /usr/perl5.26.1p/lib/site_perl/5.26.1/Try/Tiny.pm line 102
	eval {...} called at /usr/perl5.26.1p/lib/site_perl/5.26.1/Try/Tiny.pm line 93
	Try::Tiny::try(CODE(0x52171a08), Try::Tiny::Catch=REF(0x521712a0)) called at /usr/perl5.26.1p/lib/site_perl/5.26.1/Plack/Middleware/HTTPExceptions.pm line 41
	Plack::Middleware::HTTPExceptions::__ANON__(CODE(0x5216be40)) called at /usr/perl5.26.1p/lib/site_perl/5.26.1/Plack/Util.pm line 339
	Plack::Util::__ANON__(CODE(0x5216b978)) called at /usr/perl5.26.1p/lib/site_perl/5.26.1/Plack/Util.pm line 339
	Plack::Util::__ANON__(CODE(0x521496d8)) called at /usr/perl5.26.1p/lib/site_perl/5.26.1/Plack/Util.pm line 339
	Plack::Util::__ANON__(CODE(0x521497c8)) called at /usr/perl5.26.1p/lib/site_perl/5.26.1/HTTP/Message/PSGI.pm line 100
	HTTP::Message::PSGI::res_from_psgi(CODE(0x521717b0)) called at /usr/perl5.26.1p/lib/site_perl/5.26.1/HTTP/Message/PSGI.pm line 156
	HTTP::Response::from_psgi("HTTP::Response", CODE(0x521717b0)) called at /usr/perl5.26.1p/lib/site_perl/5.26.1/Plack/Test/MockHTTP.pm line 24
	Plack::Test::MockHTTP::try {...} () called at /usr/perl5.26.1p/lib/site_perl/5.26.1/Try/Tiny.pm line 100
	eval {...} called at /usr/perl5.26.1p/lib/site_perl/5.26.1/Try/Tiny.pm line 93
	Try::Tiny::try(CODE(0x52109db0), Try::Tiny::Catch=REF(0x51ab07b0)) called at /usr/perl5.26.1p/lib/site_perl/5.26.1/Plack/Test/MockHTTP.pm line 27
	Plack::Test::MockHTTP::request(Plack::Test::MockHTTP=HASH(0x52149450), HTTP::Request=HASH(0x520d1618)) called at /usr/perl5.26.1p/lib/site_perl/5.26.1/Plack/Test.pm line 38
	Plack::Test::__ANON__(HTTP::Request=HASH(0x520d1618)) called at /usr/perl5.26.1p/lib/site_perl/5.26.1/Catalyst/Test.pm line 290
	Catalyst::Test::__ANON__(CODE(0x52149300)) called at /usr/perl5.26.1p/lib/site_perl/5.26.1/Plack/Test.pm line 38
	Plack::Test::test_psgi("app", CODE(0x5210bee8), "mangle_response", CODE(0x47ce1c48), "app", CODE(0x52149150), "client", CODE(0x521491c8)) called at /usr/perl5.26.1p/lib/site_perl/5.26.1/Catalyst/Test.pm line 293
	Catalyst::Test::_request(HASH(0x5210b270), HTTP::Request=HASH(0x520d1618)) called at /usr/perl5.26.1p/lib/site_perl/5.26.1/Catalyst/Test.pm line 336
	Catalyst::Test::_local_request("ComponentUI", HTTP::Request=HASH(0x520d1618)) called at /usr/perl5.26.1p/lib/site_perl/5.26.1/Test/WWW/Mechanize/Catalyst.pm line 176
	Test::WWW::Mechanize::Catalyst::_do_catalyst_request(Test::WWW::Mechanize::Catalyst=HASH(0x51bb3b40), HTTP::Request=HASH(0x520d1618)) called at /usr/perl5.26.1p/lib/site_perl/5.26.1/Test/WWW/Mechanize/Catalyst.pm line 78
	Test::WWW::Mechanize::Catalyst::_make_request(Test::WWW::Mechanize::Catalyst=HASH(0x51bb3b40), HTTP::Request=HASH(0x520d1618)) called at /home/cpansand/.cpan/build/2019012820/WWW-Mechanize-1.91-5/blib/lib/WWW/Mechanize.pm line 1292
	WWW::Mechanize::request(Test::WWW::Mechanize::Catalyst=HASH(0x51bb3b40), HTTP::Request=HASH(0x520d1618)) called at /usr/perl5.26.1p/lib/site_perl/5.26.1/LWP/UserAgent.pm line 438
	LWP::UserAgent::get(Test::WWW::Mechanize::Catalyst=HASH(0x51bb3b40), "http://localhost/testmodel/baz/id/1/update") called at /home/cpansand/.cpan/build/2019012820/WWW-Mechanize-1.91-5/blib/lib/WWW/Mechanize.pm line 122
	WWW::Mechanize::get(Test::WWW::Mechanize::Catalyst=HASH(0x51bb3b40), "http://localhost/testmodel/baz/id/1/update") called at /usr/perl5.26.1p/lib/site_perl/5.26.1/Test/WWW/Mechanize.pm line 160
	Test::WWW::Mechanize::get_ok(Test::WWW::Mechanize::Catalyst=HASH(0x51bb3b40), "http://localhost/testmodel/baz/id/1/update") called at t/uncheck_bool_field.t line 9
Class::MOP::load_class is deprecated at /usr/perl5.26.1p/lib/site_perl/5.26.1/amd64-freebsd/Class/MOP.pm line 69.
	Class::MOP::load_class("Reaction::UI::Widget::SiteLayout") called at /home/cpansand/.cpan/build/2019012820/Reaction-0.002005-0/blib/lib/Reaction/UI/Skin.pm line 181
	eval {...} called at /home/cpansand/.cpan/build/2019012820/Reaction-0.002005-0/blib/lib/Reaction/UI/Skin.pm line 181
	Reaction::UI::Skin::widget_class_for(Reaction::UI::Skin=HASH(0x528adeb8), Reaction::UI::LayoutSet::TT=HASH(0x52f53288)) called at /home/cpansand/.cpan/build/2019012820/Reaction-0.002005-0/blib/lib/Reaction/UI/LayoutSet.pm line 29
	Reaction::UI::LayoutSet::BUILD(Reaction::UI::LayoutSet::TT=HASH(0x52f53288), HASH(0x52f53270)) called at constructor Reaction::UI::LayoutSet::TT::new (defined at /home/cpansand/.cpan/build/2019012820/Reaction-0.002005-0/blib/lib/Reaction/UI/LayoutSet/TT.pm line 43) line 80
	Reaction::UI::LayoutSet::TT::new("Reaction::UI::LayoutSet::TT", "name", "site_layout", "skin", Reaction::UI::Skin=HASH(0x528adeb8), "tt_object", Template=HASH(0x4fa39d38), "source_file", ...) called at /home/cpansand/.cpan/build/2019012820/Reaction-0.002005-0/blib/lib/Reaction/UI/Skin.pm line 115
	Reaction::UI::Skin::_create_layout_set(Reaction::UI::Skin=HASH(0x528adeb8), "site_layout", ARRAY(0x52f51540), Reaction::UI::Skin=HASH(0x528adeb8)) called at /home/cpansand/.cpan/build/2019012820/Reaction-0.002005-0/blib/lib/Reaction/UI/Skin.pm line 110
	Reaction::UI::Skin::create_layout_set(Reaction::UI::Skin=HASH(0x528adeb8), "site_layout") called at /home/cpansand/.cpan/build/2019012820/Reaction-0.002005-0/blib/lib/Reaction/UI/LayoutSet.pm line 83
	Reaction::UI::LayoutSet::_load_file(Reaction::UI::LayoutSet::TT=HASH(0x52f44d38), Path::Class::File=HASH(0x52e4c828), HASH(0x52f44d68)) called at /home/cpansand/.cpan/build/2019012820/Reaction-0.002005-0/blib/lib/Reaction/UI/LayoutSet.pm line 27
	Reaction::UI::LayoutSet::BUILD(Reaction::UI::LayoutSet::TT=HASH(0x52f44d38), HASH(0x52f44d68)) called at constructor Reaction::UI::LayoutSet::TT::new (defined at /home/cpansand/.cpan/build/2019012820/Reaction-0.002005-0/blib/lib/Reaction/UI/LayoutSet/TT.pm line 43) line 80
	Reaction::UI::LayoutSet::TT::new("Reaction::UI::LayoutSet::TT", "name", "site_layout", "skin", Reaction::UI::Skin=HASH(0x52f357f8), "next_skin", Reaction::UI::Skin=HASH(0x528adeb8), "tt_object", ...) called at /home/cpansand/.cpan/build/2019012820/Reaction-0.002005-0/blib/lib/Reaction/UI/Skin.pm line 115
	Reaction::UI::Skin::_create_layout_set(Reaction::UI::Skin=HASH(0x52f357f8), "site_layout", ARRAY(0x52f42030), Reaction::UI::Skin=HASH(0x52f357f8)) called at /home/cpansand/.cpan/build/2019012820/Reaction-0.002005-0/blib/lib/Reaction/UI/Skin.pm line 110
	Reaction::UI::Skin::create_layout_set(Reaction::UI::Skin=HASH(0x52f357f8), "site_layout") called at /home/cpansand/.cpan/build/2019012820/Reaction-0.002005-0/blib/lib/Reaction/UI/LayoutSet.pm line 83
	Reaction::UI::LayoutSet::_load_file(Reaction::UI::LayoutSet::TT=HASH(0x52ee9900), Path::Class::File=HASH(0x52f31cd8), HASH(0x52e4c420)) called at /home/cpansand/.cpan/build/2019012820/Reaction-0.002005-0/blib/lib/Reaction/UI/LayoutSet.pm line 27
	Reaction::UI::LayoutSet::BUILD(Reaction::UI::LayoutSet::TT=HASH(0x52ee9900), HASH(0x52e4c420)) called at constructor Reaction::UI::LayoutSet::TT::new (defined at /home/cpansand/.cpan/build/2019012820/Reaction-0.002005-0/blib/lib/Reaction/UI/LayoutSet/TT.pm line 43) line 80
	Reaction::UI::LayoutSet::TT::new("Reaction::UI::LayoutSet::TT", "name", "site_layout", "skin", Reaction::UI::Skin=HASH(0x52f35018), "next_skin", Reaction::UI::Skin=HASH(0x52f357f8), "tt_object", ...) called at /home/cpansand/.cpan/build/2019012820/Reaction-0.002005-0/blib/lib/Reaction/UI/Skin.pm line 115
	Reaction::UI::Skin::_create_layout_set(Reaction::UI::Skin=HASH(0x52f35018), "site_layout", ARRAY(0x52f35750), Reaction::UI::Skin=HASH(0x52f35018)) called at /home/cpansand/.cpan/build/2019012820/Reaction-0.002005-0/blib/lib/Reaction/UI/Skin.pm line 110
	Reaction::UI::Skin::create_layout_set(Reaction::UI::Skin=HASH(0x52f35018), "site_layout") called at inline delegation in Reaction::UI::View for skin->create_layout_set (attribute declared in /home/cpansand/.cpan/build/2019012820/Reaction-0.002005-0/blib/lib/Reaction/UI/View.pm at line 22) line 18
	Reaction::UI::View::create_layout_set(ComponentUI::View::Site=HASH(0x4c24c7c8), "site_layout") called at /home/cpansand/.cpan/build/2019012820/Reaction-0.002005-0/blib/lib/Reaction/UI/View.pm line 99
	Reaction::UI::View::layout_set_for(ComponentUI::View::Site=HASH(0x4c24c7c8), Reaction::UI::ViewPort::SiteLayout=HASH(0x52188ea0)) called at /home/cpansand/.cpan/build/2019012820/Reaction-0.002005-0/blib/lib/Reaction/UI/View.pm line 78
	Reaction::UI::View::render_viewport_args(ComponentUI::View::Site=HASH(0x4c24c7c8), Reaction::UI::ViewPort::SiteLayout=HASH(0x52188ea0)) called at /home/cpansand/.cpan/build/2019012820/Reaction-0.002005-0/blib/lib/Reaction/UI/View.pm line 61
	Reaction::UI::View::render_window(ComponentUI::View::Site=HASH(0x4c24c7c8), Reaction::UI::Window=HASH(0x52188690)) called at /home/cpansand/.cpan/build/2019012820/Reaction-0.002005-0/blib/lib/Reaction/UI/Window.pm line 74
	Reaction::UI::Window::flush_view(Reaction::UI::Window=HASH(0x52188690)) called at /home/cpansand/.cpan/build/2019012820/Reaction-0.002005-0/blib/lib/Reaction/UI/Window.pm line 36
	Reaction::UI::Window::flush(Reaction::UI::Window=HASH(0x52188690)) called at /home/cpansand/.cpan/build/2019012820/Reaction-0.002005-0/blib/lib/Reaction/UI/Controller/Root.pm line 38
	Reaction::UI::Controller::Root::end(ComponentUI::Controller::Root=HASH(0x521887e0), ComponentUI=HASH(0x52180420)) called at /usr/perl5.26.1p/lib/site_perl/5.26.1/Catalyst/Action.pm line 358
	Catalyst::Action::execute(Catalyst::Action=HASH(0x51a4ae10), ComponentUI::Controller::Root=HASH(0x521887e0), ComponentUI=HASH(0x52180420)) called at /usr/perl5.26.1p/lib/site_perl/5.26.1/Catalyst.pm line 2049
	eval {...} called at /usr/perl5.26.1p/lib/site_perl/5.26.1/Catalyst.pm line 2049
	Catalyst::execute(ComponentUI=HASH(0x52180420), "ComponentUI::Controller::Root", Catalyst::Action=HASH(0x51a4ae10)) called at /usr/perl5.26.1p/lib/site_perl/5.26.1/Catalyst/Action.pm line 353
	Catalyst::Action::dispatch(Catalyst::Action=HASH(0x51a4ae10), ComponentUI=HASH(0x52180420)) called at /usr/perl5.26.1p/lib/site_perl/5.26.1/Catalyst/Controller.pm line 188
	Catalyst::Controller::_END(ComponentUI::Controller::TestModel::Baz=HASH(0x52182840), ComponentUI=HASH(0x52180420)) called at /usr/perl5.26.1p/lib/site_perl/5.26.1/Catalyst/Action.pm line 358
	Catalyst::Action::execute(Catalyst::Action=HASH(0x51b752d0), ComponentUI::Controller::TestModel::Baz=HASH(0x52182840), ComponentUI=HASH(0x52180420)) called at /usr/perl5.26.1p/lib/site_perl/5.26.1/Catalyst.pm line 2049
	eval {...} called at /usr/perl5.26.1p/lib/site_perl/5.26.1/Catalyst.pm line 2049
	Catalyst::execute(ComponentUI=HASH(0x52180420), "ComponentUI::Controller::TestModel::Baz", Catalyst::Action=HASH(0x51b752d0)) called at /usr/perl5.26.1p/lib/site_perl/5.26.1/Catalyst/Action.pm line 353
	Catalyst::Action::dispatch(Catalyst::Action=HASH(0x51b752d0), ComponentUI=HASH(0x52180420)) called at /usr/perl5.26.1p/lib/site_perl/5.26.1/Catalyst/Dispatcher.pm line 261
	Catalyst::Dispatcher::_do_forward(Catalyst::Dispatcher=HASH(0x49b1e630), "forward", ComponentUI=HASH(0x52180420), "_END") called at /usr/perl5.26.1p/lib/site_perl/5.26.1/Catalyst/Dispatcher.pm line 241
	Catalyst::Dispatcher::forward(Catalyst::Dispatcher=HASH(0x49b1e630), ComponentUI=HASH(0x52180420), "_END") called at /usr/perl5.26.1p/lib/site_perl/5.26.1/Catalyst.pm line 477
	Catalyst::forward(ComponentUI=HASH(0x52180420), "_END") called at /usr/perl5.26.1p/lib/site_perl/5.26.1/Catalyst/Controller.pm line 137
	Catalyst::Controller::_DISPATCH(ComponentUI::Controller::TestModel::Baz=HASH(0x52182840), ComponentUI=HASH(0x52180420)) called at /usr/perl5.26.1p/lib/site_perl/5.26.1/Catalyst/Action.pm line 358
	Catalyst::Action::execute(Catalyst::Action=HASH(0x51b4d108), ComponentUI::Controller::TestModel::Baz=HASH(0x52182840), ComponentUI=HASH(0x52180420)) called at /usr/perl5.26.1p/lib/site_perl/5.26.1/Catalyst.pm line 2049
	eval {...} called at /usr/perl5.26.1p/lib/site_perl/5.26.1/Catalyst.pm line 2049
	Catalyst::execute(ComponentUI=HASH(0x52180420), "ComponentUI::Controller::TestModel::Baz", Catalyst::Action=HASH(0x51b4d108)) called at /usr/perl5.26.1p/lib/site_perl/5.26.1/Catalyst/Action.pm line 353
	Catalyst::Action::dispatch(Catalyst::Action=HASH(0x51b4d108), ComponentUI=HASH(0x52180420)) called at /usr/perl5.26.1p/lib/site_perl/5.26.1/Catalyst/Dispatcher.pm line 261
	Catalyst::Dispatcher::_do_forward(Catalyst::Dispatcher=HASH(0x49b1e630), "forward", ComponentUI=HASH(0x52180420), "/testmodel/baz/_DISPATCH") called at /usr/perl5.26.1p/lib/site_perl/5.26.1/Catalyst/Dispatcher.pm line 241
	Catalyst::Dispatcher::forward(Catalyst::Dispatcher=HASH(0x49b1e630), ComponentUI=HASH(0x52180420), "/testmodel/baz/_DISPATCH") called at /usr/perl5.26.1p/lib/site_perl/5.26.1/Catalyst.pm line 477
	Catalyst::forward(ComponentUI=HASH(0x52180420), "/testmodel/baz/_DISPATCH") called at /usr/perl5.26.1p/lib/site_perl/5.26.1/Catalyst/Dispatcher.pm line 107
	Catalyst::Dispatcher::dispatch(Catalyst::Dispatcher=HASH(0x49b1e630), ComponentUI=HASH(0x52180420)) called at /usr/perl5.26.1p/lib/site_perl/5.26.1/Catalyst.pm line 1995
	Catalyst::dispatch(ComponentUI=HASH(0x52180420)) called at /usr/perl5.26.1p/lib/site_perl/5.26.1/Catalyst/Plugin/Static/Simple.pm line 86
	Class::MOP::Class:::around(CODE(0x491d2798), ComponentUI=HASH(0x52180420)) called at /usr/perl5.26.1p/lib/site_perl/5.26.1/amd64-freebsd/Class/MOP/Method/Wrapped.pm line 164
	ComponentUI::_wrapped_dispatch(ComponentUI=HASH(0x52180420)) called at /usr/perl5.26.1p/lib/site_perl/5.26.1/amd64-freebsd/Class/MOP/Method/Wrapped.pm line 95
	ComponentUI::dispatch(ComponentUI=HASH(0x52180420)) called at /usr/perl5.26.1p/lib/site_perl/5.26.1/Catalyst.pm line 2390
	Catalyst::try {...} () called at /usr/perl5.26.1p/lib/site_perl/5.26.1/Try/Tiny.pm line 102
	eval {...} called at /usr/perl5.26.1p/lib/site_perl/5.26.1/Try/Tiny.pm line 93
	Try::Tiny::try(CODE(0x52171d68), Try::Tiny::Catch=REF(0x52171b70)) called at /usr/perl5.26.1p/lib/site_perl/5.26.1/Catalyst.pm line 2399
	Catalyst::handle_request("ComponentUI", "env", HASH(0x5216ba20), "response_cb", CODE(0x52171bd0)) called at /usr/perl5.26.1p/lib/site_perl/5.26.1/Catalyst/Engine.pm line 806
	Catalyst::Engine::__ANON__(CODE(0x52171bd0)) called at /usr/perl5.26.1p/lib/site_perl/5.26.1/Plack/Middleware/HTTPExceptions.pm line 32
	Plack::Middleware::HTTPExceptions::try {...} () called at /usr/perl5.26.1p/lib/site_perl/5.26.1/Try/Tiny.pm line 102
	eval {...} called at /usr/perl5.26.1p/lib/site_perl/5.26.1/Try/Tiny.pm line 93
	Try::Tiny::try(CODE(0x52171a08), Try::Tiny::Catch=REF(0x521712a0)) called at /usr/perl5.26.1p/lib/site_perl/5.26.1/Plack/Middleware/HTTPExceptions.pm line 41
	Plack::Middleware::HTTPExceptions::__ANON__(CODE(0x5216be40)) called at /usr/perl5.26.1p/lib/site_perl/5.26.1/Plack/Util.pm line 339
	Plack::Util::__ANON__(CODE(0x5216b978)) called at /usr/perl5.26.1p/lib/site_perl/5.26.1/Plack/Util.pm line 339
	Plack::Util::__ANON__(CODE(0x521496d8)) called at /usr/perl5.26.1p/lib/site_perl/5.26.1/Plack/Util.pm line 339
	Plack::Util::__ANON__(CODE(0x521497c8)) called at /usr/perl5.26.1p/lib/site_perl/5.26.1/HTTP/Message/PSGI.pm line 100
	HTTP::Message::PSGI::res_from_psgi(CODE(0x521717b0)) called at /usr/perl5.26.1p/lib/site_perl/5.26.1/HTTP/Message/PSGI.pm line 156
	HTTP::Response::from_psgi("HTTP::Response", CODE(0x521717b0)) called at /usr/perl5.26.1p/lib/site_perl/5.26.1/Plack/Test/MockHTTP.pm line 24
	Plack::Test::MockHTTP::try {...} () called at /usr/perl5.26.1p/lib/site_perl/5.26.1/Try/Tiny.pm line 100
	eval {...} called at /usr/perl5.26.1p/lib/site_perl/5.26.1/Try/Tiny.pm line 93
	Try::Tiny::try(CODE(0x52109db0), Try::Tiny::Catch=REF(0x51ab07b0)) called at /usr/perl5.26.1p/lib/site_perl/5.26.1/Plack/Test/MockHTTP.pm line 27
	Plack::Test::MockHTTP::request(Plack::Test::MockHTTP=HASH(0x52149450), HTTP::Request=HASH(0x520d1618)) called at /usr/perl5.26.1p/lib/site_perl/5.26.1/Plack/Test.pm line 38
	Plack::Test::__ANON__(HTTP::Request=HASH(0x520d1618)) called at /usr/perl5.26.1p/lib/site_perl/5.26.1/Catalyst/Test.pm line 290
	Catalyst::Test::__ANON__(CODE(0x52149300)) called at /usr/perl5.26.1p/lib/site_perl/5.26.1/Plack/Test.pm line 38
	Plack::Test::test_psgi("app", CODE(0x5210bee8), "mangle_response", CODE(0x47ce1c48), "app", CODE(0x52149150), "client", CODE(0x521491c8)) called at /usr/perl5.26.1p/lib/site_perl/5.26.1/Catalyst/Test.pm line 293
	Catalyst::Test::_request(HASH(0x5210b270), HTTP::Request=HASH(0x520d1618)) called at /usr/perl5.26.1p/lib/site_perl/5.26.1/Catalyst/Test.pm line 336
	Catalyst::Test::_local_request("ComponentUI", HTTP::Request=HASH(0x520d1618)) called at /usr/perl5.26.1p/lib/site_perl/5.26.1/Test/WWW/Mechanize/Catalyst.pm line 176
	Test::WWW::Mechanize::Catalyst::_do_catalyst_request(Test::WWW::Mechanize::Catalyst=HASH(0x51bb3b40), HTTP::Request=HASH(0x520d1618)) called at /usr/perl5.26.1p/lib/site_perl/5.26.1/Test/WWW/Mechanize/Catalyst.pm line 78
	Test::WWW::Mechanize::Catalyst::_make_request(Test::WWW::Mechanize::Catalyst=HASH(0x51bb3b40), HTTP::Request=HASH(0x520d1618)) called at /home/cpansand/.cpan/build/2019012820/WWW-Mechanize-1.91-5/blib/lib/WWW/Mechanize.pm line 1292
	WWW::Mechanize::request(Test::WWW::Mechanize::Catalyst=HASH(0x51bb3b40), HTTP::Request=HASH(0x520d1618)) called at /usr/perl5.26.1p/lib/site_perl/5.26.1/LWP/UserAgent.pm line 438
	LWP::UserAgent::get(Test::WWW::Mechanize::Catalyst=HASH(0x51bb3b40), "http://localhost/testmodel/baz/id/1/update") called at /home/cpansand/.cpan/build/2019012820/WWW-Mechanize-1.91-5/blib/lib/WWW/Mechanize.pm line 122
	WWW::Mechanize::get(Test::WWW::Mechanize::Catalyst=HASH(0x51bb3b40), "http://localhost/testmodel/baz/id/1/update") called at /usr/perl5.26.1p/lib/site_perl/5.26.1/Test/WWW/Mechanize.pm line 160
	Test::WWW::Mechanize::get_ok(Test::WWW::Mechanize::Catalyst=HASH(0x51bb3b40), "http://localhost/testmodel/baz/id/1/update") called at t/uncheck_bool_field.t line 9
t/uncheck_bool_field.t ...... ok
All tests successful.
Files=9, Tests=604, 17 wallclock secs ( 0.09 usr  0.04 sys + 15.02 cusr  1.59 csys = 16.73 CPU)
Result: PASS

------------------------------
PREREQUISITES
------------------------------

Prerequisite modules loaded:

requires:

    Module                                  Need      Have    
    --------------------------------------- --------- --------
    aliased                                 0.22      0.34    
    Catalyst                                5.80002   5.90118 
    Catalyst::Component::ACCEPT_CONTEXT     0.05      0.07    
    Catalyst::Component::InstancePerContext 0.001001  0.001001
    Catalyst::Model::DBIC::Schema           0.23      0.65    
    Catalyst::Plugin::ConfigLoader          0.23      0.34    
    Catalyst::Plugin::I18N                  0.09      0.10    
    Catalyst::Plugin::Static::Simple        0.21      0.34    
    Catalyst::View::TT                      0.29      0.44    
    Class::MOP                              0.81      2.2011  
    Config::General                         2.42      2.63    
    Crypt::Eksblowfish::Bcrypt              0.005     0.009   
    DateTime                                0.47      1.49    
    DateTime::Event::Recurrence             0.16      0.19    
    DateTime::Span                          0         0.3900  
    DBIx::Class                             0.08100   0.082841
    DBIx::Class::IntrospectableM2M          0.001001  0.001002
    Devel::Declare                          0.005000  0.006019
    Email::Valid                            0.181     1.202   
    ExtUtils::MakeMaker                     6.11      7.34    
    File::ShareDir                          1.00      1.116   
    File::Spec                              3.29      3.74    
    JSON                                    0         2.97001 
    metaclass                               0.81      2.2011  
    Method::Signatures::Simple              0.03      1.07    
    Moose                                   0.74      2.2011  
    MooseX::MethodAttributes                0.18      0.31    
    MooseX::Role::Parameterized             0.24      1.10    
    MooseX::Types                           0.10      0.50    
    MooseX::Types::Common                   0.001000  0.001014
    MooseX::Types::DateTime                 0.03      0.13    
    MooseX::Types::URI                      0.02      0.08    
    namespace::clean                        0.11      0.27    
    Path::Class::Dir                        0         0.37    
    Path::Class::File                       0         0.37    
    perl                                    5.008001  5.026001
    Scalar::Util                            1.19      1.50    
    signatures                              0.05      0.13    
    SQL::Translator                         0.11002   0.11024 
    Sub::Exporter                           0.982     0.987   
    Sub::Name                               0.04      0.21    
    Template                                2.20      2.27    
    Test::Class                             0.31      0.50    
    Test::Memory::Cycle                     1.04      1.06    
    Test::WWW::Mechanize::Catalyst          0.51      0.60    
    Time::ParseDate                         2006.0814 2015.103
    URI                                     1.37      1.72    

build_requires:

    Module                                  Need      Have    
    --------------------------------------- --------- --------
    ExtUtils::MakeMaker                     6.42      7.34    
    SQL::Translator                         0.11002   0.11024 
    Test::Class                             0.31      0.50    
    Test::Memory::Cycle                     1.04      1.06    
    Test::WWW::Mechanize::Catalyst          0.51      0.60    

configure_requires:

    Module                                  Need      Have    
    --------------------------------------- --------- --------
    ExtUtils::MakeMaker                     6.42      7.34    


------------------------------
ENVIRONMENT AND OTHER CONTEXT
------------------------------

Environment variables:

    PATH = /usr/local/bin:/usr/bin:/bin:/usr/local/sbin:/usr/sbin:/sbin:/home/cpansand/bin/freebsd11.2:/home/cpansand/bin/sh:/home/cpansand/bin:/usr/games:/home/cpansand/devel:/home/eserte/src/srezic-misc/scripts
    PERL5LIB = /home/cpansand/.cpan/build/2019012820/signatures-0.13-0/blib/arch:/home/cpansand/.cpan/build/2019012820/signatures-0.13-0/blib/lib:/home/cpansand/.cpan/build/2019012820/MooseX-Types-DateTime-0.13-1/blib/arch:/home/cpansand/.cpan/build/2019012820/MooseX-Types-DateTime-0.13-1/blib/lib:/home/cpansand/.cpan/build/2019012820/Catalyst-Component-ACCEPT_CONTEXT-0.07-1/blib/arch:/home/cpansand/.cpan/build/2019012820/Catalyst-Component-ACCEPT_CONTEXT-0.07-1/blib/lib:/home/cpansand/.cpan/build/2019012820/Finance-Bank-FI-ReferenceNumber-0.004-0/blib/arch:/home/cpansand/.cpan/build/2019012820/Finance-Bank-FI-ReferenceNumber-0.004-0/blib/lib:/home/cpansand/.cpan/build/2019012820/WWW-Mechanize-1.91-5/blib/arch:/home/cpansand/.cpan/build/2019012820/WWW-Mechanize-1.91-5/blib/lib
    PERL5OPT = 
    PERL5_CPANPLUS_IS_RUNNING = 48841
    PERL5_CPAN_IS_RUNNING = 48841
    PERL5_CPAN_IS_RUNNING_IN_RECURSION = 67563,48841
    PERLDOC = -MPod::Perldoc::ToTextOverstrike
    PERL_BATCH = yes
    PERL_CANARY_STABILITY_NOPROMPT = 1
    PERL_CPAN_REPORTER_CONFIG = /var/tmp/cpansmoker-1023/2019012814/cpanreporter_000_config.ini
    PERL_EXTUTILS_AUTOINSTALL = --defaultdeps
    PERL_USE_UNSAFE_INC = 1
    SHELL = /usr/local/bin/zsh
    TERM = screen
    TMPDIR = /var/tmp/cpansmoker-1023/2019012814

Perl special variables (and OS-specific diagnostics, for MSWin32):

    $^X = /usr/perl5.26.1p/bin/perl
    $UID/$EUID = 1023 / 1023
    $GID = 1023 1023
    $EGID = 1023 1023

Perl module toolchain versions installed:

    Module              Have    
    ------------------- --------
    CPAN                2.18    
    CPAN::Meta          2.150010
    Cwd                 3.74    
    ExtUtils::CBuilder  0.280230
    ExtUtils::Command   7.34    
    ExtUtils::Install   2.06    
    ExtUtils::MakeMaker 7.34    
    ExtUtils::Manifest  1.70    
    ExtUtils::ParseXS   3.34    
    File::Spec          3.74    
    JSON                2.97001 
    JSON::PP            2.94    
    Module::Build       0.4224  
    Module::Signature   0.81    
    Parse::CPAN::Meta   2.150010
    Test::Harness       3.42    
    Test::More          1.302136
    YAML                1.26    
    YAML::Syck          1.30    
    version             0.9917  


--

Summary of my perl5 (revision 5 version 26 subversion 1) configuration:
   
  Platform:
    osname=freebsd
    osvers=11.1-stable
    archname=amd64-freebsd
    uname='freebsd ali3.bbbike.org 11.1-stable freebsd 11.1-stable #1 21e3b2eb0af(stable11): thu oct 19 19:30:51 utc 2017 root@ali3.bbbike.org:usrobjhomeprojectsfreebsdsysgeneric amd64 '
    config_args='-ds -e -Dprefix=/usr/perl5.26.1p -Dcf_email=srezic@cpan.org -Doptimize=-O2 -pipe'
    hint=recommended
    useposix=true
    d_sigaction=define
    useithreads=undef
    usemultiplicity=undef
    use64bitint=define
    use64bitall=define
    uselongdouble=undef
    usemymalloc=n
    default_inc_excludes_dot=define
    bincompat5005=undef
  Compiler:
    cc='cc'
    ccflags ='-DHAS_FPSETMASK -DHAS_FLOATINGPOINT_H -fno-strict-aliasing -pipe -fstack-protector-strong -I/usr/local/include -D_FORTIFY_SOURCE=2'
    optimize='-O2 -pipe'
    cppflags='-DHAS_FPSETMASK -DHAS_FLOATINGPOINT_H -fno-strict-aliasing -pipe -fstack-protector-strong -I/usr/local/include'
    ccversion=''
    gccversion='4.2.1 Compatible FreeBSD Clang 5.0.0 (tags/RELEASE_500/final 312559)'
    gccosandvers=''
    intsize=4
    longsize=8
    ptrsize=8
    doublesize=8
    byteorder=12345678
    doublekind=3
    d_longlong=define
    longlongsize=8
    d_longdbl=define
    longdblsize=16
    longdblkind=3
    ivtype='long'
    ivsize=8
    nvtype='double'
    nvsize=8
    Off_t='off_t'
    lseeksize=8
    alignbytes=8
    prototype=define
  Linker and Libraries:
    ld='cc'
    ldflags ='-pthread -Wl,-E  -fstack-protector-strong -L/usr/local/lib'
    libpth=/usr/lib /usr/local/lib /usr/lib/clang/5.0.0/lib /usr/lib
    libs=-lpthread -lgdbm -lm -lcrypt -lutil -lc
    perllibs=-lpthread -lm -lcrypt -lutil -lc
    libc=
    so=so
    useshrplib=false
    libperl=libperl.a
    gnulibc_version=''
  Dynamic Linking:
    dlsrc=dl_dlopen.xs
    dlext=so
    d_dlsymun=undef
    ccdlflags=' '
    cccdlflags='-DPIC -fPIC'
    lddlflags='-shared  -L/usr/local/lib -fstack-protector-strong'


Characteristics of this binary (from libperl): 
  Compile-time options:
    HAS_TIMES
    PERLIO_LAYERS
    PERL_COPY_ON_WRITE
    PERL_DONT_CREATE_GVSV
    PERL_MALLOC_WRAP
    PERL_OP_PARENT
    PERL_PRESERVE_IVUV
    USE_64_BIT_ALL
    USE_64_BIT_INT
    USE_LARGE_FILES
    USE_LOCALE
    USE_LOCALE_COLLATE
    USE_LOCALE_CTYPE
    USE_LOCALE_NUMERIC
    USE_LOCALE_TIME
    USE_PERLIO
    USE_PERL_ATOF
  Built under freebsd
  Compiled at Oct 31 2017 01:02:57
  %ENV:
    PERL5LIB="/home/cpansand/.cpan/build/2019012820/signatures-0.13-0/blib/arch:/home/cpansand/.cpan/build/2019012820/signatures-0.13-0/blib/lib:/home/cpansand/.cpan/build/2019012820/MooseX-Types-DateTime-0.13-1/blib/arch:/home/cpansand/.cpan/build/2019012820/MooseX-Types-DateTime-0.13-1/blib/lib:/home/cpansand/.cpan/build/2019012820/Catalyst-Component-ACCEPT_CONTEXT-0.07-1/blib/arch:/home/cpansand/.cpan/build/2019012820/Catalyst-Component-ACCEPT_CONTEXT-0.07-1/blib/lib:/home/cpansand/.cpan/build/2019012820/Finance-Bank-FI-ReferenceNumber-0.004-0/blib/arch:/home/cpansand/.cpan/build/2019012820/Finance-Bank-FI-ReferenceNumber-0.004-0/blib/lib:/home/cpansand/.cpan/build/2019012820/WWW-Mechanize-1.91-5/blib/arch:/home/cpansand/.cpan/build/2019012820/WWW-Mechanize-1.91-5/blib/lib"
    PERL5OPT=""
    PERL5_CPANPLUS_IS_RUNNING="48841"
    PERL5_CPAN_IS_RUNNING="48841"
    PERL5_CPAN_IS_RUNNING_IN_RECURSION="67563,48841"
    PERLDOC="-MPod::Perldoc::ToTextOverstrike"
    PERL_BATCH="yes"
    PERL_CANARY_STABILITY_NOPROMPT="1"
    PERL_CPAN_REPORTER_CONFIG="/var/tmp/cpansmoker-1023/2019012814/cpanreporter_000_config.ini"
    PERL_EXTUTILS_AUTOINSTALL="--defaultdeps"
    PERL_USE_UNSAFE_INC="1"
  @INC:
    /home/cpansand/.cpan/build/2019012820/signatures-0.13-0/blib/arch
    /home/cpansand/.cpan/build/2019012820/signatures-0.13-0/blib/lib
    /home/cpansand/.cpan/build/2019012820/MooseX-Types-DateTime-0.13-1/blib/arch
    /home/cpansand/.cpan/build/2019012820/MooseX-Types-DateTime-0.13-1/blib/lib
    /home/cpansand/.cpan/build/2019012820/Catalyst-Component-ACCEPT_CONTEXT-0.07-1/blib/arch
    /home/cpansand/.cpan/build/2019012820/Catalyst-Component-ACCEPT_CONTEXT-0.07-1/blib/lib
    /home/cpansand/.cpan/build/2019012820/Finance-Bank-FI-ReferenceNumber-0.004-0/blib/arch
    /home/cpansand/.cpan/build/2019012820/Finance-Bank-FI-ReferenceNumber-0.004-0/blib/lib
    /home/cpansand/.cpan/build/2019012820/WWW-Mechanize-1.91-5/blib/arch
    /home/cpansand/.cpan/build/2019012820/WWW-Mechanize-1.91-5/blib/lib
    /usr/perl5.26.1p/lib/site_perl/5.26.1/amd64-freebsd
    /usr/perl5.26.1p/lib/site_perl/5.26.1
    /usr/perl5.26.1p/lib/5.26.1/amd64-freebsd
    /usr/perl5.26.1p/lib/5.26.1
    .