Back
From: metabase:user:322078bc-2aae-11df-837a-5e0a49663a4f
Subject: PASS cPanel-IO-Socket-SSL-1.994_01 v5.16.1 OpenBSD
Date: 2014-07-14T04:41:57Z
This distribution has been tested as part of the CPAN Testers
project, supporting the Perl programming language. See
http://wiki.cpantesters.org/ for more information or email
questions to cpan-testers-discuss@perl.org
--
Dear RURBAN,
This is a computer-generated error report created automatically by
CPANPLUS, version 0.9152. Testers personal comments may appear
at the end of this report.
Thank you for uploading your work to CPAN. Congratulations!
All tests were successful.
TEST RESULTS:
Below is the error stack from stage 'make test':
PERL_DL_NONLAZY=1 /home/cpan/pit/thr/perl-5.16.1/bin/perl "-MExtUtils::Command::MM" "-MTest::Harness" "-e" "undef *Test::Harness::Switches; test_harness(0, 'blib/lib', 'blib/arch')" t/*.t t/external/*.t
# openssl version=0x1000103f
# Net::SSLeay::VERSION=1.64
t/01loadmodule.t .................. ok
t/acceptSSL-timeout.t ............. ok
t/auto_verify_hostname.t .......... ok
t/cert_formats.t .................. ok
t/cert_no_file.t .................. ok
t/compatibility.t ................. ok
t/connectSSL-timeout.t ............ ok
t/core.t .......................... ok
t/dhe.t ........................... ok
t/ecdhe.t ......................... ok
# tcp connect to www.live.com:443 ok
# tcp connect to www.google.com:443 ok
# tcp connect to revoked.grc.com:443 ok
# fingerprint matches
# validation with default CA w/o OCSP ok
t/external/ocsp.t ................. ok
# found 59 CA certs
# have root CA for www.google.com in store
# 5 connections to www.google.com ok
# have root CA for www.yahoo.com in store
# 5 connections to www.yahoo.com ok
# fingerprint www.yahoo.com matches
# check www.yahoo.com against builtin CA store ok
# have root CA for www.comdirect.de in store
# 5 connections to www.comdirect.de ok
# have root CA for meine.deutsche-bank.de in store
# 5 connections to meine.deutsche-bank.de ok
# fingerprint meine.deutsche-bank.de matches
# check meine.deutsche-bank.de against builtin CA store ok
# have root CA for www.twitter.com in store
# 5 connections to www.twitter.com ok
# fingerprint www.twitter.com matches
# check www.twitter.com against builtin CA store ok
# have root CA for www.facebook.com in store
# 5 connections to www.facebook.com ok
# have root CA for www.live.com in store
# 5 connections to www.live.com ok
t/external/usable_ca.t ............ ok
t/io-socket-inet6.t ............... skipped: no IO::Socket::INET6 available
t/io-socket-ip.t .................. skipped: no IO::Socket::IP 0.20 available
t/memleak_bad_handshake.t ......... ok
t/mitm.t .......................... ok
t/nonblock.t ...................... ok
t/npn.t ........................... ok
# -- test: newINET start_SSL stop_SSL start_SSL
# server accepted new client
# wait for initial data from client
# got 0x666f6f from client
# server: got plain data at start of connection
# server: TLS upgrade
# server: TLS downgrade
# server: TLS upgrade#2
# -- test: newSSL stop_SSL connect_SSL
# server accepted new client
# wait for initial data from client
# got 0x160301 from client
# server: TLS upgrade
# server: TLS downgrade
# server: TLS upgrade#2
# -- test: newSSL:0 connect_SSL stop_SSL connect_SSL
# server accepted new client
# wait for initial data from client
# got 0x666f6f from client
# server: got plain data at start of connection
# server: TLS upgrade
# server: TLS downgrade
# server: TLS upgrade#2
# -- test: newSSL:0 start_SSL stop_SSL connect_SSL
# server accepted new client
# wait for initial data from client
# got 0x666f6f from client
# server: got plain data at start of connection
# server: TLS upgrade
# server: TLS downgrade
# server: TLS upgrade#2
# server accepted new client
# wait for initial data from client
# got 0x656e64 from client
# client requested end of tests
t/plain_upgrade_downgrade.t ....... ok
t/public_suffix_lib_encode_idn.t .. ok
t/public_suffix_lib_libidn.t ...... ok
t/public_suffix_lib_uri.t ......... ok
t/public_suffix_ssl.t ............. ok
t/readline.t ...................... ok
Use of uninitialized value $f in unlink at t/rt95452_perlcc.t line 16.
t/rt95452_perlcc.t ................ skipped: B::C required for testing perlcc -O3
t/sessions.t ...................... ok
t/signal-readline.t ............... ok
t/sni.t ........................... ok
t/start-stopssl.t ................. ok
t/startssl-failed.t ............... ok
t/startssl.t ...................... ok
t/sysread_write.t ................. ok
t/verify_fingerprint.t ............ ok
t/verify_hostname.t ............... ok
t/verify_hostname_standalone.t .... ok
All tests successful.
Files=35, Tests=748, 67 wallclock secs ( 0.07 usr 0.22 sys + 8.88 cusr 1.46 csys = 10.63 CPU)
Result: PASS
PREREQUISITES:
Here is a list of prerequisites you specified and versions we
managed to load:
Module Name Have Want
ExtUtils::MakeMaker 6.98 0
Mozilla::CA 20130114 0
Net::SSLeay 1.64 1.46
Scalar::Util 1.35 0
Perl module toolchain versions installed:
Module Name Have
CPANPLUS 0.9152
CPANPLUS::Dist::Build 0.78
Cwd 3.47
ExtUtils::CBuilder 0.280216
ExtUtils::Command 1.17
ExtUtils::Install 1.68
ExtUtils::MakeMaker 6.98
ExtUtils::Manifest 1.63
ExtUtils::ParseXS 3.24
File::Spec 3.47
Module::Build 0.4205
Pod::Parser 1.51
Pod::Simple 3.20
Test::Harness 3.32
Test::More 1.001003
version 0.9908
******************************** NOTE ********************************
The comments above are created mechanically, possibly without manual
checking by the sender. As there are many people performing automatic
tests on each upload to CPAN, it is likely that you will receive
identical messages about the same problem.
If you believe that the message is mistaken, please reply to the first
one with correction and/or additional informations, and do not take
it personally. We appreciate your patience. :)
**********************************************************************
Additional comments:
This report was machine-generated by CPANPLUS::Dist::YACSmoke 0.90.
Powered by minismokebox version 0.58
------------------------------
ENVIRONMENT AND OTHER CONTEXT
------------------------------
Environment variables:
AUTOMATED_TESTING = 1
NONINTERACTIVE_TESTING = 1
PATH = /home/cpan/bin:/bin:/sbin:/usr/bin:/usr/sbin:/usr/X11R6/bin:/usr/local/bin:/usr/local/sbin:/usr/games:.
PERL5LIB = :/home/cpan/pit/thr/conf/perl-5.16.1/.cpanplus/5.16.1/build/Mozilla-CA-20130114/blib/lib:/home/cpan/pit/thr/conf/perl-5.16.1/.cpanplus/5.16.1/build/Mozilla-CA-20130114/blib/arch:/home/cpan/pit/thr/conf/perl-5.16.1/.cpanplus/5.16.1/build/Net-SSLeay-1.64/blib/lib:/home/cpan/pit/thr/conf/perl-5.16.1/.cpanplus/5.16.1/build/Net-SSLeay-1.64/blib/arch:/home/cpan/pit/thr/conf/perl-5.16.1/.cpanplus/5.16.1/build/cPanel-IO-Socket-SSL-1.994_01/blib/lib:/home/cpan/pit/thr/conf/perl-5.16.1/.cpanplus/5.16.1/build/cPanel-IO-Socket-SSL-1.994_01/blib/arch
PERL5_CPANPLUS_IS_RUNNING = 23037
PERL5_CPANPLUS_IS_VERSION = 0.9152
PERL5_MINISMOKEBOX = 0.58
PERL5_YACSMOKE_BASE = /home/cpan/pit/thr/conf/perl-5.16.1
PERL_EXTUTILS_AUTOINSTALL = --defaultdeps
PERL_MM_USE_DEFAULT = 1
SHELL = /usr/local/bin/bash
TERM = screen
Perl special variables (and OS-specific diagnostics, for MSWin32):
Perl: $^X = /home/cpan/pit/thr/perl-5.16.1/bin/perl
UID: $< = 1001
EUID: $> = 1001
GID: $( = 1001 1001
EGID: $) = 1001 1001
-------------------------------
--
Summary of my perl5 (revision 5 version 16 subversion 1) configuration:
Platform:
osname=openbsd, osvers=5.4, archname=OpenBSD.i386-openbsd-thread-multi
uname='openbsd oarhole.bingosnet.co.uk 5.4 generic#37 i386 '
config_args='-des -Dprefix=/home/cpan/pit/thr/perl-5.16.1 -Dusethreads'
hint=recommended, useposix=true, d_sigaction=define
useithreads=define, usemultiplicity=define
useperlio=define, d_sfio=undef, uselargefiles=define, usesocks=undef
use64bitint=undef, use64bitall=undef, uselongdouble=undef
usemymalloc=y, bincompat5005=undef
Compiler:
cc='cc', ccflags ='-pthread -fno-strict-aliasing -pipe -fstack-protector -I/usr/local/include',
optimize='-O2',
cppflags='-pthread -fno-strict-aliasing -pipe -fstack-protector -I/usr/local/include'
ccversion='', gccversion='4.2.1 20070719 ', gccosandvers='openbsd5.4'
intsize=4, longsize=4, ptrsize=4, doublesize=8, byteorder=1234
d_longlong=define, longlongsize=8, d_longdbl=define, longdblsize=12
ivtype='long', ivsize=4, nvtype='double', nvsize=8, Off_t='off_t', lseeksize=8
alignbytes=4, prototype=define
Linker and Libraries:
ld='cc', ldflags ='-pthread -Wl,-E -fstack-protector -L/usr/local/lib'
libpth=/usr/local/lib /usr/lib
libs=-lgdbm -lm -lutil -lc
perllibs=-lm -lutil -lc
libc=/usr/lib/libc.so.69.0, so=so, useshrplib=false, libperl=libperl.a
gnulibc_version=''
Dynamic Linking:
dlsrc=dl_dlopen.xs, dlext=so, d_dlsymun=undef, ccdlflags=' '
cccdlflags='-DPIC -fPIC ', lddlflags='-shared -fPIC -L/usr/local/lib -fstack-protector'
Characteristics of this binary (from libperl):
Compile-time options: HAS_TIMES MULTIPLICITY MYMALLOC PERLIO_LAYERS
PERL_DONT_CREATE_GVSV PERL_IMPLICIT_CONTEXT
PERL_MALLOC_WRAP PERL_PRESERVE_IVUV USE_ITHREADS
USE_LARGE_FILES USE_LOCALE USE_LOCALE_COLLATE
USE_LOCALE_CTYPE USE_LOCALE_NUMERIC USE_PERLIO
USE_PERL_ATOF USE_REENTRANT_API
Built under openbsd
Compiled at Nov 5 2013 04:34:12
%ENV:
PERL5LIB=":/home/cpan/pit/thr/conf/perl-5.16.1/.cpanplus/5.16.1/build/Mozilla-CA-20130114/blib/lib:/home/cpan/pit/thr/conf/perl-5.16.1/.cpanplus/5.16.1/build/Mozilla-CA-20130114/blib/arch:/home/cpan/pit/thr/conf/perl-5.16.1/.cpanplus/5.16.1/build/Net-SSLeay-1.64/blib/lib:/home/cpan/pit/thr/conf/perl-5.16.1/.cpanplus/5.16.1/build/Net-SSLeay-1.64/blib/arch:/home/cpan/pit/thr/conf/perl-5.16.1/.cpanplus/5.16.1/build/cPanel-IO-Socket-SSL-1.994_01/blib/lib:/home/cpan/pit/thr/conf/perl-5.16.1/.cpanplus/5.16.1/build/cPanel-IO-Socket-SSL-1.994_01/blib/arch"
PERL5_CPANPLUS_IS_RUNNING="23037"
PERL5_CPANPLUS_IS_VERSION="0.9152"
PERL5_MINISMOKEBOX="0.58"
PERL5_YACSMOKE_BASE="/home/cpan/pit/thr/conf/perl-5.16.1"
PERL_EXTUTILS_AUTOINSTALL="--defaultdeps"
PERL_MM_USE_DEFAULT="1"
@INC:
/home/cpan/pit/thr/conf/perl-5.16.1/.cpanplus/5.16.1/build/Mozilla-CA-20130114/blib/lib
/home/cpan/pit/thr/conf/perl-5.16.1/.cpanplus/5.16.1/build/Mozilla-CA-20130114/blib/arch
/home/cpan/pit/thr/conf/perl-5.16.1/.cpanplus/5.16.1/build/Net-SSLeay-1.64/blib/lib
/home/cpan/pit/thr/conf/perl-5.16.1/.cpanplus/5.16.1/build/Net-SSLeay-1.64/blib/arch
/home/cpan/pit/thr/conf/perl-5.16.1/.cpanplus/5.16.1/build/cPanel-IO-Socket-SSL-1.994_01/blib/lib
/home/cpan/pit/thr/conf/perl-5.16.1/.cpanplus/5.16.1/build/cPanel-IO-Socket-SSL-1.994_01/blib/arch
/home/cpan/pit/thr/perl-5.16.1/lib/site_perl/5.16.1/OpenBSD.i386-openbsd-thread-multi
/home/cpan/pit/thr/perl-5.16.1/lib/site_perl/5.16.1
/home/cpan/pit/thr/perl-5.16.1/lib/5.16.1/OpenBSD.i386-openbsd-thread-multi
/home/cpan/pit/thr/perl-5.16.1/lib/5.16.1
.