Alien-spatialite v1.09 Perl 5 v5.36.0 x86_64-linux-quadmath
- Status
- Pass
- From
- Andreas J. König (ANDK)
- Dist
-
Alien-spatialite v1.09
- Platform
- Perl 5 v5.36.0 x86_64-linux-quadmath
- Date
- 2023-05-19 12:17:56
- ID
- 2ff09e08-f63f-11ed-829c-c1f39af2c8e0
This distribution has been tested as part of the CPAN Testers
project, supporting the Perl programming language. See
http://wiki.cpantesters.org/ for more information or email
questions to cpan-testers-discuss@perl.org
--
Dear Shawn Laffan,
This is a computer-generated report for Alien-spatialite-1.09
on perl 5.36.0, created by CPAN-Reporter-1.2018.
Thank you for uploading your work to CPAN. Congratulations!
All tests were successful.
Sections of this report:
* Tester comments
* Program output
* Prerequisites
* Environment and other context
------------------------------
TESTER COMMENTS
------------------------------
Additional comments from tester:
this report is from an automated smoke testing program
and was not reviewed by a human for accuracy
------------------------------
PROGRAM OUTPUT
------------------------------
Output from '/usr/bin/make test':
"/home/sand/src/perl/repoperls/installed-perls/host/k93msid/v5.36.0/ec94/bin/perl" -MAlien::Build::MM=cmd -e test
Alien::Build::Plugin::PkgConfig::Negotiate> Using PkgConfig plugin: PkgConfig::CommandLine
Downloaded spatialite version is 5.0.1
Running under CI or automated testing
PERL_DL_NONLAZY=1 "/home/sand/src/perl/repoperls/installed-perls/host/k93msid/v5.36.0/ec94/bin/perl" "-MExtUtils::Command::MM" "-MTest::Harness" "-e" "undef *Test::Harness::Switches; test_harness(0, 'blib/lib', 'blib/arch')" t/*.t
# Testing Alien::spatialite 1.09, Perl 5.036000, /home/sand/src/perl/repoperls/installed-perls/host/k93msid/v5.36.0/ec94/bin/perl
t/00-load.t .... ok
# NAME=spatialite
# VERSION=5.0.1
# CFLAGS: -I/home/sand/src/perl/repoperls/installed-perls/host/k93msid/v5.36.0/ec94/lib/site_perl/5.36.0/x86_64-linux-quadmath/auto/share/dist/Alien-geos-af/include -I/home/sand/src/perl/repoperls/installed-perls/host/k93msid/v5.36.0/ec94/lib/site_perl/5.36.0/x86_64-linux-quadmath/auto/share/dist/Alien-freexl/include -I/usr/include/x86_64-linux-gnu -I/home/sand/src/perl/repoperls/installed-perls/host/k93msid/v5.36.0/ec94/lib/site_perl/5.36.0/x86_64-linux-quadmath/auto/share/dist/Alien-sqlite/include -I/tmp/loop_over_bdir-941283-bD1uqF/Alien-spatialite-1.09-0/blib/lib/auto/share/dist/Alien-spatialite/include
t/01-config.t .. ok
# libs: -L/home/sand/src/perl/repoperls/installed-perls/host/k93msid/v5.36.0/ec94/lib/site_perl/5.36.0/x86_64-linux-quadmath/auto/share/dist/Alien-geos-af/lib -L/home/sand/src/perl/repoperls/installed-perls/host/k93msid/v5.36.0/ec94/lib/site_perl/5.36.0/x86_64-linux-quadmath/auto/share/dist/Alien-freexl/lib -L/home/sand/src/perl/repoperls/installed-perls/host/k93msid/v5.36.0/ec94/lib/site_perl/5.36.0/x86_64-linux-quadmath/auto/share/dist/Alien-sqlite/lib -lgeos_c -lgeos -lstdc++ -lm -lfreexl -lm -lproj -lsqlite3 -lz -lm -L/tmp/loop_over_bdir-941283-bD1uqF/Alien-spatialite-1.09-0/blib/lib/auto/share/dist/Alien-spatialite/lib -lspatialite -lfreexl -lproj -lz -lsqlite3 -L/home/sand/src/perl/repoperls/installed-perls/host/k93msid/v5.36.0/ec94/lib/site_perl/5.36.0/x86_64-linux-quadmath/auto/share/dist/Alien-geos-af/lib -lgeos_c -lm
# cflags: -I/home/sand/src/perl/repoperls/installed-perls/host/k93msid/v5.36.0/ec94/lib/site_perl/5.36.0/x86_64-linux-quadmath/auto/share/dist/Alien-geos-af/include -I/home/sand/src/perl/repoperls/installed-perls/host/k93msid/v5.36.0/ec94/lib/site_perl/5.36.0/x86_64-linux-quadmath/auto/share/dist/Alien-freexl/include -I/usr/include/x86_64-linux-gnu -I/home/sand/src/perl/repoperls/installed-perls/host/k93msid/v5.36.0/ec94/lib/site_perl/5.36.0/x86_64-linux-quadmath/auto/share/dist/Alien-sqlite/include -I/tmp/loop_over_bdir-941283-bD1uqF/Alien-spatialite-1.09-0/blib/lib/auto/share/dist/Alien-spatialite/include
# Dynamic libs: /tmp/loop_over_bdir-941283-bD1uqF/Alien-spatialite-1.09-0/blib/lib/auto/share/dist/Alien-spatialite/lib/libspatialite.so:/tmp/loop_over_bdir-941283-bD1uqF/Alien-spatialite-1.09-0/blib/lib/auto/share/dist/Alien-spatialite/lib/libspatialite.so.7:/tmp/loop_over_bdir-941283-bD1uqF/Alien-spatialite-1.09-0/blib/lib/auto/share/dist/Alien-spatialite/lib/libspatialite.so.7.1.2
# bin dir:
no bin dir found via bin_dir method
t/02-use.t ..... ok
All tests successful.
Test Summary Report
-------------------
t/02-use.t (Wstat: 0 Tests: 3 Failed: 0)
TODO passed: 3
Files=3, Tests=7, 1 wallclock secs ( 0.05 usr 0.01 sys + 1.20 cusr 0.22 csys = 1.48 CPU)
Result: PASS
------------------------------
PREREQUISITES
------------------------------
Prerequisite modules loaded:
requires:
Module Need Have
--------------------------------------- ------- --------
Alien::Base 1.41 2.75
Alien::Build 1.74 2.75
FFI::CheckLib 0.23 0.29
build_requires:
Module Need Have
--------------------------------------- ------- --------
Alien::Build 1.41 2.75
Alien::Build::MM 1.74 2.75
Alien::Build::Plugin::Cleanse::BuildDir 0 0.06
Alien::freexl 0 1.05
Alien::geos::af 1.007 1.010
Alien::patchelf 0 0.08
Alien::proj 0 1.24
Alien::sqlite 1.02 1.07
Archive::Tar 0 2.40
Config 0 5.036000
Env::ShellWords 0.01 0.02
ExtUtils::MakeMaker 6.52 7.70
FFI::CheckLib 0.23 0.29
File::Find::Rule 0 0.34
HTTP::Tiny 0.044 0.080
IO::Socket::SSL 1.56 2.075
IO::Zlib 0 1.11
Mojo::DOM58 1.00 3.001
Mozilla::CA 0 20211001
Net::SSLeay 1.49 1.92
Path::Tiny 0 0.144
PkgConfig 0.19026 0.25026
Sort::Versions 0 1.62
Test::Alien 0 2.75
URI 0 5.12
URI::Escape 0 5.12
configure_requires:
Module Need Have
--------------------------------------- ------- --------
Alien::Build 1.41 2.75
Alien::Build::MM 1.74 2.75
Alien::Build::Plugin::Build::SearchDep 0.53 2.75
Alien::Build::Plugin::Cleanse::BuildDir 0 0.06
Alien::freexl 0 1.05
Alien::geos::af 1.007 1.010
Alien::MSYS 0 0.17
Alien::proj 0 1.24
Alien::sqlite 1.02 1.07
ExtUtils::MakeMaker 6.52 7.70
File::Find::Rule 0 0.34
PkgConfig 0 0.25026
Sort::Versions 0 1.62
------------------------------
ENVIRONMENT AND OTHER CONTEXT
------------------------------
Environment variables:
AUTOMATED_TESTING = 1
LANG = en_US.UTF-8
LANGUAGE = en_US:en
PATH = /home/sand/bin:/usr/local/bin:/usr/bin:/bin:/usr/games:/usr/local/perl/bin:/usr/X11/bin:/sbin:/usr/sbin
PERL5LIB =
PERL5OPT =
PERL5_CPANPLUS_IS_RUNNING = 1049246
PERL5_CPAN_IS_RUNNING = 1049246
PERL_CANARY_STABILITY_NOPROMPT = 1
PERL_MM_USE_DEFAULT = 1
PERL_USE_UNSAFE_INC = 1
SHELL = /usr/bin/zsh
TERM = screen
Perl special variables (and OS-specific diagnostics, for MSWin32):
$^X = /home/sand/src/perl/repoperls/installed-perls/host/k93msid/v5.36.0/ec94/bin/perl
$UID/$EUID = 1005 / 1005
$GID = 1005 1005
$EGID = 1005 1005
Perl module toolchain versions installed:
Module Have
------------------- --------
CPAN 2.34
CPAN::Meta 2.150010
Cwd 3.84
ExtUtils::CBuilder 0.280236
ExtUtils::Command 7.70
ExtUtils::Install 2.20
ExtUtils::MakeMaker 7.70
ExtUtils::Manifest 1.73
ExtUtils::ParseXS 3.45
File::Spec 3.84
JSON 4.09
JSON::PP 4.16
Module::Build 0.4231
Module::Signature 0.88
Parse::CPAN::Meta 2.150010
Test::Harness 3.44
Test::More 1.302192
YAML 1.30
YAML::Syck 1.34
version 0.9929
--
Summary of my perl5 (revision 5 version 36 subversion 0) configuration:
Commit id: b3c502b607191da0e743a4fa34501a05442305b3
Platform:
osname=linux
osvers=5.18.0-4-amd64
archname=x86_64-linux-quadmath
uname='linux k93msid 5.18.0-4-amd64 #1 smp preempt_dynamic debian 5.18.16-1 (2022-08-10) x86_64 gnulinux '
config_args='-Dprefix=/home/sand/src/perl/repoperls/installed-perls/host/k93msid/v5.36.0/ec94 -Dmyhostname=k93msid -Dinstallusrbinperl=n -Uversiononly -Dusedevel -des -Ui_db -Dlibswanted=cl pthread socket inet nsl gdbm dbm malloc dl ld sun m crypt sec util c cposix posix ucb BSD gdbm_compat -Uuseithreads -Uuselongdouble -DEBUGGING=both -Dusequadmath'
hint=recommended
useposix=true
d_sigaction=define
useithreads=undef
usemultiplicity=undef
use64bitint=define
use64bitall=define
uselongdouble=undef
usemymalloc=n
default_inc_excludes_dot=define
Compiler:
cc='cc'
ccflags ='-fwrapv -DDEBUGGING -fno-strict-aliasing -pipe -fstack-protector-strong -I/usr/local/include -D_LARGEFILE_SOURCE -D_FILE_OFFSET_BITS=64 -D_FORTIFY_SOURCE=2'
optimize='-O2 -g'
cppflags='-fwrapv -DDEBUGGING -fno-strict-aliasing -pipe -fstack-protector-strong -I/usr/local/include'
ccversion=''
gccversion='12.1.0'
gccosandvers=''
intsize=4
longsize=8
ptrsize=8
doublesize=8
byteorder=12345678
doublekind=3
d_longlong=define
longlongsize=8
d_longdbl=define
longdblsize=16
longdblkind=3
ivtype='long'
ivsize=8
nvtype='__float128'
nvsize=16
Off_t='off_t'
lseeksize=8
alignbytes=16
prototype=define
Linker and Libraries:
ld='cc'
ldflags =' -fstack-protector-strong -L/usr/local/lib'
libpth=/usr/local/lib /usr/lib/x86_64-linux-gnu /usr/lib /usr/lib64
libs=-lpthread -lnsl -ldl -lm -lcrypt -lutil -lc -lquadmath
perllibs=-lpthread -lnsl -ldl -lm -lcrypt -lutil -lc -lquadmath
libc=/lib/x86_64-linux-gnu/libc.so.6
so=so
useshrplib=false
libperl=libperl.a
gnulibc_version='2.34'
Dynamic Linking:
dlsrc=dl_dlopen.xs
dlext=so
d_dlsymun=undef
ccdlflags='-Wl,-E'
cccdlflags='-fPIC'
lddlflags='-shared -O2 -g -L/usr/local/lib -fstack-protector-strong'
Characteristics of this binary (from libperl):
Compile-time options:
DEBUGGING
HAS_TIMES
PERLIO_LAYERS
PERL_COPY_ON_WRITE
PERL_DONT_CREATE_GVSV
PERL_MALLOC_WRAP
PERL_OP_PARENT
PERL_PRESERVE_IVUV
PERL_USE_DEVEL
USE_64_BIT_ALL
USE_64_BIT_INT
USE_LARGE_FILES
USE_LOCALE
USE_LOCALE_COLLATE
USE_LOCALE_CTYPE
USE_LOCALE_NUMERIC
USE_LOCALE_TIME
USE_PERLIO
USE_PERL_ATOF
USE_QUADMATH
Built under linux
Compiled at Aug 21 2022 05:37:58
%ENV:
PERL5LIB=""
PERL5OPT=""
PERL5_CPANPLUS_IS_RUNNING="1049246"
PERL5_CPAN_IS_RUNNING="1049246"
PERL_CANARY_STABILITY_NOPROMPT="1"
PERL_MM_USE_DEFAULT="1"
PERL_USE_UNSAFE_INC="1"
@INC:
/home/sand/src/perl/repoperls/installed-perls/host/k93msid/v5.36.0/ec94/lib/site_perl/5.36.0/x86_64-linux-quadmath
/home/sand/src/perl/repoperls/installed-perls/host/k93msid/v5.36.0/ec94/lib/site_perl/5.36.0
/home/sand/src/perl/repoperls/installed-perls/host/k93msid/v5.36.0/ec94/lib/5.36.0/x86_64-linux-quadmath
/home/sand/src/perl/repoperls/installed-perls/host/k93msid/v5.36.0/ec94/lib/5.36.0
.