Flickr-API v1.29 Perl 5 v5.36.3 amd64-openbsd
- Status
- Pass
- From
- Alceu Rodrigues de Freitas Junior
- Dist
-
Flickr-API v1.29
- Platform
- Perl 5 v5.36.3 amd64-openbsd
- Date
- 2024-05-09 13:36:49
- ID
- 2fcd3a16-0e09-11ef-abc3-f2abe9c7712c
This distribution has been tested as part of the CPAN Testers
project, supporting the Perl programming language. See
http://wiki.cpantesters.org/ for more information or email
questions to cpan-testers-discuss@perl.org
--
Dear Cal Henderson,
This is a computer-generated report for Flickr-API-1.29
on perl 5.36.3, created by CPAN-Reporter-1.2019.
Thank you for uploading your work to CPAN. Congratulations!
All tests were successful.
Sections of this report:
* Tester comments
* Program output
* Prerequisites
* Environment and other context
------------------------------
TESTER COMMENTS
------------------------------
Additional comments from tester:
this report is from an automated smoke testing program
and was not reviewed by a human for accuracy
If you would like to try to reproduce this report results or even to work with
the same environment for a bug fix, please refer to
https://github.com/glasswalk3r/cpan-openbsd-smoker to see how to use the
prebuilt virtual machines available.
------------------------------
PROGRAM OUTPUT
------------------------------
Output from '/usr/bin/make test':
PERL_DL_NONLAZY=1 "/usr/bin/perl" "-MExtUtils::Command::MM" "-MTest::Harness" "-e" "undef *Test::Harness::Switches; test_harness(0, 'blib/lib', 'blib/arch')" t/*.t
The 'perms' parameter must be one of: read, write, delete
at t/01-test.t line 77.
t/01-test.t .......................... ok
t/02-flickr_api.t .................... ok
t/02-oauth_api.t ..................... ok
t/03-flickr_api.t .................... skipped: These tests require that MAKETEST_FLICKR_CFG points to a valid config, see README.
t/03-oauth_consumer.t ................ skipped: These tests require that MAKETEST_OAUTH_CFG points to a valid config, see README.
t/04-flickr_authuri.t ................ skipped: These tests require that MAKETEST_FLICKR_CFG points to a valid config, see README.
t/04-oauth_requesttoken.t ............ skipped: These tests require that MAKETEST_OAUTH_CFG points to a valid config, see README.
t/05-flickr_authentication.t ......... skipped: These tests require that MAKETEST_FLICKR_CFG points to a valid config, see README.
t/05-oauth_authentication.t .......... skipped: These tests require that MAKETEST_OAUTH_CFG points to a valid config, see README.
t/06-flickr-authenticated-methods.t .. skipped: These tests require that MAKETEST_FLICKR_CFG points to a valid config, see README.
# No MAKETEST_OAUTH_CFG, shallow tests only
t/06-oauth-authenticated-methods.t ... ok
t/07-reflection.t .................... skipped: Reflection tests require that MAKETEST_OAUTH_CFG points to a valid config, see README.
t/08-cameras.t ....................... skipped: Cameras tests require that MAKETEST_OAUTH_CFG points to a valid config, see README.
t/09-people.t ........................ skipped: People tests require that MAKETEST_OAUTH_CFG points to a valid config, see README.
t/10-upload.t ........................ skipped: Upload tests require that MAKETEST_OAUTH_CFG points to a valid config, see README.
All tests successful.
Files=15, Tests=90, 3 wallclock secs ( 0.01 usr 0.13 sys + 2.19 cusr 0.52 csys = 2.85 CPU)
Result: PASS
------------------------------
PREREQUISITES
------------------------------
Prerequisite modules loaded:
requires:
Module Need Have
----------------------- ----- --------
Digest::MD5 0 2.58
Getopt::Long 1 2.57
HTTP::Message 1.56 6.45
HTTP::Request 0 6.45
HTTP::Request::Common 0 6.45
HTTP::Response 0 6.45
LWP::UserAgent 0 6.72
Net::OAuth 0 0.28
parent 0 0.238
perl 5.008 5.036003
Test::More 0 1.302199
Test::Script 0 1.29
URI 1.18 5.28
XML::LibXML::Simple 0 1.01
XML::Parser::Lite::Tree 0.06 0.14
build_requires:
Module Need Have
----------------------- ----- --------
ExtUtils::MakeMaker 0 7.70
Test::Script 0 1.29
configure_requires:
Module Need Have
----------------------- ----- --------
ExtUtils::MakeMaker 0 7.70
------------------------------
ENVIRONMENT AND OTHER CONTEXT
------------------------------
Environment variables:
AUTOMATED_TESTING = 1
PATH = /home/goku/perl5/bin:/usr/bin:/bin:/usr/sbin:/sbin:/usr/X11R6/bin:/usr/local/bin:/usr/local/sbin
PERL5LIB = /home/goku/perl5/lib/perl5
PERL5OPT =
PERL5_CPANPLUS_IS_RUNNING = 71130
PERL5_CPAN_IS_RUNNING = 71130
PERL5_CPAN_IS_RUNNING_IN_RECURSION = 64756,71130
PERL_CR_SMOKER_CURRENT = Flickr-API-1.29
PERL_EXTUTILS_AUTOINSTALL = --defaultdeps
PERL_LOCAL_LIB_ROOT = /home/goku/perl5
PERL_MB_OPT = --install_base "/home/goku/perl5"
PERL_MM_OPT = INSTALL_BASE=/home/goku/perl5
PERL_MM_USE_DEFAULT = 1
PERL_USE_UNSAFE_INC = 1
SHELL = /bin/ksh
TERM = xterm-256color
Perl special variables (and OS-specific diagnostics, for MSWin32):
$^X = /usr/bin/perl
$UID/$EUID = 1001 / 1001
$GID = 1002 1002 1001
$EGID = 1002 1002 1001
Perl module toolchain versions installed:
Module Have
------------------- --------
CPAN 2.36
CPAN::Meta 2.150010
Cwd 3.84
ExtUtils::CBuilder 0.280236
ExtUtils::Command 7.70
ExtUtils::Install 2.20
ExtUtils::MakeMaker 7.70
ExtUtils::Manifest 1.73
ExtUtils::ParseXS 3.45
File::Spec 3.84
JSON 4.10
JSON::PP 4.07
Module::Build 0.4234
Module::Signature n/a
Parse::CPAN::Meta 2.150010
Test2 1.302199
Test::Harness 3.49_01
Test::More 1.302199
YAML 1.31
YAML::Syck 1.34
version 0.9932
--
Summary of my perl5 (revision 5 version 36 subversion 3) configuration:
Platform:
osname=openbsd
osvers=7.5
archname=amd64-openbsd
uname='openbsd'
config_args='-dse -Dopenbsd_distribution=defined -Dmksymlinks'
hint=recommended
useposix=true
d_sigaction=define
useithreads=undef
usemultiplicity=undef
use64bitint=define
use64bitall=define
uselongdouble=undef
usemymalloc=n
default_inc_excludes_dot=define
Compiler:
cc='cc'
ccflags ='-DNO_LOCALE_NUMERIC -DNO_LOCALE_COLLATE -fno-strict-aliasing -fno-delete-null-pointer-checks -pipe -fstack-protector-strong -I/usr/local/include'
optimize='-O2'
cppflags='-DBIG_TIME -DNO_LOCALE_NUMERIC -DNO_LOCALE_COLLATE -fno-strict-aliasing -fno-delete-null-pointer-checks -pipe -fstack-protector-strong -I/usr/local/include'
ccversion=''
gccversion='OpenBSD Clang 16.0.6'
gccosandvers=''
intsize=4
longsize=8
ptrsize=8
doublesize=8
byteorder=12345678
doublekind=3
d_longlong=define
longlongsize=8
d_longdbl=define
longdblsize=16
longdblkind=3
ivtype='long'
ivsize=8
nvtype='double'
nvsize=8
Off_t='off_t'
lseeksize=8
alignbytes=8
prototype=define
Linker and Libraries:
ld='cc'
ldflags ='-Wl,-E -fstack-protector-strong -L/usr/local/lib'
libpth=/usr/lib /usr/lib/clang/16/lib
libs=-lm -lc
perllibs=-lm -lc
libc=/usr/lib/libc.so.99.0
so=so
useshrplib=true
libperl=libperl.so.23.0
gnulibc_version=''
Dynamic Linking:
dlsrc=dl_dlopen.xs
dlext=so
d_dlsymun=undef
ccdlflags='-Wl,-R/usr/libdata/perl5/amd64-openbsd/CORE'
cccdlflags='-DPIC -fpic '
lddlflags='-shared -fpic -fstack-protector-strong -L/usr/local/lib'
Characteristics of this binary (from libperl):
Compile-time options:
HAS_TIMES
PERLIO_LAYERS
PERL_COPY_ON_WRITE
PERL_DONT_CREATE_GVSV
PERL_MALLOC_WRAP
PERL_OP_PARENT
PERL_PRESERVE_IVUV
USE_64_BIT_ALL
USE_64_BIT_INT
USE_LARGE_FILES
USE_LOCALE
USE_LOCALE_CTYPE
USE_LOCALE_TIME
USE_PERLIO
USE_PERL_ATOF
Built under openbsd
%ENV:
PERL5LIB="/home/goku/perl5/lib/perl5"
PERL5OPT=""
PERL5_CPANPLUS_IS_RUNNING="71130"
PERL5_CPAN_IS_RUNNING="71130"
PERL5_CPAN_IS_RUNNING_IN_RECURSION="64756,71130"
PERL_CR_SMOKER_CURRENT="Flickr-API-1.29"
PERL_EXTUTILS_AUTOINSTALL="--defaultdeps"
PERL_LOCAL_LIB_ROOT="/home/goku/perl5"
PERL_MB_OPT="--install_base "/home/goku/perl5""
PERL_MM_OPT="INSTALL_BASE=/home/goku/perl5"
PERL_MM_USE_DEFAULT="1"
PERL_USE_UNSAFE_INC="1"
@INC:
/home/goku/perl5/lib/perl5/amd64-openbsd
/home/goku/perl5/lib/perl5
/usr/local/libdata/perl5/site_perl/amd64-openbsd
/usr/local/libdata/perl5/site_perl
/usr/libdata/perl5/amd64-openbsd
/usr/libdata/perl5
.