Report for Acme-TLDR-0.004

Back
From: metabase:user:0d96120c-29e2-11e5-b049-ede3035d37de
Subject: PASS Acme-TLDR-0.004 v5.23.0 GNU/Linux
Date: 2015-07-17T16:16:31Z

This distribution has been tested as part of the CPAN Testers
project, supporting the Perl programming language.  See
http://wiki.cpantesters.org/ for more information or email
questions to cpan-testers-discuss@perl.org


--
Dear Stanislaw Pusep,

This is a computer-generated report for Acme-TLDR-0.004
on perl 5.23.0, created by CPAN-Reporter-1.2014.

Thank you for uploading your work to CPAN.  Congratulations!
All tests were successful.

Sections of this report:

    * Tester comments
    * Program output
    * Prerequisites
    * Environment and other context

------------------------------
TESTER COMMENTS
------------------------------

Additional comments from tester:

this report is from an automated smoke testing program
and was not reviewed by a human for accuracy

------------------------------
PROGRAM OUTPUT
------------------------------

Output from '/usr/bin/make test':

PERL_DL_NONLAZY=1 "/data/perl5/perlbrew/perls/perl-5.23.0/bin/perl5.23.0" "-MExtUtils::Command::MM" "-MTest::Harness" "-e" "undef *Test::Harness::Switches; test_harness(0, 'blib/lib', 'blib/arch')" t/*.t
t/00-compile.t ............... ok
# Acme::TLDR v0.004, Perl 5.023000, /data/perl5/perlbrew/perls/perl-5.23.0/bin/perl5.23.0
t/00-load.t .................. ok
ExtUtils::Installed cache: /home/perltest/.local/share/.Acme-TLDR-17475fb817d378c0646c77b2bd91e8b3.cache
no cache found; generating
Acme::Damn                                                       => A::D
Acme::Tango                                                      => A::T
Acme::Unicodify                                                  => A::U
Algorithm::C3                                                    => A::C3
Algorithm::Combinatorics                                         => A::C
Algorithm::Diff                                                  => *undef*
Any::Moose                                                       => Any::M
AnyDBM_File                                                      => AnyDBM_F
AnyEvent                                                         => AnyE
Apache::DBI                                                      => A::DBI
Apache::Htpasswd                                                 => A::H
Apache::LogFormat::Compiler                                      => A::LogF::C
App::Cpan                                                        => App::C
App::FatPacker                                                   => App::FatP
App::Nopaste                                                     => App::N
App::Prove                                                       => App::P
App::Prove::State                                                => App::P::S
App::Prove::State::Result                                        => App::P::S::R
App::Prove::State::Result::Test                                  => App::P::S::R::T
App::cpanminus                                                   => App::c
App::cpanminus::reporter                                         => App::c::r
App::perlbrew                                                    => App::p
AppConfig                                                        => AppC
Archive::Any::Create                                             => A::Any::C
Archive::Extract                                                 => A::E
Archive::Tar                                                     => A::Tar
Archive::Tar::Constant                                           => A::Tar::C
Archive::Tar::File                                               => A::Tar::F
Archive::Tar::Wrapper                                            => A::Tar::W
Archive::Zip                                                     => A::Zip
Async::Interrupt                                                 => A::I
Attribute::Handlers                                              => *undef*
Authen::SASL                                                     => A::SASL
Authen::Simple                                                   => A::S
Authen::Simple::Passwd                                           => A::S::P
AutoLoader                                                       => AL
AutoSplit                                                        => AS
B::Concise                                                       => B::C
B::Debug                                                         => B::D
B::Deparse                                                       => *undef*
B::Hooks::EndOfScope                                             => B::H::EndOfS
B::Hooks::OP::Check                                              => B::H::OP::C
B::Hooks::OP::PPAddr                                             => B::H::OP::PPA
B::Keywords                                                      => B::K
B::Op_private                                                    => B::O
B::Showlex                                                       => B::S
B::Terse                                                         => B::T
B::Utils                                                         => B::U
B::Xref                                                          => B::X
Bit::Vector                                                      => Bit::V
Browser::Open                                                    => *undef*
CGI::FormBuilder                                                 => CGI::FB
CGI::FormBuilder::Source::Perl                                   => CGI::FB::S::P
CGI::Simple                                                      => CGI::S
CGI::Struct                                                      => *undef*
CPAN::Author                                                     => CPAN::A
CPAN::Bundle                                                     => CPAN::B
CPAN::CacheMgr                                                   => CPAN::CMgr
CPAN::Changes                                                    => CPAN::C
CPAN::Checksums                                                  => *undef*
CPAN::Complete                                                   => *undef*
CPAN::Debug                                                      => CPAN::D
CPAN::DeferredCode                                               => CPAN::DC
CPAN::DistnameInfo                                               => CPAN::DI
CPAN::Distribution                                               => *undef*
CPAN::Distroprefs                                                => *undef*
CPAN::Distrostatus                                               => *undef*
CPAN::Exception::RecursiveDependency                             => CPAN::E::RD
CPAN::Exception::blocked_urllist                                 => CPAN::E::b
CPAN::Exception::yaml_not_installed                              => CPAN::E::y
CPAN::Exception::yaml_process_error                              => *undef*
CPAN::FTP::netrc                                                 => CPAN::FTP::n
CPAN::FirstTime                                                  => CPAN::FT
CPAN::HTTP::Client                                               => CPAN::HTTP::C
CPAN::HTTP::Credentials                                          => *undef*
CPAN::HandleConfig                                               => CPAN::HC
CPAN::Index                                                      => CPAN::I
CPAN::InfoObj                                                    => CPAN::IObj
CPAN::Kwalify                                                    => CPAN::K
CPAN::LWP::UserAgent                                             => CPAN::LWP::UA
CPAN::Meta                                                       => CPAN::M
CPAN::Meta::Check                                                => CPAN::M::C
CPAN::Meta::Converter                                            => *undef*
CPAN::Meta::Feature                                              => CPAN::M::F
CPAN::Meta::History                                              => CPAN::M::H
CPAN::Meta::Merge                                                => CPAN::M::M
CPAN::Meta::Prereqs                                              => CPAN::M::P
CPAN::Meta::Requirements                                         => CPAN::M::R
CPAN::Meta::Spec                                                 => CPAN::M::S
CPAN::Meta::Validator                                            => CPAN::M::V
CPAN::Meta::YAML                                                 => CPAN::M::YAML
CPAN::Mini                                                       => *undef*
CPAN::Mirrors                                                    => *undef*
CPAN::Module                                                     => *undef*
CPAN::Perl::Releases                                             => CPAN::P::R
CPAN::Plugin                                                     => CPAN::P
CPAN::Plugin::Specfile                                           => CPAN::P::S
CPAN::Prompt                                                     => *undef*
CPAN::Queue                                                      => CPAN::Q
CPAN::Reporter                                                   => CPAN::R
CPAN::Reporter::Smoker                                           => CPAN::R::S
CPAN::Shell                                                      => CPAN::S
CPAN::Tarzip                                                     => CPAN::T
CPAN::Testers::Common::Client                                    => CPAN::T::C::C
CPAN::Testers::Report                                            => CPAN::T::R
CPAN::Uploader                                                   => CPAN::U
CPAN::Version                                                    => CPAN::V
CSS::Tiny                                                        => CSS::T
Cache::Cache                                                     => C::C
Cache::LRU                                                       => C::LRU
Canary::Stability                                                => C::S
Capture::Tiny                                                    => C::T
Carp::Assert                                                     => C::A
Carp::Assert::More                                               => C::A::M
Carp::Clan                                                       => *undef*
Carp::Heavy                                                      => C::H
Catalyst::Action::REST                                           => C::A::REST
Catalyst::Action::RenderView                                     => C::A::RV
Catalyst::ActionRole::ACL                                        => C::AR::ACL
Catalyst::Authentication::Credential::HTTP                       => C::A::C::HTTP
Catalyst::Authentication::Store::DBIx::Class                     => C::A::S::DBIx::C
Catalyst::Component::InstancePerContext                          => C::C::IPerC
Catalyst::Controller::ActionRole                                 => C::C::AR
Catalyst::Devel                                                  => C::D
Catalyst::Manual                                                 => C::M
Catalyst::Model::Adaptor                                         => C::M::A
Catalyst::Model::DBIC::Schema                                    => C::M::DBIC::S
Catalyst::Plugin::Authentication                                 => C::P::A
Catalyst::Plugin::ConfigLoader                                   => C::P::CL
Catalyst::Plugin::I18N                                           => C::P::I18N
Catalyst::Plugin::Session                                        => C::P::S
Catalyst::Plugin::Session::State::Cookie                         => C::P::S::S::C
Catalyst::Plugin::Session::Store::DBIC                           => C::P::S::S::DBIC
Catalyst::Plugin::Session::Store::Delegate                       => C::P::S::S::D
Catalyst::Plugin::Session::Store::File                           => C::P::S::S::F
Catalyst::Plugin::StackTrace                                     => C::P::ST
Catalyst::Plugin::Static::Simple                                 => C::P::S::S
Catalyst::Runtime                                                => C::R
Catalyst::View::Email                                            => C::V::E
Catalyst::View::TT                                               => C::V::TT
CatalystX::Component::Traits                                     => CX::C::T
CatalystX::InjectComponent                                       => CX::IC
CatalystX::LeakChecker                                           => CX::LC
CatalystX::Profile                                               => CX::P
CatalystX::SimpleLogin                                           => CX::SL
Class::Accessor                                                  => *undef*
Class::Accessor::Chained                                         => C::A::C
Class::Accessor::Complex                                         => *undef*
Class::Accessor::Constructor                                     => *undef*
Class::Accessor::Grouped                                         => C::A::G
Class::Accessor::Installer                                       => C::A::I
Class::Accessor::Lite                                            => C::A::L
Class::C3                                                        => C::C3
Class::C3::Adopt::NEXT                                           => C::C3::A::NEXT
Class::C3::Componentised                                         => C::C3::C
Class::Data::Inheritable                                         => C::D::I
Class::ErrorHandler                                              => C::EH
Class::Gomor                                                     => C::G
Class::Inspector                                                 => C::I
Class::Load                                                      => C::L
Class::Load::XS                                                  => C::L::XS
Class::Loader                                                    => *undef*
Class::Method::Modifiers                                         => C::M::M
Class::MethodMaker                                               => C::MM
Class::Singleton                                                 => *undef*
Class::Struct                                                    => *undef*
Class::Tiny                                                      => *undef*
Class::Trigger                                                   => *undef*
Class::Unload                                                    => C::U
Class::Value                                                     => C::V
Class::Value::SemanticAdapter                                    => C::V::SA
Class::XSAccessor                                                => C::XSA
Clone::PP                                                        => C::PP
Compress::Bzip2                                                  => C::B2
Compress::Raw::Bzip2                                             => C::Raw::B2
Compress::Raw::Zlib                                              => C::Raw::Z
Compress::Zlib                                                   => C::Z
Config::Any                                                      => C::Any
Config::Extensions                                               => C::E
Config::General                                                  => *undef*
Config::INI                                                      => C::INI
Config::MVP                                                      => C::MVP
Config::MVP::Reader::INI                                         => C::MVP::R::INI
Config::Perl::V                                                  => C::P::V
Config::Properties                                               => C::P
Config::Tiny                                                     => *undef*
Context::Preserve                                                => *undef*
Control::CLI                                                     => C::CLI
Convert::ASCII::Armour                                           => C::ASCII::A
Convert::ASN1                                                    => C::ASN1
Convert::BinHex                                                  => C::BinHex
Convert::Color                                                   => *undef*
Convert::PEM                                                     => C::PEM
Cookie::Baker                                                    => C::B
Cpanel::JSON::XS                                                 => C::JSON::XS
Crypt::Blowfish                                                  => *undef*
Crypt::CBC                                                       => C::CBC
Crypt::DES                                                       => C::DES
Crypt::DES_EDE3                                                  => C::DES_EDE3
Crypt::DSA                                                       => C::DSA
Crypt::IDEA                                                      => C::IDEA
Crypt::OpenSSL::Bignum                                           => C::OSSL::B
Crypt::OpenSSL::RSA                                              => C::OSSL::RSA
Crypt::OpenSSL::Random                                           => C::OSSL::R
Crypt::OpenSSL::X509                                             => C::OSSL::X509
Crypt::PasswdMD5                                                 => C::PMD5
Crypt::Primes                                                    => *undef*
Crypt::RC4                                                       => C::RC4
Crypt::RSA                                                       => C::RSA
Crypt::Random                                                    => *undef*
CryptX                                                           => CX
Cwd::Guard                                                       => Cwd::G
DBD::SQLite                                                      => DBD::SQL
DBD::mysql                                                       => DBD::m
DBIx::Class                                                      => DBIx::C
DBIx::Class::IntrospectableM2M                                   => DBIx::C::IM2M
DBIx::Class::Schema::Loader                                      => DBIx::C::S::L
DBIx::Connector                                                  => *undef*
DBIx::SQLite::Simple                                             => DBIx::SQL::S
DBM_Filter                                                       => DBM_F
DBM_Filter::compress                                             => DBM_F::c
DBM_Filter::encode                                               => DBM_F::e
DBM_Filter::int32                                                => DBM_F::int32
DBM_Filter::null                                                 => DBM_F::n
DBM_Filter::utf8                                                 => DBM_F::utf8
DB_File                                                          => DB_F
Daemon::Generic                                                  => D::G
Data::Buffer                                                     => D::B
Data::Clone                                                      => D::C
Data::Compare                                                    => *undef*
Data::Container                                                  => *undef*
Data::Dmp                                                        => D::Dmp
Data::Dump                                                       => D::D
Data::Dump::OneLine                                              => D::D::OneL
Data::Dumper                                                     => *undef*
Data::Dumper::Concise                                            => D::D::C
Data::GUID                                                       => D::GUID
Data::Inherited                                                  => D::I
Data::Miscellany                                                 => D::M
Data::OptList                                                    => D::OptL
Data::Page                                                       => D::P
Data::Perl                                                       => *undef*
Data::Printer                                                    => *undef*
Data::Section                                                    => D::S
Data::Section::Simple                                            => D::S::S
Data::Semantic                                                   => *undef*
Data::Structure::Util                                            => D::S::U
Data::UUID                                                       => D::UUID
Data::Validate                                                   => D::V
Data::Validate::IP                                               => D::V::IP
Data::Validate::Struct                                           => D::V::S
Data::Visitor                                                    => *undef*
Date::Parse                                                      => *undef*
Date::Tiny                                                       => D::T
DateTime                                                         => DT
DateTime::Format::Epoch                                          => DT::F::E
DateTime::Format::Mail                                           => DT::F::M
DateTime::Format::Strptime                                       => DT::F::S
DateTime::Format::W3CDTF                                         => DT::F::W3CDTF
DateTime::Locale                                                 => DT::L
DateTime::TimeZone                                               => DT::TZ
DateTime::Tiny                                                   => DT::T
DefHash                                                          => DefH
Devel::Autoflush                                                 => D::A
Devel::Caller                                                    => *undef*
Devel::CheckCompiler                                             => D::CC
Devel::CheckOS                                                   => D::COS
Devel::Confess                                                   => *undef*
Devel::Cover                                                     => *undef*
Devel::Cycle                                                     => *undef*
Devel::Declare                                                   => *undef*
Devel::FindPerl                                                  => D::FP
Devel::GlobalDestruction                                         => D::GD
Devel::Hide                                                      => D::H
Devel::LexAlias                                                  => D::LexA
Devel::NYTProf                                                   => D::NYTP
Devel::OverloadInfo                                              => D::OI
Devel::PPPort                                                    => D::PPP
Devel::PartialDump                                               => D::PD
Devel::PatchPerl                                                 => D::PP
Devel::Peek                                                      => *undef*
Devel::Platform::Info                                            => D::P::I
Devel::SelfStubber                                               => D::SS
Devel::Size                                                      => *undef*
Devel::StackTrace                                                => D::ST
Devel::StackTrace::AsHTML                                        => D::ST::AsHTML
Devel::StackTrace::WithLexicals                                  => D::ST::WL
Devel::Symdump                                                   => *undef*
Digest::BubbleBabble                                             => D::BB
Digest::HMAC                                                     => D::HMAC
Digest::JHash                                                    => D::JH
Digest::MD2                                                      => D::MD2
Digest::MD5                                                      => D::MD5
Digest::Perl::MD5                                                => D::P::MD5
Digest::SHA                                                      => D::SHA
Digest::SHA1                                                     => D::SHA1
Digest::base                                                     => D::b
Digest::file                                                     => D::f
DirHandle                                                        => DirH
Dist::CheckConflicts                                             => *undef*
Dist::Metadata                                                   => *undef*
Dist::Zilla                                                      => D::Z
Dist::Zilla::Plugin::PodWeaver                                   => D::Z::P::PodW
DynaLoader                                                       => DL
Email::Abstract                                                  => E::A
Email::Address                                                   => *undef*
Email::Date::Format                                              => E::D::F
Email::MIME                                                      => E::MIME
Email::MIME::ContentType                                         => E::MIME::CT
Email::MIME::Encodings                                           => E::MIME::E
Email::MIME::Kit                                                 => E::MIME::Kit
Email::MessageID                                                 => E::MID
Email::Sender                                                    => E::S
Email::Simple                                                    => *undef*
Email::Valid                                                     => E::V
Encode::Alias                                                    => *undef*
Encode::Byte                                                     => E::B
Encode::CJKConstants                                             => E::CJKC
Encode::CN                                                       => E::CN
Encode::CN::HZ                                                   => E::CN::HZ
Encode::Config                                                   => E::C
Encode::EBCDIC                                                   => E::EBCDIC
Encode::Encoder                                                  => E::E
Encode::Encoding                                                 => *undef*
Encode::GSM0338                                                  => E::GSM0338
Encode::Guess                                                    => E::G
Encode::JP                                                       => E::JP
Encode::JP::H2Z                                                  => E::JP::H2Z
Encode::JP::JIS7                                                 => E::JP::JIS7
Encode::KR                                                       => E::KR
Encode::KR::2022_KR                                              => E::KR::2022_KR
Encode::Locale                                                   => E::L
Encode::MIME::Header                                             => E::MIME::H
Encode::MIME::Header::ISO_2022_JP                                => E::MIME::H::ISO_2022_JP
Encode::MIME::Name                                               => E::MIME::N
Encode::Symbol                                                   => *undef*
Encode::TW                                                       => E::TW
Encode::Unicode                                                  => E::U
Encode::Unicode::UTF7                                            => E::U::UTF7
Error::Hierarchy                                                 => E::H
Eval::Closure                                                    => *undef*
Eval::LineNumbers                                                => E::LN
Exception::Class                                                 => *undef*
Expect::Simple                                                   => *undef*
Exporter::Declare                                                => E::D
Exporter::Heavy                                                  => *undef*
Exporter::Lite                                                   => *undef*
Exporter::Tidy                                                   => E::T
Exporter::Tiny                                                   => *undef*
ExtUtils::CBuilder                                               => ExtU::CB
ExtUtils::CBuilder::Base                                         => ExtU::CB::B
ExtUtils::CBuilder::Platform::Unix                               => ExtU::CB::P::U
ExtUtils::CBuilder::Platform::VMS                                => ExtU::CB::P::VMS
ExtUtils::CBuilder::Platform::Windows                            => ExtU::CB::P::W
ExtUtils::CBuilder::Platform::Windows::BCC                       => ExtU::CB::P::W::BCC
ExtUtils::CBuilder::Platform::Windows::GCC                       => ExtU::CB::P::W::GCC
ExtUtils::CBuilder::Platform::Windows::MSVC                      => ExtU::CB::P::W::MSVC
ExtUtils::CBuilder::Platform::aix                                => ExtU::CB::P::aix
ExtUtils::CBuilder::Platform::android                            => ExtU::CB::P::a
ExtUtils::CBuilder::Platform::cygwin                             => ExtU::CB::P::c
ExtUtils::CBuilder::Platform::darwin                             => ExtU::CB::P::d
ExtUtils::CBuilder::Platform::dec_osf                            => *undef*
ExtUtils::CBuilder::Platform::os2                                => ExtU::CB::P::os2
ExtUtils::CChecker                                               => ExtU::CC
ExtUtils::Command                                                => ExtU::C
ExtUtils::Command::MM                                            => ExtU::C::MM
ExtUtils::Config                                                 => *undef*
ExtUtils::Constant                                               => *undef*
ExtUtils::Constant::Base                                         => ExtU::C::B
ExtUtils::Constant::ProxySubs                                    => ExtU::C::PS
ExtUtils::Constant::Utils                                        => ExtU::C::U
ExtUtils::Constant::XS                                           => ExtU::C::XS
ExtUtils::Depends                                                => ExtU::D
ExtUtils::Embed                                                  => ExtU::E
ExtUtils::Helpers                                                => ExtU::H
ExtUtils::Install                                                => ExtU::I
ExtUtils::InstallPaths                                           => ExtU::IP
ExtUtils::Installed                                              => *undef*
ExtUtils::Liblist                                                => ExtU::L
ExtUtils::Liblist::Kid                                           => ExtU::L::Kid
ExtUtils::MM                                                     => ExtU::MM
ExtUtils::MM_AIX                                                 => ExtU::MM_AIX
ExtUtils::MM_Any                                                 => ExtU::MM_Any
ExtUtils::MM_BeOS                                                => ExtU::MM_BeOS
ExtUtils::MM_Cygwin                                              => ExtU::MM_C
ExtUtils::MM_DOS                                                 => ExtU::MM_DOS
ExtUtils::MM_Darwin                                              => ExtU::MM_D
ExtUtils::MM_MacOS                                               => ExtU::MM_MacOS
ExtUtils::MM_NW5                                                 => ExtU::MM_NW5
ExtUtils::MM_OS2                                                 => ExtU::MM_OS2
ExtUtils::MM_QNX                                                 => ExtU::MM_QNX
ExtUtils::MM_UWIN                                                => ExtU::MM_UWIN
ExtUtils::MM_Unix                                                => ExtU::MM_U
ExtUtils::MM_VMS                                                 => ExtU::MM_VMS
ExtUtils::MM_VOS                                                 => ExtU::MM_VOS
ExtUtils::MM_Win32                                               => ExtU::MM_Win32
ExtUtils::MM_Win95                                               => ExtU::MM_Win95
ExtUtils::MY                                                     => ExtU::MY
ExtUtils::MakeMaker                                              => *undef*
ExtUtils::MakeMaker::Config                                      => ExtU::MM::C
ExtUtils::MakeMaker::Locale                                      => ExtU::MM::L
ExtUtils::MakeMaker::version                                     => ExtU::MM::v
ExtUtils::MakeMaker::version::regex                              => ExtU::MM::v::r
ExtUtils::MakeMaker::version::vpp                                => ExtU::MM::v::vpp
ExtUtils::Manifest                                               => ExtU::M
ExtUtils::Miniperl                                               => *undef*
ExtUtils::Mkbootstrap                                            => *undef*
ExtUtils::Mksymlists                                             => *undef*
ExtUtils::Packlist                                               => ExtU::P
ExtUtils::ParseXS                                                => ExtU::PXS
ExtUtils::ParseXS::Constants                                     => ExtU::PXS::C
ExtUtils::ParseXS::CountLines                                    => ExtU::PXS::CL
ExtUtils::ParseXS::Eval                                          => ExtU::PXS::E
ExtUtils::ParseXS::Utilities                                     => ExtU::PXS::U
ExtUtils::PkgConfig                                              => ExtU::PkgC
ExtUtils::Typemaps                                               => ExtU::T
ExtUtils::Typemaps::Cmd                                          => ExtU::T::Cmd
ExtUtils::Typemaps::InputMap                                     => ExtU::T::IMap
ExtUtils::Typemaps::OutputMap                                    => ExtU::T::OMap
ExtUtils::Typemaps::Type                                         => ExtU::T::T
ExtUtils::XSSymSet                                               => ExtU::XSSymSet
ExtUtils::testlib                                                => ExtU::t
FCGI::ProcManager                                                => FCGI::PM
Fennec::Lite                                                     => F::L
File::Basename                                                   => F::B
File::ChangeNotify                                               => F::CN
File::Comments                                                   => F::C
File::Compare                                                    => *undef*
File::Copy                                                       => *undef*
File::Copy::Recursive                                            => F::C::R
File::DosGlob                                                    => F::DosG
File::Fetch                                                      => F::F
File::Find                                                       => *undef*
File::Find::Rule                                                 => F::F::R
File::Find::Rule::Perl                                           => F::F::R::P
File::Flock                                                      => *undef*
File::Glob                                                       => F::G
File::GlobMapper                                                 => F::GM
File::HomeDir                                                    => F::HDir
File::Listing                                                    => *undef*
File::NFSLock                                                    => F::NFSL
File::Next                                                       => F::N
File::Path                                                       => F::P
File::Pid                                                        => F::Pid
File::Remove                                                     => F::R
File::ShareDir                                                   => F::SDir
File::ShareDir::Install                                          => F::SDir::I
File::ShareDir::ProjectDistDir                                   => F::SDir::PDDir
File::Slurp                                                      => F::S
File::Slurp::Tiny                                                => F::S::T
File::Spec                                                       => *undef*
File::Spec::Cygwin                                               => F::S::C
File::Spec::Epoc                                                 => F::S::E
File::Spec::Functions                                            => F::S::F
File::Spec::Mac                                                  => F::S::Mac
File::Spec::Native                                               => F::S::N
File::Spec::OS2                                                  => F::S::OS2
File::Spec::Unix                                                 => F::S::U
File::Spec::VMS                                                  => F::S::VMS
File::Spec::Win32                                                => F::S::Win32
File::Temp                                                       => F::T
File::Which                                                      => F::W
File::pushd                                                      => F::p
File::stat                                                       => F::s
FileCache                                                        => FC
FileHandle                                                       => FH
Filesys::Notify::Simple                                          => F::N::S
Filter::Simple                                                   => *undef*
Filter::Util::Call                                               => F::U::C
FindBin                                                          => FBin
Function::Fallback::CoreOrPP                                     => F::F::COrPP
GDBM_File                                                        => GDBM_F
Gen::Test::Rinci::FuncResult                                     => Gen::T::R::FR
Geography::Countries                                             => G::C
Getopt::Long                                                     => G::L
Getopt::Long::Descriptive                                        => G::L::D
Getopt::Std                                                      => G::Std
HTML::Form                                                       => HTML::F
HTML::FormHandler                                                => HTML::FH
HTML::Parser                                                     => HTML::P
HTML::Tagset                                                     => HTML::T
HTML::Tree                                                       => *undef*
HTTP::Body                                                       => HTTP::B
HTTP::Cookies                                                    => HTTP::C
HTTP::Daemon                                                     => HTTP::D
HTTP::Daemon::Patch::IPv6                                        => HTTP::D::P::IPv6
HTTP::Date                                                       => *undef*
HTTP::Headers::Fast                                              => HTTP::H::F
HTTP::Message                                                    => HTTP::M
HTTP::Negotiate                                                  => HTTP::N
HTTP::Parser::XS                                                 => HTTP::P::XS
HTTP::Request::AsCGI                                             => HTTP::R::AsCGI
HTTP::Server::Simple                                             => HTTP::S::S
HTTP::Server::Simple::PSGI                                       => HTTP::S::S::PSGI
HTTP::Thin                                                       => HTTP::T
HTTP::Tiny                                                       => *undef*
Hash::FieldHash                                                  => H::FH
Hash::Merge                                                      => H::M
Hash::Merge::Simple                                              => H::M::S
Hash::MoreUtils                                                  => H::MU
Hash::MultiValue                                                 => H::MV
Hash::Util                                                       => H::U
Hash::Util::FieldHash                                            => H::U::FH
Hook::LexWrap                                                    => H::LexW
I18N::Collate                                                    => I18N::C
I18N::LangTags                                                   => I18N::LT
I18N::LangTags::Detect                                           => I18N::LT::D
I18N::LangTags::List                                             => I18N::LT::L
I18N::Langinfo                                                   => I18N::L
IO::Async                                                        => IO::A
IO::Capture                                                      => IO::C
IO::CaptureOutput                                                => IO::CO
IO::Compress::Adapter::Bzip2                                     => IO::C::A::B2
IO::Compress::Adapter::Deflate                                   => IO::C::A::D
IO::Compress::Adapter::Identity                                  => IO::C::A::I
IO::Compress::Base                                               => IO::C::B
IO::Compress::Base::Common                                       => IO::C::B::C
IO::Compress::Bzip2                                              => IO::C::B2
IO::Compress::Deflate                                            => IO::C::D
IO::Compress::Gzip                                               => IO::C::G
IO::Compress::Gzip::Constants                                    => IO::C::G::C
IO::Compress::RawDeflate                                         => IO::C::RawD
IO::Compress::Zip                                                => IO::C::Zip
IO::Compress::Zip::Constants                                     => IO::C::Zip::C
IO::Compress::Zlib::Constants                                    => IO::C::Z::C
IO::Compress::Zlib::Extra                                        => IO::C::Z::E
IO::Event                                                        => IO::E
IO::File                                                         => IO::F
IO::Handle                                                       => IO::H
IO::Interactive                                                  => IO::I
IO::Pipe                                                         => IO::P
IO::Pipely                                                       => *undef*
IO::Poll                                                         => *undef*
IO::Prompt                                                       => *undef*
IO::Prompt::Tiny                                                 => IO::P::T
IO::Seekable                                                     => IO::S
IO::Select                                                       => *undef*
IO::SessionData                                                  => IO::SD
IO::Socket                                                       => *undef*
IO::Socket::INET                                                 => IO::S::INET
IO::Socket::INET6                                                => IO::S::INET6
IO::Socket::IP                                                   => IO::S::IP
IO::Socket::SSL                                                  => IO::S::SSL
IO::Socket::Timeout                                              => IO::S::T
IO::Socket::UNIX                                                 => IO::S::UNIX
IO::String                                                       => *undef*
IO::Stringy                                                      => *undef*
IO::TieCombine                                                   => IO::TieC
IO::Uncompress::Adapter::Bunzip2                                 => IO::U::A::B2
IO::Uncompress::Adapter::Identity                                => IO::U::A::I
IO::Uncompress::Adapter::Inflate                                 => *undef*
IO::Uncompress::AnyInflate                                       => IO::U::AnyI
IO::Uncompress::AnyUncompress                                    => IO::U::AnyU
IO::Uncompress::Base                                             => IO::U::B
IO::Uncompress::Bunzip2                                          => IO::U::B2
IO::Uncompress::Gunzip                                           => IO::U::G
IO::Uncompress::Inflate                                          => IO::U::I
IO::Uncompress::RawInflate                                       => IO::U::RawI
IO::Uncompress::Unzip                                            => IO::U::U
IO::Zlib                                                         => IO::Z
IP::Country                                                      => IP::C
IPC::Open2                                                       => IPC::O2
IPC::Open3                                                       => IPC::O3
IPC::Semaphore                                                   => IPC::S
IPC::Shareable                                                   => *undef*
IPC::SharedMem                                                   => IPC::SMem
IPv6::Address                                                    => IPv6::A
Import::Into                                                     => I::I
JSON::MaybeXS                                                    => JSON::MXS
JSON::PP::Boolean                                                => JSON::PP::B
LWP::MediaTypes                                                  => LWP::MT
LWP::Protocol::https                                             => LWP::P::h
Lexical::Persistence                                             => L::P
Lexical::SealRequireHints                                        => L::SRH
Lingua::EN::FindNumber                                           => L::EN::FN
Lingua::EN::Inflect                                              => L::EN::I
Lingua::EN::Inflect::Number                                      => L::EN::I::N
Lingua::EN::Inflect::Phrase                                      => L::EN::I::P
Lingua::EN::Number::IsOrdinal                                    => L::EN::N::IsO
Lingua::EN::Sentence                                             => L::EN::S
Lingua::EN::Tagger                                               => L::EN::T
Lingua::EN::Words2Nums                                           => L::EN::W2N
Lingua::PT::Stemmer                                              => L::PT::S
Lingua::Stem                                                     => L::S
Lingua::Stem::Fr                                                 => L::S::Fr
Lingua::Stem::It                                                 => L::S::It
Lingua::Stem::Ru                                                 => L::S::Ru
Lingua::Stem::Snowball::Da                                       => L::S::S::Da
Lingua::Stem::Snowball::No                                       => L::S::S::No
Lingua::Stem::Snowball::Se                                       => L::S::S::Se
List::AllUtils                                                   => L::AllU
List::MoreUtils                                                  => L::MU
List::NSect                                                      => L::NS
List::Util                                                       => L::U
List::Util::XS                                                   => L::U::XS
List::UtilsBy                                                    => L::UBy
Locale::Codes                                                    => L::C
Locale::Codes::Constants                                         => L::C::C
Locale::Codes::Country                                           => *undef*
Locale::Codes::Country_Codes                                     => L::C::CC
Locale::Codes::Country_Retired                                   => L::C::CR
Locale::Codes::Currency                                          => *undef*
Locale::Codes::Currency_Codes                                    => *undef*
Locale::Codes::Currency_Retired                                  => *undef*
Locale::Codes::LangExt                                           => L::C::LExt
Locale::Codes::LangExt_Codes                                     => L::C::LEC
Locale::Codes::LangExt_Retired                                   => L::C::LER
Locale::Codes::LangFam                                           => L::C::LFam
Locale::Codes::LangFam_Codes                                     => L::C::LFC
Locale::Codes::LangFam_Retired                                   => L::C::LFR
Locale::Codes::LangVar                                           => L::C::LVar
Locale::Codes::LangVar_Codes                                     => L::C::LVC
Locale::Codes::LangVar_Retired                                   => L::C::LVR
Locale::Codes::Language                                          => L::C::L
Locale::Codes::Language_Codes                                    => L::C::LC
Locale::Codes::Language_Retired                                  => L::C::LR
Locale::Codes::Script                                            => L::C::S
Locale::Codes::Script_Codes                                      => L::C::SC
Locale::Codes::Script_Retired                                    => L::C::SR
Locale::Country                                                  => *undef*
Locale::Currency                                                 => *undef*
Locale::Language                                                 => L::L
Locale::Maketext                                                 => L::M
Locale::Maketext::Guts                                           => L::M::G
Locale::Maketext::GutsLoader                                     => L::M::GL
Locale::Maketext::Lexicon                                        => L::M::L
Locale::Maketext::Simple                                         => L::M::S
Locale::Script                                                   => *undef*
Log::Contextual                                                  => Log::C
Log::Dispatch                                                    => Log::D
Log::Dispatch::Array                                             => Log::D::A
Log::Dispatchouli                                                => *undef*
Log::Log4perl                                                    => Log::Log4
Log::Message                                                     => Log::M
Log::Message::Simple                                             => Log::M::S
MIME::Base32                                                     => MIME::B32
MIME::Base64                                                     => MIME::B64
MIME::Lite                                                       => MIME::L
MIME::QuotedPrint                                                => MIME::QP
MIME::Tools                                                      => MIME::T
MIME::Types                                                      => *undef*
MRO::Compat                                                      => MRO::C
Math::Base85                                                     => M::B85
Math::BigFloat                                                   => M::BigF
Math::BigFloat::Trace                                            => M::BigF::T
Math::BigInt                                                     => M::BigInt
Math::BigInt::Calc                                               => M::BigInt::C
Math::BigInt::CalcEmu                                            => M::BigInt::CEmu
Math::BigInt::FastCalc                                           => M::BigInt::FC
Math::BigInt::Trace                                              => M::BigInt::T
Math::BigRat                                                     => M::BigRat
Math::Complex                                                    => M::C
Math::GMP                                                        => M::GMP
Math::Pari                                                       => M::P
Math::Trig                                                       => M::T
Memoize::AnyDBM_File                                             => M::AnyDBM_F
Memoize::Expire                                                  => M::E
Memoize::ExpireFile                                              => M::EF
Memoize::ExpireLRU                                               => M::ELRU
Memoize::ExpireTest                                              => M::ET
Memoize::NDBM_File                                               => M::NDBM_F
Memoize::SDBM_File                                               => M::SDBM_F
Memoize::Storable                                                => M::S
Meta::Builder                                                    => M::B
Metabase::Client::Simple                                         => M::C::S
Metabase::Fact                                                   => M::F
Mixin::Linewise                                                  => M::L
Mock::Quick                                                      => M::Q
Modern::Perl                                                     => *undef*
Module::Build                                                    => *undef*
Module::Build::CleanInstall                                      => M::B::CI
Module::Build::Tiny                                              => M::B::T
Module::Build::XSUtil                                            => M::B::XSU
Module::CPANfile                                                 => M::CPAN
Module::CoreList                                                 => M::CL
Module::CoreList::TieHashDelta                                   => M::CL::TieHD
Module::CoreList::Utils                                          => M::CL::U
Module::Faker                                                    => *undef*
Module::Find                                                     => *undef*
Module::Implementation                                           => M::I
Module::Install                                                  => *undef*
Module::Load                                                     => *undef*
Module::Load::Conditional                                        => M::L::C
Module::Loaded                                                   => *undef*
Module::Metadata                                                 => M::M
Module::Metadata::corpus::BOMTest::UTF16BE                       => M::M::c::BOMT::UTF16BE
Module::Metadata::corpus::BOMTest::UTF16LE                       => M::M::c::BOMT::UTF16LE
Module::Metadata::corpus::BOMTest::UTF8                          => M::M::c::BOMT::UTF8
Module::Patch                                                    => *undef*
Module::Path                                                     => *undef*
Module::Pluggable                                                => *undef*
Module::Reader                                                   => M::R
Module::Runtime                                                  => *undef*
Module::Runtime::Conflicts                                       => M::R::C
Module::ScanDeps                                                 => M::SD
Module::Signature                                                => *undef*
Monkey::Patch::Action                                            => M::P::A
MooX::HandlesVia                                                 => MooX::HVia
MooX::Types::MooseLike                                           => MooX::T::ML
MooX::Types::MooseLike::Numeric                                  => MooX::T::ML::N
Moose::Autobox                                                   => M::A
MooseX::Aliases                                                  => MX::A
MooseX::ArrayRef                                                 => MX::ARef
MooseX::ClassAttribute                                           => MX::CA
MooseX::ConfigFromFile                                           => MX::CFF
MooseX::Configuration                                            => MX::C
MooseX::Daemonize                                                => MX::D
MooseX::Emulate::Class::Accessor::Fast                           => MX::E::C::A::F
MooseX::Getopt                                                   => MX::G
MooseX::LazyRequire                                              => MX::LR
MooseX::MarkAsMethods                                            => MX::MAsM
MooseX::MethodAttributes                                         => MX::MA
MooseX::NonMoose                                                 => MX::NonM
MooseX::Object::Pluggable                                        => MX::O::P
MooseX::OneArgNew                                                => MX::OneArgNew
MooseX::Params::Validate                                         => MX::P::V
MooseX::RelatedClassRoles                                        => MX::RCR
MooseX::Role::Parameterized                                      => MX::R::P
MooseX::Role::WithOverloading                                    => MX::R::WO
MooseX::SemiAffordanceAccessor                                   => MX::SAA
MooseX::SetOnce                                                  => MX::SetO
MooseX::SimpleConfig                                             => MX::SC
MooseX::StrictConstructor                                        => *undef*
MooseX::Traits                                                   => MX::T
MooseX::Traits::Pluggable                                        => MX::T::P
MooseX::Types                                                    => *undef*
MooseX::Types::Common                                            => MX::T::C
MooseX::Types::DateTime                                          => MX::T::DT
MooseX::Types::LoadableClass                                     => MX::T::LC
MooseX::Types::Path::Class                                       => MX::T::P::C
MooseX::Types::Path::Tiny                                        => MX::T::P::T
MooseX::Types::Perl                                              => *undef*
MooseX::Types::Stringlike                                        => MX::T::S
MooseX::Types::Structured                                        => *undef*
Moped::Msg                                                       => M::Msg
Mozilla::CA                                                      => M::CA
NDBM_File                                                        => NDBM_F
Net::BGPdump                                                     => *undef*
Net::CIDR::Lite                                                  => Net::CIDR::L
Net::CIDR::Lookup                                                => *undef*
Net::Config                                                      => Net::C
Net::DNS::Resolver::Programmable                                 => Net::DNS::R::P
Net::Domain                                                      => Net::D
Net::FTP::dataconn                                               => Net::FTP::d
Net::Frame                                                       => Net::F
Net::Frame::Layer::ICMPv6                                        => Net::F::L::ICMPv6
Net::Frame::Layer::IPv6                                          => Net::F::L::IPv6
Net::Frame::Layer::SinFP3                                        => Net::F::L::SinFP3
Net::Frame::Simple                                               => Net::F::S
Net::INET6Glue                                                   => Net::INET6G
Net::IP::Lite                                                    => Net::IP::L
Net::IPTrie                                                      => Net::IPT
Net::IPv4Addr                                                    => Net::IPv4A
Net::IPv6Addr                                                    => Net::IPv6A
Net::Netmask                                                     => Net::N
Net::Netrc                                                       => *undef*
Net::Ping                                                        => Net::P
Net::SSLeay                                                      => Net::SSL
Net::Server                                                      => Net::S
Net::Subnet                                                      => *undef*
Net::Telnet                                                      => Net::T
Net::Time                                                        => *undef*
Net::hostent                                                     => Net::h
Net::netent                                                      => Net::n
Net::protoent                                                    => Net::p
Net::servent                                                     => Net::s
NetAddr::IP                                                      => NetA::IP
Number::Compare                                                  => N::C
ODBM_File                                                        => ODBM_F
OLE::Storage_Lite                                                => OLE::SL
OS2::ExtAttr                                                     => OS2::ExtA
OS2::Process                                                     => OS2::P
Object::Signature                                                => O::S
PAR::Dist                                                        => PAR::D
POE::Test::Loops                                                 => POE::T::L
POSIX::strftime::Compiler                                        => POSIX::s::C
PPIx::Regexp                                                     => PPIx::R
PPIx::Utilities                                                  => PPIx::U
Package::DeprecationManager                                      => P::DM
Package::MoreUtil                                                => P::MU
Package::Stash                                                   => P::S
Package::Stash::XS                                               => P::S::XS
Package::Variant                                                 => P::V
PadWalker                                                        => PadW
Parallel::ForkManager                                            => P::FM
Parallel::Iterator                                               => P::I
Parallel::Runner                                                 => P::R
Parallel::WorkUnit                                               => P::WU
Params::Check                                                    => P::C
Params::Util                                                     => P::U
Params::Validate                                                 => *undef*
Parse::CPAN::Meta                                                => P::CPAN::M
Parse::Method::Signatures                                        => P::M::S
Parse::RecDescent                                                => P::RecD
Path::Class                                                      => *undef*
Path::FindDev                                                    => P::FDev
Path::IsDev                                                      => P::IsDev
Path::Tiny                                                       => P::T
Perinci::Sub::Util                                               => P::Sub::U
Perl::Critic                                                     => *undef*
Perl::OSType                                                     => P::OST
Perl::PrereqScanner                                              => P::PS
Perl::Tidy                                                       => *undef*
Perl::Version                                                    => *undef*
Perl::osnames                                                    => P::o
PerlIO                                                           => PIO
PerlIO::encoding                                                 => PIO::e
PerlIO::mmap                                                     => PIO::m
PerlIO::scalar                                                   => PIO::s
PerlIO::utf8_strict                                              => PIO::utf8
PerlIO::via                                                      => PIO::via
PerlIO::via::QuotedPrint                                         => PIO::via::QP
PerlIO::via::Timeout                                             => PIO::via::T
Plack::Middleware::FixMissingBodyInRedirect                      => P::M::FixMBInR
Plack::Middleware::MethodOverride                                => P::M::MO
Plack::Middleware::RemoveRedundantBody                           => P::M::RRB
Plack::Middleware::ReverseProxy                                  => P::M::RP
Plack::Test::ExternalServer                                      => P::T::ES
Pod::Checker                                                     => Pod::C
Pod::Coverage                                                    => *undef*
Pod::Coverage::TrustPod                                          => Pod::C::TPod
Pod::Elemental                                                   => Pod::E
Pod::Elemental::PerlMunger                                       => Pod::E::PM
Pod::Escapes                                                     => *undef*
Pod::Eventual                                                    => *undef*
Pod::Find                                                        => Pod::F
Pod::Functions                                                   => *undef*
Pod::Functions::Functions                                        => Pod::F::F
Pod::Html                                                        => Pod::H
Pod::InputObjects                                                => Pod::IO
Pod::Markdown                                                    => Pod::M
Pod::ParseLink                                                   => Pod::PL
Pod::ParseUtils                                                  => Pod::PU
Pod::Parser                                                      => Pod::P
Pod::Perldoc                                                     => *undef*
Pod::Perldoc::BaseTo                                             => Pod::P::BTo
Pod::Perldoc::GetOptsOO                                          => Pod::P::GetOOO
Pod::Perldoc::ToANSI                                             => Pod::P::ToANSI
Pod::Perldoc::ToChecker                                          => Pod::P::ToC
Pod::Perldoc::ToMan                                              => Pod::P::ToMan
Pod::Perldoc::ToNroff                                            => Pod::P::ToN
Pod::Perldoc::ToPod                                              => Pod::P::ToPod
Pod::Perldoc::ToRtf                                              => Pod::P::ToRtf
Pod::Perldoc::ToTerm                                             => Pod::P::ToT
Pod::Perldoc::ToText                                             => *undef*
Pod::Perldoc::ToTk                                               => Pod::P::ToTk
Pod::Perldoc::ToXml                                              => Pod::P::ToXml
Pod::PlainText                                                   => Pod::PT
Pod::Readme                                                      => Pod::R
Pod::Select                                                      => Pod::S
Pod::Simple                                                      => *undef*
Pod::Simple::BlackBox                                            => Pod::S::BBox
Pod::Simple::Checker                                             => Pod::S::C
Pod::Simple::Debug                                               => Pod::S::D
Pod::Simple::DumpAsText                                          => Pod::S::DAsT
Pod::Simple::DumpAsXML                                           => Pod::S::DAsXML
Pod::Simple::HTML                                                => Pod::S::HTML
Pod::Simple::HTMLBatch                                           => Pod::S::HTMLB
Pod::Simple::HTMLLegacy                                          => Pod::S::HTMLL
Pod::Simple::LaTeX                                               => Pod::S::LaTeX
Pod::Simple::LinkSection                                         => Pod::S::LS
Pod::Simple::Methody                                             => Pod::S::M
Pod::Simple::Progress                                            => Pod::S::P
Pod::Simple::PullParser                                          => Pod::S::PP
Pod::Simple::PullParserEndToken                                  => Pod::S::PPEndT
Pod::Simple::PullParserStartToken                                => Pod::S::PPST
Pod::Simple::PullParserTextToken                                 => Pod::S::PPTT
Pod::Simple::PullParserToken                                     => Pod::S::PPT
Pod::Simple::RTF                                                 => Pod::S::RTF
Pod::Simple::Search                                              => Pod::S::S
Pod::Simple::SimpleTree                                          => Pod::S::ST
Pod::Simple::Text                                                => Pod::S::T
Pod::Simple::TextContent                                         => Pod::S::TC
Pod::Simple::TiedOutFH                                           => Pod::S::TOutFH
Pod::Simple::Transcode                                           => *undef*
Pod::Simple::TranscodeDumb                                       => Pod::S::TD
Pod::Simple::TranscodeSmart                                      => Pod::S::TS
Pod::Simple::XHTML                                               => Pod::S::XHTML
Pod::Simple::XMLOutStream                                        => Pod::S::XMLOutS
Pod::Spell                                                       => *undef*
Pod::Text                                                        => Pod::T
Pod::Text::Color                                                 => Pod::T::C
Pod::Text::Overstrike                                            => Pod::T::O
Pod::Text::Termcap                                               => Pod::T::T
Pod::Usage                                                       => Pod::U
Pod::Weaver                                                      => Pod::W
Probe::Perl                                                      => P::P
Proc::Fork                                                       => P::F
Proc::Terminator                                                 => *undef*
RDF::Core                                                        => RDF::C
RDF::Trine                                                       => RDF::T
Readonly::XS                                                     => R::XS
Regexp::Common                                                   => R::C
Regexp::IPv6                                                     => R::IPv6
Regexp::Stringify                                                => R::S
Role::HasMessage                                                 => R::HasM
Role::Identifiable                                               => R::I
Role::Tiny                                                       => R::T
Router::Simple                                                   => *undef*
SDBM_File                                                        => SDBM_F
SHARYANTO::Utils                                                 => SHARYANTO::U
SOAP::Lite                                                       => SOAP::L
SQL::Abstract                                                    => SQL::A
SQL::Translator                                                  => SQL::T
Safe::Isa                                                        => S::Isa
Scalar::Util                                                     => S::U
Scope::Guard                                                     => S::G
Scope::Upper                                                     => *undef*
Search::Dict                                                     => S::D
SelectSaver                                                      => SS
SelfLoader                                                       => SL
Set::Scalar                                                      => Set::S
Smart::Comments                                                  => S::C
Socket6                                                          => S6
Socket::GetAddrInfo                                              => S::GetAI
Software::License                                                => S::L
Sort::Naturally                                                  => S::N
Sort::Versions                                                   => S::V
Spreadsheet::ParseExcel                                          => S::PE
Spreadsheet::ParseExcel::Simple                                  => S::PE::S
Spreadsheet::WriteExcel                                          => S::WE
Spreadsheet::WriteExcel::Simple                                  => S::WE::S
Stream::Buffered                                                 => S::B
String::CRC32                                                    => S::CRC32
String::CamelCase                                                => S::CC
String::Errf                                                     => S::E
String::Escape                                                   => *undef*
String::Flogger                                                  => S::F
String::Format                                                   => *undef*
String::Formatter                                                => *undef*
String::RewritePrefix                                            => S::RP
String::ShellQuote                                               => S::SQ
String::ToIdentifier::EN                                         => S::ToI::EN
String::Truncate                                                 => S::T
Struct::Dumb                                                     => *undef*
Sub::Delete                                                      => Sub::D
Sub::Exporter                                                    => Sub::E
Sub::Exporter::ForMethods                                        => Sub::E::ForM
Sub::Exporter::GlobExporter                                      => Sub::E::GE
Sub::Exporter::Progressive                                       => Sub::E::P
Sub::Identify                                                    => Sub::I
Sub::Install                                                     => *undef*
Sub::Name                                                        => Sub::N
Sub::Uplevel                                                     => Sub::U
Sub::Util                                                        => *undef*
Syntax::Keyword::Junction                                        => S::K::J
Sys::Hostname                                                    => Sys::H
Sys::Hostname::Long                                              => Sys::H::L
Sys::SigAction                                                   => Sys::SigA
Sys::Syslog                                                      => Sys::S
Sys::Syslog::Win32                                               => Sys::S::Win32
Sysadm::Install                                                  => S::I
TAP::Base                                                        => TAP::B
TAP::Formatter::Base                                             => TAP::F::B
TAP::Formatter::Color                                            => TAP::F::C
TAP::Formatter::Console                                          => *undef*
TAP::Formatter::Console::ParallelSession                         => TAP::F::C::PS
TAP::Formatter::Console::Session                                 => TAP::F::C::S
TAP::Formatter::File                                             => TAP::F::F
TAP::Formatter::File::Session                                    => TAP::F::F::S
TAP::Formatter::Session                                          => TAP::F::S
TAP::Harness                                                     => TAP::H
TAP::Harness::Env                                                => TAP::H::Env
TAP::Object                                                      => TAP::O
TAP::Parser                                                      => TAP::P
TAP::Parser::Aggregator                                          => TAP::P::A
TAP::Parser::Grammar                                             => TAP::P::G
TAP::Parser::Iterator                                            => TAP::P::I
TAP::Parser::Iterator::Array                                     => TAP::P::I::A
TAP::Parser::Iterator::Process                                   => TAP::P::I::P
TAP::Parser::Iterator::Stream                                    => TAP::P::I::S
TAP::Parser::IteratorFactory                                     => TAP::P::IF
TAP::Parser::Multiplexer                                         => TAP::P::M
TAP::Parser::Result                                              => TAP::P::R
TAP::Parser::Result::Bailout                                     => TAP::P::R::B
TAP::Parser::Result::Comment                                     => TAP::P::R::C
TAP::Parser::Result::Plan                                        => TAP::P::R::P
TAP::Parser::Result::Pragma                                      => *undef*
TAP::Parser::Result::Test                                        => TAP::P::R::T
TAP::Parser::Result::Unknown                                     => TAP::P::R::U
TAP::Parser::Result::Version                                     => TAP::P::R::V
TAP::Parser::Result::YAML                                        => TAP::P::R::YAML
TAP::Parser::ResultFactory                                       => TAP::P::RF
TAP::Parser::Scheduler                                           => TAP::P::S
TAP::Parser::Scheduler::Job                                      => TAP::P::S::Job
TAP::Parser::Scheduler::Spinner                                  => TAP::P::S::S
TAP::Parser::Source                                              => *undef*
TAP::Parser::SourceHandler                                       => TAP::P::SH
TAP::Parser::SourceHandler::Executable                           => TAP::P::SH::E
TAP::Parser::SourceHandler::File                                 => TAP::P::SH::F
TAP::Parser::SourceHandler::Handle                               => TAP::P::SH::H
TAP::Parser::SourceHandler::Perl                                 => TAP::P::SH::P
TAP::Parser::SourceHandler::RawTAP                               => TAP::P::SH::RawTAP
TAP::Parser::YAMLish::Reader                                     => TAP::P::YAML::R
TAP::Parser::YAMLish::Writer                                     => TAP::P::YAML::W
Task::CPAN::Reporter                                             => T::CPAN::R
Task::Kensho::Async                                              => T::K::A
Task::Kensho::Config                                             => T::K::C
Task::Kensho::DBDev                                              => T::K::DBDev
Task::Kensho::Dates                                              => T::K::D
Task::Kensho::Email                                              => T::K::E
Task::Kensho::ExcelCSV                                           => T::K::ECSV
Task::Kensho::Exceptions                                         => *undef*
Task::Kensho::Hackery                                            => T::K::H
Task::Kensho::Logging                                            => T::K::L
Task::Kensho::ModuleDev                                          => T::K::MDev
Task::Kensho::OOP                                                => T::K::OOP
Task::Kensho::Scalability                                        => T::K::S
Task::Kensho::Testing                                            => T::K::T
Task::Kensho::Toolchain                                          => *undef*
Task::Kensho::WebCrawling                                        => T::K::WebC
Task::Moose                                                      => T::M
Task::Weaken                                                     => T::W
Template::Timer                                                  => T::T
Template::Tiny                                                   => *undef*
Template::Toolkit::Simple                                        => T::T::S
TemplateM                                                        => TM
Term::ANSIColor                                                  => T::ANSIC
Term::Cap                                                        => T::Cap
Term::Complete                                                   => T::C
Term::EditorEdit                                                 => T::EE
Term::Encoding                                                   => T::E
Term::ProgressBar                                                => T::PBar
Term::ProgressBar::Quiet                                         => T::PBar::Q
Term::ProgressBar::Simple                                        => T::PBar::S
Term::ReadKey                                                    => T::RKey
Term::ReadLine                                                   => T::RL
Term::Size                                                       => T::S
Term::Title                                                      => *undef*
Term::UI                                                         => T::UI
Test::Base                                                       => T::B
Test::Builder                                                    => *undef*
Test::Builder::IO::Scalar                                        => T::B::IO::S
Test::Builder::Module                                            => T::B::M
Test::Builder::Tester                                            => T::B::T
Test::Builder::Tester::Color                                     => T::B::T::C
Test::CPAN::Meta                                                 => T::CPAN::M
Test::CPAN::Meta::JSON                                           => T::CPAN::M::JSON
Test::CPAN::Meta::YAML                                           => T::CPAN::M::YAML
Test::Class                                                      => *undef*
Test::CleanNamespaces                                            => T::CN
Test::CompanionClasses                                           => T::CC
Test::Deep                                                       => T::D
Test::Differences                                                => *undef*
Test::Exception                                                  => *undef*
Test::Exception::LessClever                                      => T::E::LC
Test::Expect                                                     => *undef*
Test::FailWarnings                                               => T::FW
Test::Fatal                                                      => T::F
Test::File                                                       => *undef*
Test::File::ShareDir                                             => T::F::SDir
Test::Files                                                      => *undef*
Test::Harness                                                    => T::H
Test::Identity                                                   => T::I
Test::JSON                                                       => T::JSON
Test::LWP::UserAgent                                             => T::LWP::UA
Test::LeakTrace                                                  => T::LT
Test::LongString                                                 => T::LS
Test::Manifest                                                   => *undef*
Test::Memory::Cycle                                              => T::M::C
Test::Mock::LWP                                                  => T::M::LWP
Test::MockModule                                                 => T::MM
Test::MockObject                                                 => T::MO
Test::MockTime                                                   => T::MT
Test::More                                                       => *undef*
Test::Most                                                       => *undef*
Test::Name::FromLine                                             => T::N::FL
Test::NoWarnings                                                 => T::NoW
Test::Number::Delta                                              => T::N::D
Test::Object                                                     => T::O
Test::Output                                                     => *undef*
Test::Pod                                                        => T::Pod
Test::Pod::Coverage                                              => T::Pod::C
Test::Refcount                                                   => T::R
Test::Reporter                                                   => *undef*
Test::Reporter::Transport::Metabase                              => T::R::T::M
Test::Requires                                                   => *undef*
Test::RequiresInternet                                           => T::RI
Test::SharedFork                                                 => T::SF
Test::Signature                                                  => *undef*
Test::Simple                                                     => *undef*
Test::Spec                                                       => *undef*
Test::Strict                                                     => *undef*
Test::SubCalls                                                   => T::SubC
Test::TCP                                                        => T::TCP
Test::Tester                                                     => *undef*
Test::Tester::Capture                                            => T::T::C
Test::Tester::CaptureRunner                                      => T::T::CR
Test::Tester::Delegate                                           => T::T::D
Test::Time                                                       => *undef*
Test::Trap                                                       => *undef*
Test::WWW::Mechanize                                             => T::WWW::M
Test::WWW::Mechanize::Catalyst                                   => T::WWW::M::C
Test::WWW::Mechanize::PSGI                                       => T::WWW::M::PSGI
Test::WWW::Selenium                                              => T::WWW::S
Test::Warn                                                       => *undef*
Test::Warnings                                                   => *undef*
Test::Without::Module                                            => T::W::M
Test::YAML                                                       => T::YAML
Test::YAML::Meta                                                 => T::YAML::M
Test::YAML::Valid                                                => T::YAML::V
Test::use::ok                                                    => T::use::ok
Test::utf8                                                       => T::utf8
Text::Abbrev                                                     => T::A
Text::Aligner                                                    => *undef*
Text::Autoformat                                                 => *undef*
Text::Balanced                                                   => *undef*
Text::CSV                                                        => T::CSV
Text::CSV_XS                                                     => T::CSV_XS
Text::Clip                                                       => *undef*
Text::Diff                                                       => *undef*
Text::German                                                     => T::G
Text::Glob                                                       => *undef*
Text::Haml                                                       => *undef*
Text::ParseWords                                                 => T::PW
Text::RecordParser                                               => T::RP
Text::Reform                                                     => *undef*
Text::Shellwords                                                 => *undef*
Text::SimpleTable                                                => T::ST
Text::Table                                                      => *undef*
Text::Tabs                                                       => *undef*
Text::TabularDisplay                                             => T::TD
Text::Template                                                   => *undef*
Text::Unidecode                                                  => T::U
Text::Wrap                                                       => *undef*
Thread::Queue                                                    => T::Q
Thread::Semaphore                                                => *undef*
Tie::Array                                                       => Tie::A
Tie::EncryptedHash                                               => Tie::EH
Tie::File                                                        => Tie::F
Tie::Handle                                                      => Tie::H
Tie::Hash                                                        => *undef*
Tie::Hash::NamedCapture                                          => Tie::H::NC
Tie::IxHash                                                      => Tie::IxH
Tie::Memoize                                                     => Tie::M
Tie::RefHash                                                     => Tie::RefH
Tie::Scalar                                                      => Tie::S
Tie::Simple                                                      => *undef*
Tie::StdHandle                                                   => Tie::StdH
Tie::SubstrHash                                                  => Tie::SH
Tie::ToObject                                                    => Tie::ToO
Time::Duration                                                   => *undef*
Time::Duration::Parse                                            => T::D::P
Time::HiRes                                                      => T::HiRes
Time::Interval                                                   => *undef*
Time::Local                                                      => T::L
Time::ParseDate                                                  => T::PD
Time::Piece                                                      => T::P
Time::Seconds                                                    => *undef*
Time::Stopwatch                                                  => *undef*
Time::Tiny                                                       => *undef*
Time::gmtime                                                     => T::g
Time::localtime                                                  => T::l
Time::tm                                                         => T::tm
Tree::Simple                                                     => *undef*
Tree::Simple::VisitorFactory                                     => T::S::VF
Try::Tiny                                                        => Try::T
TryCatch                                                         => TryC
Type::Tie                                                        => T::Tie
Type::Tiny                                                       => *undef*
Type::Tiny::XS                                                   => T::T::XS
Types::Serialiser                                                => *undef*
UNIVERSAL::require                                               => UNIVERSAL::r
URI::Find                                                        => URI::F
UUID::Tiny                                                       => UUID::T
Unicode::Collate                                                 => U::C
Unicode::Collate::CJK::Big5                                      => U::C::CJK::Big5
Unicode::Collate::CJK::GB2312                                    => U::C::CJK::GB2312
Unicode::Collate::CJK::JISX0208                                  => U::C::CJK::JISX0208
Unicode::Collate::CJK::Korean                                    => U::C::CJK::K
Unicode::Collate::CJK::Pinyin                                    => U::C::CJK::P
Unicode::Collate::CJK::Stroke                                    => U::C::CJK::S
Unicode::Collate::CJK::Zhuyin                                    => U::C::CJK::Z
Unicode::Collate::Locale                                         => U::C::L
Unicode::Normalize                                               => U::N
Unicode::UCD                                                     => U::UCD
Unicode::UTF8                                                    => U::UTF8
Unix::Syslog                                                     => U::S
User::grent                                                      => U::g
User::pwent                                                      => U::p
VMS::DCLsym                                                      => VMS::DCL
VMS::Filespec                                                    => VMS::F
VMS::Stdio                                                       => VMS::S
Variable::Magic                                                  => V::M
Version::Util                                                    => V::U
WWW::Mechanize                                                   => WWW::M
WWW::Mechanize::TreeBuilder                                      => WWW::M::TB
WWW::RobotRules                                                  => WWW::RR
Win32API::File                                                   => Win32API::F
Win32API::File::ExtUtils::Myconst2perl                           => Win32API::F::ExtU::M2
XML::CommonNS                                                    => XML::CNS
XML::Filter::BufferText                                          => XML::F::BT
XML::Generator::PerlData                                         => XML::G::PD
XML::Namespace                                                   => XML::N
XML::NamespaceFactory                                            => XML::NF
XML::NamespaceSupport                                            => XML::NS
XML::Parser                                                      => XML::P
XML::Parser::Lite                                                => XML::P::L
XML::SAX::Base                                                   => XML::SAX::B
XML::SAX::Writer                                                 => XML::SAX::W
XML::Simple                                                      => XML::S
XML::Writer                                                      => XML::W
XML::XPath                                                       => XML::XP
XS::APItest                                                      => XS::API
XS::Typemap                                                      => XS::T
XSLoader                                                         => XSL
YAML::Syck                                                       => YAML::S
YAML::Tiny                                                       => YAML::T
autodie::Scope::Guard                                            => a::S::G
autodie::Scope::GuardStack                                       => a::S::GS
autodie::ScopeUtil                                               => a::SU
autodie::Util                                                    => a::U
autodie::exception                                               => a::e
autodie::exception::system                                       => a::e::s
autodie::hints                                                   => a::h
autodie::skip                                                    => a::s
bareword::filehandles                                            => b::f
common::sense                                                    => c::s
encoding::warnings                                               => e::w
libxml-perl                                                      => l-p
local::lib                                                       => l::lib
lsid::perl                                                       => l::p
namespace::autoclean                                             => n::a
namespace::clean                                                 => n::c
overload::numbers                                                => o::n
threads::shared                                                  => t::s
unicore::Name                                                    => u::N
version::regex                                                   => v::r
version::vpp                                                     => v::vpp
warnings::register                                               => w::r
t/10-check.t ................. ok
t/author-critic.t ............ skipped: these tests are for testing by the author
t/author-test-eol.t .......... skipped: these tests are for testing by the author
t/release-cpan-changes.t ..... skipped: these tests are for release candidate testing
t/release-dist-manifest.t .... skipped: these tests are for release candidate testing
t/release-distmeta.t ......... skipped: these tests are for release candidate testing
t/release-kwalitee.t ......... skipped: these tests are for release candidate testing
t/release-minimum-version.t .. skipped: these tests are for release candidate testing
t/release-mojibake.t ......... skipped: these tests are for release candidate testing
t/release-no-tabs.t .......... skipped: these tests are for release candidate testing
t/release-pod-coverage.t ..... skipped: these tests are for release candidate testing
t/release-pod-linkcheck.t .... skipped: these tests are for release candidate testing
t/release-pod-syntax.t ....... skipped: these tests are for release candidate testing
t/release-portability.t ...... skipped: these tests are for release candidate testing
t/release-test-version.t ..... skipped: these tests are for release candidate testing
t/release-unused-vars.t ...... skipped: these tests are for release candidate testing
All tests successful.
Files=18, Tests=4, 18 wallclock secs ( 0.04 usr  0.01 sys +  1.21 cusr  0.20 csys =  1.46 CPU)
Result: PASS

------------------------------
PREREQUISITES
------------------------------

Prerequisite modules loaded:

requires:

    Module              Need Have      
    ------------------- ---- ----------
    File::HomeDir       0    1.00      
    List::MoreUtils     0    0.413     
    Module::CoreList    0    5.20150620

build_requires:

    Module              Need Have      
    ------------------- ---- ----------
    ExtUtils::MakeMaker 0    7.04_01   

configure_requires:

    Module              Need Have      
    ------------------- ---- ----------
    ExtUtils::MakeMaker 6.30 7.04_01   


------------------------------
ENVIRONMENT AND OTHER CONTEXT
------------------------------

Environment variables:

    AUTOMATED_TESTING = 1
    LANG = en_US.UTF-8
    NONINTERACTIVE_TESTING = 1
    PATH = /home/perltest/perl5/perlbrew/bin:/home/perltest/perl5/perlbrew/perls/perl-5.23.0/bin:/usr/local/sbin:/usr/local/bin:/usr/sbin:/usr/bin:/sbin:/bin:/usr/games:/usr/local/games
    PERL5LIB = 
    PERL5OPT = 
    PERL5_CPANPLUS_IS_RUNNING = 7735
    PERL5_CPAN_IS_RUNNING = 7735
    PERL5_CPAN_IS_RUNNING_IN_RECURSION = 13621,7735
    PERLBREW_BASHRC_VERSION = 0.73
    PERLBREW_HOME = /home/perltest/.perlbrew
    PERLBREW_MANPATH = /home/perltest/perl5/perlbrew/perls/perl-5.23.0/man
    PERLBREW_PATH = /home/perltest/perl5/perlbrew/bin:/home/perltest/perl5/perlbrew/perls/perl-5.23.0/bin
    PERLBREW_PERL = perl-5.23.0
    PERLBREW_ROOT = /home/perltest/perl5/perlbrew
    PERLBREW_VERSION = 0.73
    PERL_CR_SMOKER_CURRENT = Acme-TLDR-0.004
    PERL_EXTUTILS_AUTOINSTALL = --defaultdeps
    PERL_MM_USE_DEFAULT = 1
    SHELL = /bin/bash
    TERM = screen

Perl special variables (and OS-specific diagnostics, for MSWin32):

    $^X = /data/perl5/perlbrew/perls/perl-5.23.0/bin/perl5.23.0
    $UID/$EUID = 2000 / 2000
    $GID = 2000 2000
    $EGID = 2000 2000

Perl module toolchain versions installed:

    Module              Have    
    ------------------- --------
    CPAN                2.11    
    CPAN::Meta          2.150005
    Cwd                 3.56    
    ExtUtils::CBuilder  0.280223
    ExtUtils::Command   1.20    
    ExtUtils::Install   2.04    
    ExtUtils::MakeMaker 7.04_01 
    ExtUtils::Manifest  1.70    
    ExtUtils::ParseXS   3.28    
    File::Spec          3.56    
    JSON                2.90    
    JSON::PP            2.27300 
    Module::Build       0.4214  
    Module::Signature   0.79    
    Parse::CPAN::Meta   1.4417  
    Test::Harness       3.35    
    Test::More          1.001014
    YAML                1.15    
    YAML::Syck          1.29    
    version             0.9909  


--

Summary of my perl5 (revision 5 version 23 subversion 0) configuration:
   
  Platform:
    osname=linux, osvers=3.19.0-18-generic, archname=x86_64-linux
    uname='linux perltest 3.19.0-18-generic #18-ubuntu smp tue may 19 18:31:35 utc 2015 x86_64 x86_64 x86_64 gnulinux '
    config_args='-de -Dprefix=/home/perltest/perl5/perlbrew/perls/perl-5.23.0 -Dusedevel -Aeval:scriptdir=/home/perltest/perl5/perlbrew/perls/perl-5.23.0/bin'
    hint=recommended, useposix=true, d_sigaction=define
    useithreads=undef, usemultiplicity=undef
    use64bitint=define, use64bitall=define, uselongdouble=undef
    usemymalloc=n, bincompat5005=undef
  Compiler:
    cc='cc', ccflags ='-fwrapv -fno-strict-aliasing -pipe -fstack-protector-strong -I/usr/local/include -D_LARGEFILE_SOURCE -D_FILE_OFFSET_BITS=64',
    optimize='-O2',
    cppflags='-fwrapv -fno-strict-aliasing -pipe -fstack-protector-strong -I/usr/local/include'
    ccversion='', gccversion='4.9.2', gccosandvers=''
    intsize=4, longsize=8, ptrsize=8, doublesize=8, byteorder=12345678, doublekind=3
    d_longlong=define, longlongsize=8, d_longdbl=define, longdblsize=16, longdblkind=3
    ivtype='long', ivsize=8, nvtype='double', nvsize=8, Off_t='off_t', lseeksize=8
    alignbytes=8, prototype=define
  Linker and Libraries:
    ld='cc', ldflags =' -fstack-protector-strong -L/usr/local/lib'
    libpth=/usr/local/lib /usr/lib/gcc/x86_64-linux-gnu/4.9/include-fixed /usr/include/x86_64-linux-gnu /usr/lib /lib/x86_64-linux-gnu /lib/../lib /usr/lib/x86_64-linux-gnu /usr/lib/../lib /lib
    libs=-lpthread -lnsl -ldl -lm -lcrypt -lutil -lc
    perllibs=-lpthread -lnsl -ldl -lm -lcrypt -lutil -lc
    libc=libc-2.21.so, so=so, useshrplib=false, libperl=libperl.a
    gnulibc_version='2.21'
  Dynamic Linking:
    dlsrc=dl_dlopen.xs, dlext=so, d_dlsymun=undef, ccdlflags='-Wl,-E'
    cccdlflags='-fPIC', lddlflags='-shared -O2 -L/usr/local/lib -fstack-protector-strong'


Characteristics of this binary (from libperl): 
  Compile-time options: HAS_TIMES PERLIO_LAYERS PERL_DONT_CREATE_GVSV
                        PERL_HASH_FUNC_ONE_AT_A_TIME_HARD PERL_MALLOC_WRAP
                        PERL_NEW_COPY_ON_WRITE PERL_PRESERVE_IVUV
                        PERL_USE_DEVEL USE_64_BIT_ALL USE_64_BIT_INT
                        USE_LARGE_FILES USE_LOCALE USE_LOCALE_COLLATE
                        USE_LOCALE_CTYPE USE_LOCALE_NUMERIC USE_LOCALE_TIME
                        USE_PERLIO USE_PERL_ATOF
  Locally applied patches:
	Devel::PatchPerl 1.38
  Built under linux
  Compiled at Jul 14 2015 18:20:06
  %ENV:
    PERL5LIB=""
    PERL5OPT=""
    PERL5_CPANPLUS_IS_RUNNING="7735"
    PERL5_CPAN_IS_RUNNING="7735"
    PERL5_CPAN_IS_RUNNING_IN_RECURSION="13621,7735"
    PERLBREW_BASHRC_VERSION="0.73"
    PERLBREW_HOME="/home/perltest/.perlbrew"
    PERLBREW_MANPATH="/home/perltest/perl5/perlbrew/perls/perl-5.23.0/man"
    PERLBREW_PATH="/home/perltest/perl5/perlbrew/bin:/home/perltest/perl5/perlbrew/perls/perl-5.23.0/bin"
    PERLBREW_PERL="perl-5.23.0"
    PERLBREW_ROOT="/home/perltest/perl5/perlbrew"
    PERLBREW_VERSION="0.73"
    PERL_CR_SMOKER_CURRENT="Acme-TLDR-0.004"
    PERL_EXTUTILS_AUTOINSTALL="--defaultdeps"
    PERL_MM_USE_DEFAULT="1"
  @INC:
    /home/perltest/perl5/perlbrew/perls/perl-5.23.0/lib/site_perl/5.23.0/x86_64-linux
    /home/perltest/perl5/perlbrew/perls/perl-5.23.0/lib/site_perl/5.23.0
    /home/perltest/perl5/perlbrew/perls/perl-5.23.0/lib/5.23.0/x86_64-linux
    /home/perltest/perl5/perlbrew/perls/perl-5.23.0/lib/5.23.0
    .