Report for Dist-Zilla-Plugin-CopyFilesFromBuild-0.103510

Back
From: metabase:user:9762ed18-1c33-11e1-8beb-fb37bdc4c604
Subject: PASS Dist-Zilla-Plugin-CopyFilesFromBuild-0.103510 v5.18.0 GNU/Linux
Date: 2014-07-08T08:45:17Z

This distribution has been tested as part of the CPAN Testers
project, supporting the Perl programming language.  See
http://wiki.cpantesters.org/ for more information or email
questions to cpan-testers-discuss@perl.org


--
Dear Ryan C. Thompson,

This is a computer-generated report for Dist-Zilla-Plugin-CopyFilesFromBuild-0.103510
on perl 5.18.0, created by CPAN-Reporter-1.2011.

Thank you for uploading your work to CPAN.  Congratulations!
All tests were successful.

Sections of this report:

    * Tester comments
    * Program output
    * Prerequisites
    * Environment and other context

------------------------------
TESTER COMMENTS
------------------------------

Additional comments from tester:

none provided

------------------------------
PROGRAM OUTPUT
------------------------------

Output from '/usr/bin/make test':

PERL_DL_NONLAZY=1 /home/kevin/perl5/perlbrew/perls/perl-5.18.0/bin/perl "-MExtUtils::Command::MM" "-MTest::Harness" "-e" "undef *Test::Harness::Switches; test_harness(0, 'blib/lib', 'blib/arch')" t/*.t
t/00-compile.t ............ ok
# Testing with Perl 5.018000, /home/kevin/perl5/perlbrew/perls/perl-5.18.0/bin/perl
#     Carp version is 1.3301
#     Dist::Zilla::Role::AfterBuild version is 5.019
#     English version is 1.06
#     ExtUtils::MakeMaker version is 6.98
#     File::Copy version is 2.26
#     File::Find version is 1.23
#     File::Temp version is 0.2304
#     List::AllUtils version is 0.08
#     Moose version is 2.1209
#     Moose::Autobox version is 0.15
#     MooseX::Has::Sugar version is 1.000001
#     Scalar::Util version is 1.39
#     Set::Scalar version is 1.29
#     Test::More version is 1.001003
#     utf8 version is 1.10
t/000-report-versions.t ... ok
t/author-critic.t ......... skipped: these tests are for testing by the author
t/release-has-version.t ... skipped: these tests are for release candidate testing
t/release-kwalitee.t ...... skipped: these tests are for release candidate testing
t/release-pod-coverage.t .. skipped: these tests are for release candidate testing
t/release-pod-syntax.t .... skipped: these tests are for release candidate testing
t/release-portability.t ... skipped: these tests are for release candidate testing
t/release-unused-vars.t ... skipped: these tests are for release candidate testing
All tests successful.
Files=9, Tests=16,  3 wallclock secs ( 0.09 usr  0.03 sys +  2.55 cusr  0.14 csys =  2.81 CPU)
Result: PASS

------------------------------
PREREQUISITES
------------------------------

Prerequisite modules loaded:

requires:

    Module                        Need  Have    
    ----------------------------- ----- --------
    Dist::Zilla::Role::AfterBuild 0     5.019   
    File::Copy                    0     2.26    
    List::AllUtils                0     0.08    
    Moose                         0     2.1209  
    Moose::Autobox                0     0.15    
    MooseX::Has::Sugar            0     1.000001
    Set::Scalar                   0     1.29    
    utf8                          0     1.10    

build_requires:

    Module                        Need  Have    
    ----------------------------- ----- --------
    Carp                          0     1.3301  
    English                       0     1.06    
    File::Find                    0     1.23    
    File::Temp                    0     0.2304  
    perl                          5.004 5.018000
    Scalar::Util                  0     1.39    
    Test::More                    0.94  1.001003

configure_requires:

    Module                        Need  Have    
    ----------------------------- ----- --------
    ExtUtils::MakeMaker           6.31  6.98    


------------------------------
ENVIRONMENT AND OTHER CONTEXT
------------------------------

Environment variables:

    LANG = en_GB.UTF-8
    LANGUAGE = en_GB:en
    LC_COLLATE = en_GB.UTF-8
    LC_CTYPE = en_GB.UTF-8
    LC_MESSAGES = en_GB.UTF-8
    LC_TIME = en_DK.utf8
    PATH = /home/kevin/perl5/perlbrew/bin:/home/kevin/perl5/perlbrew/perls/perl-5.18.0/bin:/home/kevin/perl5/perlbrew/bin:/home/kevin/perl5/perlbrew/perls/perl-5.21.1/bin:/home/kevin/bin:/usr/local/sbin:/usr/local/bin:/usr/sbin:/usr/bin:/sbin:/bin:/usr/games:/usr/local/games
    PERL5LIB = 
    PERL5OPT = 
    PERL5_CPANPLUS_IS_RUNNING = 12850
    PERL5_CPAN_IS_RUNNING = 12850
    PERLBREW_BASHRC_VERSION = 0.61
    PERLBREW_HOME = /home/kevin/.perlbrew
    PERLBREW_MANPATH = /home/kevin/perl5/perlbrew/perls/perl-5.18.0/man
    PERLBREW_PATH = /home/kevin/perl5/perlbrew/bin:/home/kevin/perl5/perlbrew/perls/perl-5.18.0/bin
    PERLBREW_PERL = perl-5.18.0
    PERLBREW_ROOT = /home/kevin/perl5/perlbrew
    PERLBREW_VERSION = 0.61
    SHELL = /bin/bash
    TERM = screen

Perl special variables (and OS-specific diagnostics, for MSWin32):

    $^X = /home/kevin/perl5/perlbrew/perls/perl-5.18.0/bin/perl
    $UID/$EUID = 1001 / 1001
    $GID = 1001 4 20 21 24 25 26 29 30 39 40 44 46 104 105 112 119 122 132 1000 1001
    $EGID = 1001 4 20 21 24 25 26 29 30 39 40 44 46 104 105 112 119 122 132 1000 1001

Perl module toolchain versions installed:

    Module              Have    
    ------------------- --------
    CPAN                2.05    
    CPAN::Meta          2.141520
    Cwd                 3.47    
    ExtUtils::CBuilder  0.280216
    ExtUtils::Command   1.18    
    ExtUtils::Install   1.68    
    ExtUtils::MakeMaker 6.98    
    ExtUtils::Manifest  1.63    
    ExtUtils::ParseXS   3.24    
    File::Spec          3.47    
    JSON                2.90    
    JSON::PP            2.27203 
    Module::Build       0.4205  
    Module::Signature   n/a     
    Parse::CPAN::Meta   1.4414  
    Test::Harness       3.32    
    Test::More          1.001003
    YAML                0.95    
    YAML::Syck          n/a     
    version             0.9908  


--

Summary of my perl5 (revision 5 version 18 subversion 0) configuration:
   
  Platform:
    osname=linux, osvers=3.8.0-20-generic, archname=i686-linux-thread-multi
    uname='linux vinny 3.8.0-20-generic #31-ubuntu smp mon may 6 17:03:18 utc 2013 i686 i686 i686 gnulinux '
    config_args='-de -Dprefix=/home/kevin/perl5/perlbrew/perls/perl-5.18.0 -Dusethreads -Aeval:scriptdir=/home/kevin/perl5/perlbrew/perls/perl-5.18.0/bin'
    hint=recommended, useposix=true, d_sigaction=define
    useithreads=define, usemultiplicity=define
    useperlio=define, d_sfio=undef, uselargefiles=define, usesocks=undef
    use64bitint=undef, use64bitall=undef, uselongdouble=undef
    usemymalloc=n, bincompat5005=undef
  Compiler:
    cc='cc', ccflags ='-D_REENTRANT -D_GNU_SOURCE -fno-strict-aliasing -pipe -fstack-protector -I/usr/local/include -D_LARGEFILE_SOURCE -D_FILE_OFFSET_BITS=64',
    optimize='-O2',
    cppflags='-D_REENTRANT -D_GNU_SOURCE -fno-strict-aliasing -pipe -fstack-protector -I/usr/local/include'
    ccversion='', gccversion='4.7.3', gccosandvers=''
    intsize=4, longsize=4, ptrsize=4, doublesize=8, byteorder=1234
    d_longlong=define, longlongsize=8, d_longdbl=define, longdblsize=12
    ivtype='long', ivsize=4, nvtype='double', nvsize=8, Off_t='off_t', lseeksize=8
    alignbytes=4, prototype=define
  Linker and Libraries:
    ld='cc', ldflags =' -fstack-protector -L/usr/local/lib'
    libpth=/usr/local/lib /lib/i386-linux-gnu /lib/../lib /usr/lib/i386-linux-gnu /usr/lib/../lib /lib /usr/lib
    libs=-lnsl -ldl -lm -lcrypt -lutil -lpthread -lc
    perllibs=-lnsl -ldl -lm -lcrypt -lutil -lpthread -lc
    libc=, so=so, useshrplib=false, libperl=libperl.a
    gnulibc_version='2.17'
  Dynamic Linking:
    dlsrc=dl_dlopen.xs, dlext=so, d_dlsymun=undef, ccdlflags='-Wl,-E'
    cccdlflags='-fPIC', lddlflags='-shared -O2 -L/usr/local/lib -fstack-protector'


Characteristics of this binary (from libperl): 
  Compile-time options: HAS_TIMES MULTIPLICITY PERLIO_LAYERS
                        PERL_DONT_CREATE_GVSV
                        PERL_HASH_FUNC_ONE_AT_A_TIME_HARD
                        PERL_IMPLICIT_CONTEXT PERL_MALLOC_WRAP
                        PERL_PRESERVE_IVUV PERL_SAWAMPERSAND USE_ITHREADS
                        USE_LARGE_FILES USE_LOCALE USE_LOCALE_COLLATE
                        USE_LOCALE_CTYPE USE_LOCALE_NUMERIC USE_PERLIO
                        USE_PERL_ATOF USE_REENTRANT_API
  Built under linux
  Compiled at May 18 2013 19:23:58
  %ENV:
    PERL5LIB=""
    PERL5OPT=""
    PERL5_CPANPLUS_IS_RUNNING="12850"
    PERL5_CPAN_IS_RUNNING="12850"
    PERLBREW_BASHRC_VERSION="0.61"
    PERLBREW_HOME="/home/kevin/.perlbrew"
    PERLBREW_MANPATH="/home/kevin/perl5/perlbrew/perls/perl-5.18.0/man"
    PERLBREW_PATH="/home/kevin/perl5/perlbrew/bin:/home/kevin/perl5/perlbrew/perls/perl-5.18.0/bin"
    PERLBREW_PERL="perl-5.18.0"
    PERLBREW_ROOT="/home/kevin/perl5/perlbrew"
    PERLBREW_VERSION="0.61"
  @INC:
    /home/kevin/perl5/perlbrew/perls/perl-5.18.0/lib/site_perl/5.18.0/i686-linux-thread-multi
    /home/kevin/perl5/perlbrew/perls/perl-5.18.0/lib/site_perl/5.18.0
    /home/kevin/perl5/perlbrew/perls/perl-5.18.0/lib/5.18.0/i686-linux-thread-multi
    /home/kevin/perl5/perlbrew/perls/perl-5.18.0/lib/5.18.0
    .