Back
From: metabase:user:320bfe00-2aae-11df-837a-5e0a49663a4f
Subject: PASS Music-Tag-0.4103 v5.13.1 GNU/Linux
Date: 2010-10-02T10:24:05Z
This distribution has been tested as part of the CPAN Testers
project, supporting the Perl programming language. See
http://wiki.cpantesters.org/ for more information or email
questions to cpan-testers-discuss@perl.org
--
Dear Edward J. Allen III,
This is a computer-generated report for Music-Tag-0.4103
on perl 5.13.1, created by CPAN-Reporter-1.1803.
Thank you for uploading your work to CPAN. Congratulations!
All tests were successful.
Sections of this report:
* Tester comments
* Program output
* Prerequisites
* Environment and other context
------------------------------
TESTER COMMENTS
------------------------------
Additional comments from tester:
this report is from an automated smoke testing program
and was not reviewed by a human for accuracy
------------------------------
PROGRAM OUTPUT
------------------------------
Output from '/usr/bin/make test':
PERL_DL_NONLAZY=1 /home/src/perl/repoperls/installed-perls/perl/v5.13.1-40-gc4a6534/bin/perl "-MExtUtils::Command::MM" "-e" "test_harness(0, 'blib/lib', 'blib/arch')" t/*.t
t/1-general.t ........ ok
t/2-options.t ........ ok
Music::Tag::Auto Sorry, I can't find a plugin for /home/sand/.cpan/build/Music-Tag-0.4103-kgGW7R/t/fake.music at /home/sand/.cpan/build/Music-Tag-0.4103-kgGW7R/blib/lib/Music/Tag.pm line 146
t/3-auto.t ........... ok
t/5-generic.t ........ ok
t/6-unaccent.t ....... skipped: Text::Unaccent::PurePerl required for testing accent changes
t/97-pod.t ........... ok
t/98-pod-coverage.t .. ok
All tests successful.
Files=7, Tests=249, 2 wallclock secs ( 0.05 usr 0.01 sys + 1.96 cusr 0.16 csys = 2.18 CPU)
Result: PASS
------------------------------
PREREQUISITES
------------------------------
Prerequisite modules loaded:
requires:
Module Need Have
------------------- ------ ---------
Config::Options 0.07 0.08
Data::Dumper 2 2.128
DateTimeX::Easy 0.088 0.089
Digest::SHA1 2.11 2.12
Encode 2.12 2.40
File::Copy 2 2.18
File::Slurp 1 9999.13
File::Spec 3.24 3.33
File::stat 1 1.02
IO::Dir 1 1.07
IO::File 1.13 1.14
Locale::Country 2.07 3.14
Readonly 1 1.03
Scalar::Util 1.21 1.23
Test::More 0.1 0.96
Time::Local 1.1901 1.1901_01
configure_requires:
Module Need Have
------------------- ------ ---------
ExtUtils::MakeMaker 0 6.5601
------------------------------
ENVIRONMENT AND OTHER CONTEXT
------------------------------
Environment variables:
AUTOMATED_TESTING = 1
LANG = en_US.UTF-8
PATH = /home/sand/bin:/usr/local/bin:/usr/bin:/bin:/usr/bin/X11:/usr/games:/usr/local/perl/bin:/usr/X11/bin:/sbin:/usr/sbin
PERL5LIB =
PERL5OPT =
PERL5_CPANPLUS_IS_RUNNING = 4883
PERL5_CPAN_IS_RUNNING = 4883
PERL_MM_USE_DEFAULT = 1
SHELL = /usr/bin/zsh
TERM = screen
Perl special variables (and OS-specific diagnostics, for MSWin32):
$^X = /home/src/perl/repoperls/installed-perls/perl/v5.13.1-40-gc4a6534/bin/perl
$UID/$EUID = 1001 / 1001
$GID = 1001 1001
$EGID = 1001 1001
Perl module toolchain versions installed:
Module Have
------------------- -------
CPAN 1.94_60
Cwd 3.33
ExtUtils::CBuilder 0.27_07
ExtUtils::Command 1.16
ExtUtils::Install 1.55
ExtUtils::MakeMaker 6.5601
ExtUtils::Manifest 1.58
ExtUtils::ParseXS 2.2205
File::Spec 3.33
Module::Build 0.3607
Module::Signature 0.66
Test::Harness 3.22
Test::More 0.96
YAML 0.72
YAML::Syck 1.15
version 0.82
--
Summary of my perl5 (revision 5 version 13 subversion 1) configuration:
Commit id: c4a6534165d0545c5a1273d7febaa02f28023972
Platform:
osname=linux, osvers=2.6.32-2-amd64, archname=x86_64-linux-ld
uname='linux k81 2.6.32-2-amd64 #1 smp fri feb 12 00:01:47 utc 2010 x86_64 gnulinux '
config_args='-Dprefix=/home/src/perl/repoperls/installed-perls/perl/v5.13.1-40-gc4a6534 -Dinstallusrbinperl=n -Uversiononly -Dusedevel -Duselongdouble -des -Ui_db'
hint=recommended, useposix=true, d_sigaction=define
useithreads=undef, usemultiplicity=undef
useperlio=define, d_sfio=undef, uselargefiles=define, usesocks=undef
use64bitint=define, use64bitall=define, uselongdouble=define
usemymalloc=n, bincompat5005=undef
Compiler:
cc='cc', ccflags ='-fno-strict-aliasing -pipe -fstack-protector -I/usr/local/include -D_LARGEFILE_SOURCE -D_FILE_OFFSET_BITS=64',
optimize='-O2',
cppflags='-fno-strict-aliasing -pipe -fstack-protector -I/usr/local/include'
ccversion='', gccversion='4.4.3', gccosandvers=''
intsize=4, longsize=8, ptrsize=8, doublesize=8, byteorder=12345678
d_longlong=define, longlongsize=8, d_longdbl=define, longdblsize=16
ivtype='long', ivsize=8, nvtype='long double', nvsize=16, Off_t='off_t', lseeksize=8
alignbytes=16, prototype=define
Linker and Libraries:
ld='cc', ldflags =' -fstack-protector -L/usr/local/lib'
libpth=/usr/local/lib /lib /usr/lib /lib64 /usr/lib64
libs=-lnsl -lgdbm -ldb -ldl -lm -lcrypt -lutil -lc -lgdbm_compat
perllibs=-lnsl -ldl -lm -lcrypt -lutil -lc
libc=/lib/libc-2.10.2.so, so=so, useshrplib=false, libperl=libperl.a
gnulibc_version='2.10.2'
Dynamic Linking:
dlsrc=dl_dlopen.xs, dlext=so, d_dlsymun=undef, ccdlflags='-Wl,-E'
cccdlflags='-fPIC', lddlflags='-shared -O2 -L/usr/local/lib -fstack-protector'
Characteristics of this binary (from libperl):
Compile-time options: PERL_DONT_CREATE_GVSV PERL_MALLOC_WRAP PERL_USE_DEVEL
USE_64_BIT_ALL USE_64_BIT_INT USE_LARGE_FILES
USE_LONG_DOUBLE USE_PERLIO USE_PERL_ATOF
Built under linux
Compiled at May 24 2010 05:35:47
%ENV:
PERL5LIB=""
PERL5OPT=""
PERL5_CPANPLUS_IS_RUNNING="4883"
PERL5_CPAN_IS_RUNNING="4883"
PERL_MM_USE_DEFAULT="1"
@INC:
/home/src/perl/repoperls/installed-perls/perl/v5.13.1-40-gc4a6534/lib/site_perl/5.13.1/x86_64-linux-ld
/home/src/perl/repoperls/installed-perls/perl/v5.13.1-40-gc4a6534/lib/site_perl/5.13.1
/home/src/perl/repoperls/installed-perls/perl/v5.13.1-40-gc4a6534/lib/5.13.1/x86_64-linux-ld
/home/src/perl/repoperls/installed-perls/perl/v5.13.1-40-gc4a6534/lib/5.13.1
.