AnyEvent-Filesys-Notify v1.21 Perl 5 v5.27.3 amd64-freebsd

Status
Pass
From
Slaven Rezić (SREZIC)
Dist
AnyEvent-Filesys-Notify v1.21
Platform
Perl 5 v5.27.3 amd64-freebsd
Date
2017-09-24 07:15:46
ID
2f3f7bb6-a0f8-11e7-a2ac-b990ac3bd00c
This distribution has been tested as part of the CPAN Testers
project, supporting the Perl programming language.  See
http://wiki.cpantesters.org/ for more information or email
questions to cpan-testers-discuss@perl.org


--
Dear Mark Grimes,

This is a computer-generated report for AnyEvent-Filesys-Notify-1.21
on perl 5.27.3, created by CPAN-Reporter-1.2018.

Thank you for uploading your work to CPAN.  Congratulations!
All tests were successful.

Sections of this report:

    * Tester comments
    * Program output
    * Prerequisites
    * Environment and other context

------------------------------
TESTER COMMENTS
------------------------------

Additional comments from tester:

none provided

------------------------------
PROGRAM OUTPUT
------------------------------

Output from './Build test':

t/00-load.t ................ ok
t/10-plugins.t ............. ok
t/11-plugin-default.t ...... ok
t/20-scan_fs.t ............. ok
t/21-scan_fs_links.t ....... ok
# This might take a few seconds to run...
t/30-event.t ............... ok
# This might take a few seconds to run...
t/31-notify-fallback.t ..... ok
# This might take a few seconds to run...
t/32-specify-backend.t ..... ok
t/33-specify-kqueue.t ...... skipped: Test only on Mac with IO::KQueue
# This might take a few seconds to run...
t/34-parse_events.t ........ ok
t/40-bugs.t ................ ok
t/41-bug-modified-in-cb.t .. ok
All tests successful.
Files=12, Tests=93, 16 wallclock secs ( 0.05 usr  0.02 sys +  1.69 cusr  0.40 csys =  2.15 CPU)
Result: PASS

------------------------------
PREREQUISITES
------------------------------

Prerequisite modules loaded:

requires:

    Module                       Need     Have    
    ---------------------------- -------- --------
    AnyEvent                     7.05     7.14    
    Carp                         1.20     1.43    
    Cwd                          3.40     3.68    
    IO::KQueue                   0.34     0.34    
    Moo                          1.003001 2.003002
    MooX::late                   0.014    0.015   
    MooX::Types::MooseLike::Base 0.25     0.29    
    namespace::autoclean         0.24     0.28    
    Path::Iterator::Rule         1.005    1.012   
    perl                         5.006    5.027003
    Try::Tiny                    0.18     0.28    

build_requires:

    Module                       Need     Have    
    ---------------------------- -------- --------
    autodie                      0        2.29    
    Data::Dump                   0        1.23    
    Exporter                     0        5.72    
    File::Basename               0        2.85    
    File::Find                   0        1.34    
    File::Path                   0        2.14    
    File::Spec                   0        3.68    
    File::Temp                   0        0.2304  
    Test::Exception              0        0.43    
    Test::More                   0.87     1.302096
    Test::Without::Module        0        0.20    

configure_requires:

    Module                       Need     Have    
    ---------------------------- -------- --------
    Module::Build                0.4004   0.4224  


------------------------------
ENVIRONMENT AND OTHER CONTEXT
------------------------------

Environment variables:

    PATH = /usr/local/bin:/usr/bin:/bin:/usr/local/sbin:/usr/sbin:/sbin:/home/cpansand/bin/freebsd11.0:/home/cpansand/bin/sh:/home/cpansand/bin:/usr/games:/home/cpansand/devel:/home/eserte/src/srezic-misc/scripts
    PERL5LIB = /home/cpansand/.cpan/build/2017092412/IO-KQueue-0.34-3/blib/arch:/home/cpansand/.cpan/build/2017092412/IO-KQueue-0.34-3/blib/lib
    PERL5OPT = 
    PERL5_CPANPLUS_IS_RUNNING = 82896
    PERL5_CPAN_IS_RUNNING = 82896
    PERL5_CPAN_IS_RUNNING_IN_RECURSION = 82885,82896
    PERLDOC = -MPod::Perldoc::ToTextOverstrike
    PERL_BATCH = yes
    PERL_CANARY_STABILITY_NOPROMPT = 1
    PERL_CPAN_REPORTER_CONFIG = /var/tmp/cpansmoker-1023/2017092412/cpanreporter_000_config.ini
    PERL_EXTUTILS_AUTOINSTALL = --defaultdeps
    PERL_USE_UNSAFE_INC = 1
    SHELL = /usr/local/bin/zsh
    TERM = screen
    TMPDIR = /var/tmp/cpansmoker-1023/2017092412

Perl special variables (and OS-specific diagnostics, for MSWin32):

    $^X = /usr/perl5.27.3p/bin/perl5.27.3
    $UID/$EUID = 1023 / 1023
    $GID = 1023 1023
    $EGID = 1023 1023

Perl module toolchain versions installed:

    Module              Have    
    ------------------- --------
    CPAN                2.18    
    CPAN::Meta          2.150010
    Cwd                 3.68    
    ExtUtils::CBuilder  0.280228
    ExtUtils::Command   7.30    
    ExtUtils::Install   2.14    
    ExtUtils::MakeMaker 7.30    
    ExtUtils::Manifest  1.70    
    ExtUtils::ParseXS   3.35    
    File::Spec          3.68    
    JSON                2.94    
    JSON::PP            2.94    
    Module::Build       0.4224  
    Module::Signature   0.81    
    Parse::CPAN::Meta   2.150010
    Test::Harness       3.39    
    Test::More          1.302096
    YAML                1.23    
    YAML::Syck          1.30    
    version             0.9918  


--

Summary of my perl5 (revision 5 version 27 subversion 3) configuration:
   
  Platform:
    osname=freebsd
    osvers=11.1-prerelease
    archname=amd64-freebsd
    uname='freebsd ali3.bbbike.org 11.1-prerelease freebsd 11.1-prerelease #0 r313908+426f153a020(stable11): fri sep 1 20:49:08 cst 2017 root@ali3.bbbike.org:usrobjhomeprojectsfreebsdsysgeneric amd64 '
    config_args='-ds -e -Dprefix=/usr/perl5.27.3p -Dusedevel -Dusemallocwrap=no -Dcf_email=srezic@cpan.org -Doptimize=-O2 -pipe'
    hint=recommended
    useposix=true
    d_sigaction=define
    useithreads=undef
    usemultiplicity=undef
    use64bitint=define
    use64bitall=define
    uselongdouble=undef
    usemymalloc=n
    default_inc_excludes_dot=define
    bincompat5005=undef
  Compiler:
    cc='cc'
    ccflags ='-DHAS_FPSETMASK -DHAS_FLOATINGPOINT_H -fno-strict-aliasing -pipe -fstack-protector-strong -I/usr/local/include -D_FORTIFY_SOURCE=2'
    optimize='-O2 -pipe'
    cppflags='-DHAS_FPSETMASK -DHAS_FLOATINGPOINT_H -fno-strict-aliasing -pipe -fstack-protector-strong -I/usr/local/include'
    ccversion=''
    gccversion='4.2.1 Compatible FreeBSD Clang 4.0.0 (tags/RELEASE_400/final 297347)'
    gccosandvers=''
    intsize=4
    longsize=8
    ptrsize=8
    doublesize=8
    byteorder=12345678
    doublekind=3
    d_longlong=define
    longlongsize=8
    d_longdbl=define
    longdblsize=16
    longdblkind=3
    ivtype='long'
    ivsize=8
    nvtype='double'
    nvsize=8
    Off_t='off_t'
    lseeksize=8
    alignbytes=8
    prototype=define
  Linker and Libraries:
    ld='cc'
    ldflags ='-pthread -Wl,-E  -fstack-protector-strong -L/usr/local/lib'
    libpth=/usr/lib /usr/local/lib /usr/bin/../lib/clang/4.0.0/lib /usr/lib
    libs=-lpthread -lgdbm -lm -lcrypt -lutil -lc
    perllibs=-lpthread -lm -lcrypt -lutil -lc
    libc=
    so=so
    useshrplib=false
    libperl=libperl.a
    gnulibc_version=''
  Dynamic Linking:
    dlsrc=dl_dlopen.xs
    dlext=so
    d_dlsymun=undef
    ccdlflags=' '
    cccdlflags='-DPIC -fPIC'
    lddlflags='-shared  -L/usr/local/lib -fstack-protector-strong'


Characteristics of this binary (from libperl): 
  Compile-time options:
    HAS_TIMES
    PERLIO_LAYERS
    PERL_COPY_ON_WRITE
    PERL_DONT_CREATE_GVSV
    PERL_OP_PARENT
    PERL_PRESERVE_IVUV
    PERL_USE_DEVEL
    USE_64_BIT_ALL
    USE_64_BIT_INT
    USE_LARGE_FILES
    USE_LOCALE
    USE_LOCALE_COLLATE
    USE_LOCALE_CTYPE
    USE_LOCALE_NUMERIC
    USE_LOCALE_TIME
    USE_PERLIO
    USE_PERL_ATOF
  Built under freebsd
  Compiled at Sep  2 2017 06:50:39
  %ENV:
    PERL5LIB="/home/cpansand/.cpan/build/2017092412/IO-KQueue-0.34-3/blib/arch:/home/cpansand/.cpan/build/2017092412/IO-KQueue-0.34-3/blib/lib"
    PERL5OPT=""
    PERL5_CPANPLUS_IS_RUNNING="82896"
    PERL5_CPAN_IS_RUNNING="82896"
    PERL5_CPAN_IS_RUNNING_IN_RECURSION="82885,82896"
    PERLDOC="-MPod::Perldoc::ToTextOverstrike"
    PERL_BATCH="yes"
    PERL_CANARY_STABILITY_NOPROMPT="1"
    PERL_CPAN_REPORTER_CONFIG="/var/tmp/cpansmoker-1023/2017092412/cpanreporter_000_config.ini"
    PERL_EXTUTILS_AUTOINSTALL="--defaultdeps"
    PERL_USE_UNSAFE_INC="1"
  @INC:
    /home/cpansand/.cpan/build/2017092412/IO-KQueue-0.34-3/blib/arch
    /home/cpansand/.cpan/build/2017092412/IO-KQueue-0.34-3/blib/lib
    /usr/perl5.27.3p/lib/site_perl/5.27.3/amd64-freebsd
    /usr/perl5.27.3p/lib/site_perl/5.27.3
    /usr/perl5.27.3p/lib/5.27.3/amd64-freebsd
    /usr/perl5.27.3p/lib/5.27.3
    .