Report for Dancer2-Plugin-Interchange6-0.203

Back
From: metabase:user:320bfe00-2aae-11df-837a-5e0a49663a4f
Subject: PASS Dancer2-Plugin-Interchange6-0.203 v5.24.0 GNU/Linux
Date: 2016-08-03T17:03:22Z

This distribution has been tested as part of the CPAN Testers
project, supporting the Perl programming language.  See
http://wiki.cpantesters.org/ for more information or email
questions to cpan-testers-discuss@perl.org


--
Dear Peter Mottram,

This is a computer-generated report for Dancer2-Plugin-Interchange6-0.203
on perl 5.24.0, created by CPAN-Reporter-1.2017.

Thank you for uploading your work to CPAN.  Congratulations!
All tests were successful.

Sections of this report:

    * Tester comments
    * Program output
    * Prerequisites
    * Environment and other context

------------------------------
TESTER COMMENTS
------------------------------

Additional comments from tester:

this report is from an automated smoke testing program
and was not reviewed by a human for accuracy

------------------------------
PROGRAM OUTPUT
------------------------------

Output from '/usr/bin/make test':

PERL_DL_NONLAZY=1 "/home/sand/src/perl/repoperls/installed-perls/perl/v5.24.0/79cc/bin/perl" "-MExtUtils::Command::MM" "-MTest::Harness" "-e" "undef *Test::Harness::Switches; test_harness(0, 'blib/lib', 'blib/arch')" t/00-load.t t/d2pci6_bop.t t/disabled_cart_and_checkout.t t/manifest.t t/pod-coverage.t t/pod.t t/test_mysql.t t/test_postgresql.t t/test_sqlite.t
# Testing Dancer2::Plugin::Interchange6 0.203, Perl 5.024000, /home/sand/src/perl/repoperls/installed-perls/perl/v5.24.0/79cc/bin/perl
t/00-load.t ..................... ok
t/d2pci6_bop.t .................. ok
Dancer2::Plugin::Interchange6::Routes: Maximum number of navigation records is zero.
t/disabled_cart_and_checkout.t .. skipped: Author tests not required for installation
t/manifest.t .................... skipped: Author tests not required for installation
t/pod-coverage.t ................ skipped: Author tests not required for installation
t/pod.t ......................... skipped: Author tests not required for installation
t/test_mysql.t .................. skipped: Test::mysqld required to run these tests
t/test_postgresql.t ............. skipped: Test::PostgreSQL required to run these tests
# Deploy
# Test::Cart
    # Test::DSL
# Test::Hooks
# Test::Routes
# Test::Shop
t/test_sqlite.t ................. ok
All tests successful.
Files=9, Tests=202, 51 wallclock secs ( 0.08 usr  0.06 sys + 28.93 cusr  1.36 csys = 30.43 CPU)
Result: PASS

------------------------------
PREREQUISITES
------------------------------

Prerequisite modules loaded:

requires:

    Module                                            Need     Have        
    ------------------------------------------------- -------- ------------
    Business::OnlinePayment                           3.02     3.04        
    Dancer2                                           0.200000 0.201000    
    Dancer2::Plugin::Auth::Extensible                 0.600    0.601       
    Dancer2::Plugin::Auth::Extensible::Provider::DBIC 0.600    0.600       
    Dancer2::Plugin::DBIC                             0.0013   0.0014      
    Dancer2::Session::DBIC                            0.102    0.110       
    Interchange6                                      0.120    0.120       
    Interchange6::Schema                              0.110    0.130       
    JSON::MaybeXS                                     1.003003 1.003006_001
    Module::Runtime                                   0        0.014       
    MooseX::CoverableModifiers                        0        0.30        
    namespace::clean                                  0        0.27        
    Net::HTTPS::Any                                   0.11     0.11        
    perl                                              5.010000 5.024000    
    Scalar::Util                                      0        1.45_03     
    YAML                                              0        1.18        

build_requires:

    Module                                            Need     Have        
    ------------------------------------------------- -------- ------------
    File::Temp                                        0        0.2304      
    Module::Find                                      0        0.13        
    Test::Deep                                        0        1.120       
    Test::Exception                                   0        0.43        
    Test::More                                        0.94     1.302049    
    Test::WWW::Mechanize::PSGI                        0.35     0.36        

configure_requires:

    Module                                            Need     Have        
    ------------------------------------------------- -------- ------------
    ExtUtils::MakeMaker                               0        7.19_08     


------------------------------
ENVIRONMENT AND OTHER CONTEXT
------------------------------

Environment variables:

    AUTOMATED_TESTING = 1
    LANG = en_US.UTF-8
    LANGUAGE = en_US:en
    PATH = /usr/lib/ccache:/home/sand/bin:/usr/local/bin:/usr/bin:/bin:/usr/games:/usr/local/perl/bin:/usr/X11/bin:/sbin:/usr/sbin
    PERL5LIB = 
    PERL5OPT = 
    PERL5_CPANPLUS_IS_RUNNING = 26359
    PERL5_CPAN_IS_RUNNING = 26359
    PERL_CANARY_STABILITY_NOPROMPT = 1
    PERL_MM_USE_DEFAULT = 1
    SHELL = /usr/bin/zsh
    TERM = screen

Perl special variables (and OS-specific diagnostics, for MSWin32):

    $^X = /home/sand/src/perl/repoperls/installed-perls/perl/v5.24.0/79cc/bin/perl
    $UID/$EUID = 1005 / 1005
    $GID = 1005 1005
    $EGID = 1005 1005

Perl module toolchain versions installed:

    Module              Have    
    ------------------- --------
    CPAN                2.15    
    CPAN::Meta          2.150009
    Cwd                 3.63    
    ExtUtils::CBuilder  0.280225
    ExtUtils::Command   7.19_08 
    ExtUtils::Install   2.04    
    ExtUtils::MakeMaker 7.19_08 
    ExtUtils::Manifest  1.70    
    ExtUtils::ParseXS   3.31    
    File::Spec          3.63    
    JSON                2.90    
    JSON::PP            2.27300 
    Module::Build       0.4218  
    Module::Signature   0.79    
    Parse::CPAN::Meta   2.150009
    Test::Harness       3.36    
    Test::More          1.302049
    YAML                1.18    
    YAML::Syck          1.29    
    version             0.9917  


--

Summary of my perl5 (revision 5 version 24 subversion 0) configuration:
  Commit id: be2c0c650b028f54e427f2469a59942edfdff8a9
  Platform:
    osname=linux, osvers=4.3.0-1-amd64, archname=x86_64-linux
    uname='linux k83 4.3.0-1-amd64 #1 smp debian 4.3.3-7 (2016-01-19) x86_64 gnulinux '
    config_args='-Dprefix=/home/sand/src/perl/repoperls/installed-perls/perl/v5.24.0/79cc -Dmyhostname=k83 -Dinstallusrbinperl=n -Uversiononly -Dusedevel -des -Ui_db -Dlibswanted=cl pthread socket inet nsl gdbm dbm malloc dl ld sun m crypt sec util c cposix posix ucb BSD gdbm_compat -Uuseithreads -Uuselongdouble -DDEBUGGING=-g'
    hint=recommended, useposix=true, d_sigaction=define
    useithreads=undef, usemultiplicity=undef
    use64bitint=define, use64bitall=define, uselongdouble=undef
    usemymalloc=n, bincompat5005=undef
  Compiler:
    cc='cc', ccflags ='-fwrapv -fno-strict-aliasing -pipe -fstack-protector-strong -I/usr/local/include -D_LARGEFILE_SOURCE -D_FILE_OFFSET_BITS=64 -D_FORTIFY_SOURCE=2',
    optimize='-O2 -g',
    cppflags='-fwrapv -fno-strict-aliasing -pipe -fstack-protector-strong -I/usr/local/include'
    ccversion='', gccversion='5.3.1 20160121', gccosandvers=''
    intsize=4, longsize=8, ptrsize=8, doublesize=8, byteorder=12345678, doublekind=3
    d_longlong=define, longlongsize=8, d_longdbl=define, longdblsize=16, longdblkind=3
    ivtype='long', ivsize=8, nvtype='double', nvsize=8, Off_t='off_t', lseeksize=8
    alignbytes=8, prototype=define
  Linker and Libraries:
    ld='cc', ldflags =' -fstack-protector-strong -L/usr/local/lib'
    libpth=/usr/local/lib /usr/lib/gcc/x86_64-linux-gnu/5/include-fixed /usr/include/x86_64-linux-gnu /usr/lib /lib/x86_64-linux-gnu /lib/../lib /usr/lib/x86_64-linux-gnu /usr/lib/../lib /lib
    libs=-lpthread -lnsl -lgdbm -ldl -lm -lcrypt -lutil -lc -lgdbm_compat
    perllibs=-lpthread -lnsl -ldl -lm -lcrypt -lutil -lc
    libc=libc-2.21.so, so=so, useshrplib=false, libperl=libperl.a
    gnulibc_version='2.21'
  Dynamic Linking:
    dlsrc=dl_dlopen.xs, dlext=so, d_dlsymun=undef, ccdlflags='-Wl,-E'
    cccdlflags='-fPIC', lddlflags='-shared -O2 -g -L/usr/local/lib -fstack-protector-strong'


Characteristics of this binary (from libperl): 
  Compile-time options: HAS_TIMES PERLIO_LAYERS PERL_COPY_ON_WRITE
                        PERL_DONT_CREATE_GVSV
                        PERL_HASH_FUNC_ONE_AT_A_TIME_HARD PERL_MALLOC_WRAP
                        PERL_PRESERVE_IVUV PERL_USE_DEVEL USE_64_BIT_ALL
                        USE_64_BIT_INT USE_LARGE_FILES USE_LOCALE
                        USE_LOCALE_COLLATE USE_LOCALE_CTYPE
                        USE_LOCALE_NUMERIC USE_LOCALE_TIME USE_PERLIO
                        USE_PERL_ATOF
  Built under linux
  Compiled at May  9 2016 18:56:06
  %ENV:
    PERL5LIB=""
    PERL5OPT=""
    PERL5_CPANPLUS_IS_RUNNING="26359"
    PERL5_CPAN_IS_RUNNING="26359"
    PERL_CANARY_STABILITY_NOPROMPT="1"
    PERL_MM_USE_DEFAULT="1"
  @INC:
    /home/sand/src/perl/repoperls/installed-perls/perl/v5.24.0/79cc/lib/site_perl/5.24.0/x86_64-linux
    /home/sand/src/perl/repoperls/installed-perls/perl/v5.24.0/79cc/lib/site_perl/5.24.0
    /home/sand/src/perl/repoperls/installed-perls/perl/v5.24.0/79cc/lib/5.24.0/x86_64-linux
    /home/sand/src/perl/repoperls/installed-perls/perl/v5.24.0/79cc/lib/5.24.0
    .