Report for Class-MOP-1.08

Back
From: metabase:user:322078bc-2aae-11df-837a-5e0a49663a4f
Subject: PASS Class-MOP-1.08 v5.12.2 NetBSD
Date: 2010-10-01T00:09:39Z

This distribution has been tested as part of the CPAN Testers
project, supporting the Perl programming language.  See
http://wiki.cpantesters.org/ for more information or email
questions to cpan-testers-discuss@perl.org


--

Dear Dave Rolsky,
    
This is a computer-generated error report created automatically by
CPANPLUS, version 0.9007. Testers personal comments may appear 
at the end of this report.

MAKE TEST passed: /usr/bin/perl "-Iinc" "-MModule::Install::ExtraTests" "-e" "Module::Install::ExtraTests::__harness('Test::Harness', 0, 'xt/author', '', '', 0, 'blib/lib', 'blib/arch')" t/*.t
t/000_load.t .............................. ok
t/001_basic.t ............................. ok
t/002_class_precedence_list.t ............. ok
t/003_methods.t ........................... ok
t/004_advanced_methods.t .................. ok
t/005_attributes.t ........................ ok
t/006_new_and_clone_metaclasses.t ......... ok
t/010_self_introspection.t ................ ok
t/011_create_class.t ...................... ok
t/012_package_variables.t ................. ok
t/013_add_attribute_alternate.t ........... ok
t/014_attribute_introspection.t ........... ok
t/015_metaclass_inheritance.t ............. ok
t/016_class_errors_and_edge_cases.t ....... ok
t/017_add_method_modifier.t ............... ok
t/018_anon_class.t ........................ ok
t/019_anon_class_keep_alive.t ............. ok
t/020_attribute.t ......................... ok
t/021_attribute_errors_and_edge_cases.t ... ok
t/022_attribute_duplication.t ............. ok
t/023_attribute_get_read_write.t .......... ok
t/024_attribute_initializer.t ............. ok
t/025_attribute_non_alpha_name.t .......... ok
t/030_method.t ............................ ok
t/031_method_modifiers.t .................. ok
t/032_universal_methods.t ................. ok
t/040_metaclass.t ......................... ok
t/041_metaclass_incompatibility.t ......... ok
t/042_metaclass_incompatibility_dyn.t ..... ok
t/043_instance_metaclass_incompat.t ....... ok
t/044_instance_metaclass_incompat_dyn.t ... ok
t/045_metaclass_loads_classes.t ........... ok
t/046_rebless_instance.t .................. ok
t/047_rebless_with_extra_params.t ......... ok
t/048_anon_class_create_init.t ............ ok
t/049_metaclass_reinitialize.t ............ ok
t/050_scala_style_mixin_composition.t ..... skipped: Test requires module 'SUPER' but it's not found
t/060_instance.t .......................... ok
t/061_instance_inline.t ................... ok
t/062_custom_instance.t ................... ok
t/070_immutable_metaclass.t ............... ok
t/071_immutable_w_custom_metaclass.t ...... ok
t/072_immutable_w_constructors.t .......... ok
t/073_make_mutable.t ...................... ok
t/074_immutable_custom_trait.t ............ ok
t/080_meta_package.t ...................... ok
t/081_meta_package_extension.t ............ ok
t/082_get_code_info.t ..................... ok
t/083_load_class.t ........................ ok
t/085_load_class_gvstash_detect_bug.t ..... ok
t/086_rebless_instance_away.t ............. ok
t/087_subclasses.t ........................ ok
t/100_BinaryTree_test.t ................... ok
t/101_InstanceCountingClass_test.t ........ ok
t/102_InsideOutClass_test.t ............... ok
t/103_Perl6Attribute_test.t ............... ok
t/104_AttributesWithHistory_test.t ........ ok
t/105_ClassEncapsulatedAttributes_test.t .. ok
t/106_LazyClass_test.t .................... ok
t/107_C3MethodDispatchOrder_test.t ........ skipped: Test requires module 'Algorithm::C3' but it's not found
t/108_ArrayBasedStorage_test.t ............ ok
t/200_Class_C3_compatibility.t ............ ok
t/300_random_eval_bug.t ................... ok
t/301_RT_27329_fix.t ...................... ok
t/302_modify_parent_method.t .............. ok
t/303_RT_39001_fix.t ...................... ok
t/304_constant_codeinfo.t ................. ok
t/305_RT_41255.t .......................... ok
t/306_rebless_overload.t .................. ok
t/307_null_stash.t ........................ ok
t/308_insertion_order.t ................... ok
t/309_subname.t ........................... ok
t/310_inline_structor.t ................... skipped: Test requires module 'Test::Output' but it's not found
t/311_inline_and_dollar_at.t .............. ok
t/312_anon_class_leak.t ................... skipped: Test requires module 'Test::LeakTrace' but it's not found
t/313_before_after_dollar_under.t ......... ok
t/314_class_is_pristine.t ................. ok
t/315_magic.t ............................. ok
t/316_numeric_defaults.t .................. ok
t/500_deprecated.t ........................ ok
All tests successful.
Files=80, Tests=2442, 41 wallclock secs ( 1.46 usr  2.67 sys + 19.07 cusr 17.47 csys = 40.67 CPU)
Result: PASS

[MSG] [Fri Oct  1 01:09:39 2010] Sending test report for 'Class-MOP-1.08'

This report was machine-generated by CPANPLUS::Dist::YACSmoke 0.58.

------------------------------
ENVIRONMENT AND OTHER CONTEXT
------------------------------

Environment variables:

    AUTOMATED_TESTING = 1
    PATH = /sbin:/usr/sbin:/bin:/usr/bin:/usr/pkg/sbin:/usr/pkg/bin:/usr/X11R7/bin:/usr/X11R6/bin:/usr/local/sbin:/usr/local/bin
    PERL5LIB = :/root/.cpanplus/5.12.2/build/Class-MOP-1.08/blib/lib:/root/.cpanplus/5.12.2/build/Class-MOP-1.08/blib/arch
    PERL5_CPANIDX_URL = http://cpan.bingosnet.co.uk:8082/cpanidx/
    PERL5_CPANPLUS_IS_RUNNING = 649
    PERL5_CPANPLUS_IS_VERSION = 0.9007
    PERL_EXTUTILS_AUTOINSTALL = --defaultdeps
    PERL_MM_USE_DEFAULT = 1
    SHELL = /bin/sh
    TERM = vt100

Perl special variables (and OS-specific diagnostics, for MSWin32):

    Perl: $^X = /usr/bin/perl
    UID:  $<  = 0
    EUID: $>  = 0
    GID:  $(  = 0 0 2 3 4 5 20 31
    EGID: $)  = 0 0 2 3 4 5 20 31


-------------------------------


--

Summary of my perl5 (revision 5 version 12 subversion 2) configuration:
   
  Platform:
    osname=netbsd, osvers=5.99.39, archname=i386-netbsd
    uname='netbsd integral.bingosnet.co.uk 5.99.39 netbsd 5.99.39 (generic) #0: thu sep 30 06:32:10 utc 2010 builds@b7.netbsd.org:homebuildsabheadi386201009300000z-objhomebuildsabheadsrcsysarchi386compilegeneric i386 '
    config_args='-des -Dusemallocwrap=y -Dusemymalloc=n'
    hint=recommended, useposix=true, d_sigaction=define
    useithreads=undef, usemultiplicity=undef
    useperlio=define, d_sfio=undef, uselargefiles=define, usesocks=undef
    use64bitint=undef, use64bitall=undef, uselongdouble=undef
    usemymalloc=n, bincompat5005=undef
  Compiler:
    cc='cc', ccflags ='-fno-strict-aliasing -pipe -fstack-protector',
    optimize='-O',
    cppflags='-fno-strict-aliasing -pipe -fstack-protector'
    ccversion='', gccversion='4.1.3 20080704 prerelease (NetBSD nb2 20081120)', gccosandvers=''
    intsize=4, longsize=4, ptrsize=4, doublesize=8, byteorder=1234
    d_longlong=define, longlongsize=8, d_longdbl=define, longdblsize=12
    ivtype='long', ivsize=4, nvtype='double', nvsize=8, Off_t='off_t', lseeksize=8
    alignbytes=4, prototype=define
  Linker and Libraries:
    ld='cc', ldflags =' -Wl,-rpath,/usr/pkg/lib -Wl,-rpath,/usr/local/lib -fstack-protector -L/usr/pkg/lib'
    libpth=/usr/pkg/lib /lib /usr/lib
    libs=-lm -lcrypt -lutil -lc -lposix
    perllibs=-lm -lcrypt -lutil -lc -lposix
    libc=/lib/libc.so, so=so, useshrplib=false, libperl=libperl.a
    gnulibc_version=''
  Dynamic Linking:
    dlsrc=dl_dlopen.xs, dlext=so, d_dlsymun=undef, ccdlflags='-Wl,-E '
    cccdlflags='-DPIC -fPIC ', lddlflags='--whole-archive -shared  -L/usr/pkg/lib -fstack-protector'


Characteristics of this binary (from libperl): 
  Compile-time options: PERL_DONT_CREATE_GVSV PERL_MALLOC_WRAP
                        USE_LARGE_FILES USE_PERLIO USE_PERL_ATOF
  Built under netbsd
  Compiled at Sep 30 2010 23:42:09
  %ENV:
    PERL5LIB=":/root/.cpanplus/5.12.2/build/Class-MOP-1.08/blib/lib:/root/.cpanplus/5.12.2/build/Class-MOP-1.08/blib/arch"
    PERL5_CPANIDX_URL="http://cpan.bingosnet.co.uk:8082/cpanidx/"
    PERL5_CPANPLUS_IS_RUNNING="649"
    PERL5_CPANPLUS_IS_VERSION="0.9007"
    PERL_EXTUTILS_AUTOINSTALL="--defaultdeps"
    PERL_MM_USE_DEFAULT="1"
  @INC:
    /root/.cpanplus/5.12.2/build/Class-MOP-1.08/blib/lib
    /root/.cpanplus/5.12.2/build/Class-MOP-1.08/blib/arch
    /usr/lib/perl5/site_perl/5.12.2/i386-netbsd
    /usr/lib/perl5/site_perl/5.12.2
    /usr/lib/perl5/5.12.2/i386-netbsd
    /usr/lib/perl5/5.12.2
    .