Report for Yahoo-Marketing-7.03

Back
From: metabase:user:320bfe00-2aae-11df-837a-5e0a49663a4f
Subject: PASS Yahoo-Marketing-7.03 v5.15.6 GNU/Linux
Date: 2012-01-09T06:50:14Z

This distribution has been tested as part of the CPAN Testers
project, supporting the Perl programming language.  See
http://wiki.cpantesters.org/ for more information or email
questions to cpan-testers-discuss@perl.org


--
Dear Johnny Shen,

This is a computer-generated report for Yahoo-Marketing-7.03
on perl 5.15.6, created by CPAN-Reporter-1.2003.

Thank you for uploading your work to CPAN.  Congratulations!
All tests were successful.

Sections of this report:

    * Tester comments
    * Program output
    * Prerequisites
    * Environment and other context

------------------------------
TESTER COMMENTS
------------------------------

Additional comments from tester:

this report is from an automated smoke testing program
and was not reviewed by a human for accuracy

------------------------------
PROGRAM OUTPUT
------------------------------

Output from './Build test':


NOTE: we can run tests that will connect to Yahoo! Marketing's 
EWS, verifying your login credentials and more completely testing 
that this package is performing correctly.  If you would like to 
run these tests, please use perl Build posttest.

# Testing Yahoo::Marketing 7.03, Perl 5.015006, /home/sand/src/perl/repoperls/installed-perls/perl/v5.15.6-428-g4c13be3/9980/bin/perl
t/00-load.t .................................... ok
t/01-instantiate_services.t .................... ok
t/02-cache.t ................................... ok
t/account.t .................................... ok
t/account_aggregate.t .......................... ok
t/account_balance.t ............................ ok
t/account_carrier_config.t ..................... ok
t/account_carrier_setting.t .................... ok
t/account_service.t ............................ ok
t/ad.t ......................................... ok
t/ad_carrier_config.t .......................... ok
t/ad_carrier_editorial_reason_info.t ........... ok
t/ad_carrier_editorial_reasons.t ............... ok
t/ad_carrier_setting.t ......................... ok
t/ad_editorial_reasons.t ....................... ok
t/ad_group.t ................................... ok
t/ad_group_carrier_config.t .................... ok
t/ad_group_carrier_setting.t ................... ok
t/ad_group_forecast_request_data.t ............. ok
t/ad_group_optimization_guidelines.t ........... ok
t/ad_group_optimization_guidelines_response.t .. ok
t/ad_group_response.t .......................... ok
t/ad_group_service.t ........................... ok
t/ad_response.t ................................ ok
t/ad_service.t ................................. ok
t/address.t .................................... ok
t/age_range.t .................................. ok
t/age_target.t ................................. ok
t/ambiguous_geo_match.t ........................ ok
t/api_fault.t .................................. ok
t/authorization.t .............................. ok
t/basic_report_request.t ....................... ok
t/basic_report_service.t ....................... ok
t/basic_response.t ............................. ok
t/bid_information.t ............................ ok
t/bid_information_request.t .................... ok
t/bid_information_service.t .................... ok
t/bid_update_info.t ............................ ok
t/billing_user.t ............................... ok
t/boilerplate.t ................................ ok
t/bucket_type.t ................................ ok
t/budgeting_service.t .......................... ok
t/bulk_download_status_info.t .................. ok
t/bulk_download_status_response.t .............. ok
t/bulk_service.t ............................... ok
t/bulk_upload_status_response.t ................ ok
t/bulk_upload_token_url_response.t ............. ok
t/campaign.t ................................... ok
t/campaign_carrier_config.t .................... ok
t/campaign_carrier_setting.t ................... ok
t/campaign_optimization_guidelines.t ........... ok
t/campaign_optimization_guidelines_response.t .. ok
t/campaign_response.t .......................... ok
t/campaign_service.t ........................... ok
t/capability.t ................................. ok
t/carrier.t .................................... ok
t/carrier_bid_information.t .................... ok
t/carrier_bid_information_request.t ............ ok
t/combined_account_status.t .................... ok
t/company.t .................................... ok
t/company_service.t ............................ ok
t/credit_card_info.t ........................... ok
t/day_part.t ................................... ok
t/day_parting_target.t ......................... ok
t/day_parting_targeting.t ...................... ok
t/demographic_targeting.t ...................... ok
t/download_file.t .............................. ok
t/error.t ...................................... ok
t/error_type.t ................................. ok
t/example.t .................................... ok
t/excluded_word.t .............................. ok
t/excluded_word_response.t ..................... ok
t/excluded_words_service.t ..................... ok
t/file_output_format.t ......................... ok
t/forecast_click_data.t ........................ ok
t/forecast_creative.t .......................... ok
t/forecast_impression_data.t ................... ok
t/forecast_keyword.t ........................... ok
t/forecast_keyword_batch.t ..................... ok
t/forecast_keyword_batch_response.t ............ ok
t/forecast_keyword_batch_response_data.t ....... ok
t/forecast_keyword_response.t .................. ok
t/forecast_request_data.t ...................... ok
t/forecast_response.t .......................... ok
t/forecast_response_data.t ..................... ok
t/forecast_service.t ........................... ok
t/gender_target.t .............................. ok
t/geo_location.t ............................... ok
t/geo_location_probability.t ................... ok
t/geo_location_probability_set.t ............... ok
t/geo_target.t ................................. ok
t/geographical_dictionary_service.t ............ ok
t/historical_keyword.t ......................... ok
t/historical_keyword_response.t ................ ok
t/historical_keyword_response_data.t ........... ok
t/historical_request_data.t .................... ok
t/historical_response_data.t ................... ok
t/keyword.t .................................... ok
t/keyword_carrier_config.t ..................... ok
t/keyword_carrier_editorial_reason_info.t ...... ok
t/keyword_carrier_editorial_reasons.t .......... ok
t/keyword_carrier_setting.t .................... ok
t/keyword_editorial_reasons.t .................. ok
t/keyword_forecast_request_data.t .............. ok
t/keyword_info_request_type.t .................. ok
t/keyword_info_response_type.t ................. ok
t/keyword_info_type.t .......................... ok
t/keyword_optimization_guidelines.t ............ ok
t/keyword_optimization_guidelines_response.t ... ok
t/keyword_participation_status.t ............... ok
t/keyword_rejection_reasons.t .................. ok
t/keyword_research_service.t ................... ok
t/keyword_response.t ........................... ok
t/keyword_service.t ............................ ok
t/master_account.t ............................. ok
t/master_account_service.t ..................... ok
t/mobile_dictionary_service.t .................. ok
t/network.t .................................... ok
t/network_distribution.t ....................... ok
t/network_target.t ............................. ok
t/opt_in_ad_group_response.t ................... ok
t/opt_in_campaign_response.t ................... ok
t/opt_in_status.t .............................. ok
t/page_related_keyword_request_type.t .......... ok
t/payment_info.t ............................... ok
t/payment_method_info.t ........................ ok
t/pod-coverage.t ............................... ok
t/pod.t ........................................ ok
t/preferences.t ................................ ok
t/process_status.t ............................. ok
t/range_definition_request_type.t .............. ok
t/range_definition_response_type.t ............. ok
t/range_definition_type.t ...................... ok
t/range_value_type.t ........................... ok
t/related_keyword_request_type.t ............... ok
t/related_keyword_response_type.t .............. ok
t/related_keyword_type.t ....................... ok
t/report_download_info.t ....................... ok
t/report_info.t ................................ ok
t/response.t ................................... ok
t/response_status_type.t ....................... ok
t/role.t ....................................... ok
t/service.t .................................... ok
t/set_geographic_location_response.t ........... ok
t/spend_limit.t ................................ ok
t/sponsored_search_min_bid_request.t ........... ok
t/sub_phrase_keyword_request_type.t ............ ok
t/summary.t .................................... ok
t/tactic_spend_cap.t ........................... ok
t/targeting_attribute.t ........................ ok
t/targeting_attribute_descriptor.t ............. ok
t/targeting_converter_service.t ................ ok
t/targeting_dictionary_service.t ............... ok
t/targeting_premium.t .......................... ok
t/targeting_profile.t .......................... ok
t/targeting_service.t .......................... ok
t/targeting_type.t ............................. ok
t/token.t ...................................... ok
t/update_for_ad.t .............................. ok
t/update_for_ad_carrier_config.t ............... ok
t/update_for_ad_carrier_setting.t .............. ok
t/update_for_keyword.t ......................... ok
t/update_for_keyword_carrier_config.t .......... ok
t/update_for_keyword_carrier_setting.t ......... ok
t/user.t ....................................... ok
t/user_authorization.t ......................... ok
t/user_management_service.t .................... ok
t/vault_service.t .............................. ok
t/warning.t .................................... ok
t/z_cleanup.t .................................. ok
All tests successful.
Files=170, Tests=1364, 50 wallclock secs ( 0.50 usr  0.18 sys + 36.93 cusr  4.43 csys = 42.04 CPU)
Result: PASS

------------------------------
PREREQUISITES
------------------------------

Prerequisite modules loaded:

requires:

    Module                    Need   Have    
    ------------------------- ------ --------
    Cache::Cache              1.01   1.06    
    Class::Accessor::Chained  0.01   0.01    
    Crypt::SSLeay             0.40   0.58    
    DateTime::Format::ISO8601 0      0.07    
    DateTime::Format::W3CDTF  0      0.06    
    Error                     0.15   0.17016 
    Module::Build             0.26   0.39_01 
    perl                      v5.6.1 5.015006
    Scalar::Util              1.01   1.23    
  ! SOAP::Lite                0.66   broken  
    Test::Class               0.10   0.36    
    Test::More                0      0.98    
    Test::Simple              0.60   0.98    
    XML::XPath                1.10   1.13    
    YAML                      0.01   0.78    

build_requires:

    Module                    Need   Have    
    ------------------------- ------ --------
    Module::Build             0.26   0.39_01 
    Test::More                0      0.98    
    YAML                      0.01   0.78    


------------------------------
ENVIRONMENT AND OTHER CONTEXT
------------------------------

Environment variables:

    AUTOMATED_TESTING = 1
    LANG = en_US.UTF-8
    LANGUAGE = en_US:en
    PATH = /home/sand/bin:/usr/local/bin:/usr/bin:/bin:/usr/bin/X11:/usr/games:/usr/local/perl/bin:/usr/X11/bin:/sbin:/usr/sbin
    PERL5LIB = /tmp/loop_over_bdir-jxvk0k/Sepia-0.992-K455Bs/blib/arch:/tmp/loop_over_bdir-jxvk0k/Sepia-0.992-K455Bs/blib/lib:/tmp/loop_over_bdir-jxvk0k/ProjectBuilder-0.11.3-ylEqsk/blib/arch:/tmp/loop_over_bdir-jxvk0k/ProjectBuilder-0.11.3-ylEqsk/blib/lib
    PERL5OPT = 
    PERL5_CPANPLUS_IS_RUNNING = 8952
    PERL5_CPAN_IS_RUNNING = 8952
    PERL_MM_USE_DEFAULT = 1
    SHELL = /usr/bin/zsh
    TERM = screen

Perl special variables (and OS-specific diagnostics, for MSWin32):

    $^X = /home/sand/src/perl/repoperls/installed-perls/perl/v5.15.6-428-g4c13be3/9980/bin/perl
    $UID/$EUID = 1005 / 1005
    $GID = 1005 1005
    $EGID = 1005 1005

Perl module toolchain versions installed:

    Module              Have    
    ------------------- --------
    CPAN                1.9800  
    CPAN::Meta          2.113640
    Cwd                 3.39_01 
    ExtUtils::CBuilder  0.280205
    ExtUtils::Command   1.17    
    ExtUtils::Install   1.57    
    ExtUtils::MakeMaker 6.63_02 
    ExtUtils::Manifest  1.60    
    ExtUtils::ParseXS   3.11    
    File::Spec          3.39_01 
    JSON                2.53    
    JSON::PP            2.27200 
    Module::Build       0.39_01 
    Module::Signature   0.68    
    Parse::CPAN::Meta   1.4401  
    Test::Harness       3.23    
    Test::More          0.98    
    YAML                0.78    
    YAML::Syck          1.19    
    version             0.96    


--

Summary of my perl5 (revision 5 version 15 subversion 6) configuration:
  Commit id: 4c13be3f693f771014c91d74065ab1f92b583490
  Platform:
    osname=linux, osvers=2.6.32-5-amd64, archname=x86_64-linux-thread-multi
    uname='linux k83 2.6.32-5-amd64 #1 smp thu nov 3 03:41:26 utc 2011 x86_64 gnulinux '
    config_args='-Dprefix=/home/src/perl/repoperls/installed-perls/perl/v5.15.6-428-g4c13be3/9980 -Dmyhostname=k83 -Dinstallusrbinperl=n -Uversiononly -Dusedevel -des -Ui_db -Duseithreads -Uuselongdouble -DDEBUGGING=-g'
    hint=recommended, useposix=true, d_sigaction=define
    useithreads=define, usemultiplicity=define
    useperlio=define, d_sfio=undef, uselargefiles=define, usesocks=undef
    use64bitint=define, use64bitall=define, uselongdouble=undef
    usemymalloc=n, bincompat5005=undef
  Compiler:
    cc='cc', ccflags ='-D_REENTRANT -D_GNU_SOURCE -fno-strict-aliasing -pipe -fstack-protector -I/usr/local/include -D_LARGEFILE_SOURCE -D_FILE_OFFSET_BITS=64',
    optimize='-O2 -g',
    cppflags='-D_REENTRANT -D_GNU_SOURCE -fno-strict-aliasing -pipe -fstack-protector -I/usr/local/include'
    ccversion='', gccversion='4.4.5', gccosandvers=''
    intsize=4, longsize=8, ptrsize=8, doublesize=8, byteorder=12345678
    d_longlong=define, longlongsize=8, d_longdbl=define, longdblsize=16
    ivtype='long', ivsize=8, nvtype='double', nvsize=8, Off_t='off_t', lseeksize=8
    alignbytes=8, prototype=define
  Linker and Libraries:
    ld='cc', ldflags =' -fstack-protector -L/usr/local/lib'
    libpth=/usr/local/lib /lib/../lib /usr/lib/../lib /lib /usr/lib /lib64 /usr/lib64
    libs=-lnsl -ldb -ldl -lm -lcrypt -lutil -lpthread -lc
    perllibs=-lnsl -ldl -lm -lcrypt -lutil -lpthread -lc
    libc=/lib/libc-2.11.2.so, so=so, useshrplib=false, libperl=libperl.a
    gnulibc_version='2.11.2'
  Dynamic Linking:
    dlsrc=dl_dlopen.xs, dlext=so, d_dlsymun=undef, ccdlflags='-Wl,-E'
    cccdlflags='-fPIC', lddlflags='-shared -O2 -g -L/usr/local/lib -fstack-protector'


Characteristics of this binary (from libperl): 
  Compile-time options: HAS_TIMES MULTIPLICITY PERLIO_LAYERS
                        PERL_DONT_CREATE_GVSV PERL_IMPLICIT_CONTEXT
                        PERL_MALLOC_WRAP PERL_PRESERVE_IVUV PERL_USE_DEVEL
                        USE_64_BIT_ALL USE_64_BIT_INT USE_ITHREADS
                        USE_LARGE_FILES USE_LOCALE USE_LOCALE_COLLATE
                        USE_LOCALE_CTYPE USE_LOCALE_NUMERIC USE_PERLIO
                        USE_PERL_ATOF USE_REENTRANT_API
  Built under linux
  Compiled at Jan  8 2012 23:28:47
  %ENV:
    PERL5LIB="/tmp/loop_over_bdir-jxvk0k/Sepia-0.992-K455Bs/blib/arch:/tmp/loop_over_bdir-jxvk0k/Sepia-0.992-K455Bs/blib/lib:/tmp/loop_over_bdir-jxvk0k/ProjectBuilder-0.11.3-ylEqsk/blib/arch:/tmp/loop_over_bdir-jxvk0k/ProjectBuilder-0.11.3-ylEqsk/blib/lib"
    PERL5OPT=""
    PERL5_CPANPLUS_IS_RUNNING="8952"
    PERL5_CPAN_IS_RUNNING="8952"
    PERL_MM_USE_DEFAULT="1"
  @INC:
    /tmp/loop_over_bdir-jxvk0k/Sepia-0.992-K455Bs/blib/arch
    /tmp/loop_over_bdir-jxvk0k/Sepia-0.992-K455Bs/blib/lib
    /tmp/loop_over_bdir-jxvk0k/ProjectBuilder-0.11.3-ylEqsk/blib/arch
    /tmp/loop_over_bdir-jxvk0k/ProjectBuilder-0.11.3-ylEqsk/blib/lib
    /home/src/perl/repoperls/installed-perls/perl/v5.15.6-428-g4c13be3/9980/lib/site_perl/5.15.6/x86_64-linux-thread-multi
    /home/src/perl/repoperls/installed-perls/perl/v5.15.6-428-g4c13be3/9980/lib/site_perl/5.15.6
    /home/src/perl/repoperls/installed-perls/perl/v5.15.6-428-g4c13be3/9980/lib/5.15.6/x86_64-linux-thread-multi
    /home/src/perl/repoperls/installed-perls/perl/v5.15.6-428-g4c13be3/9980/lib/5.15.6
    .