HTML-Lint v2.32 Perl 5 v5.33.3 x86_64-linux

Status
Pass
From
Carlos Guevara
Dist
HTML-Lint v2.32
Platform
Perl 5 v5.33.3 x86_64-linux
Date
2020-10-15 02:14:41
ID
2f13e7b2-0e8c-11eb-afcd-1b33fdc246f5
This distribution has been tested as part of the CPAN Testers
project, supporting the Perl programming language.  See
http://wiki.cpantesters.org/ for more information or email
questions to cpan-testers-discuss@perl.org


--
Dear Andy Lester,

This is a computer-generated report for HTML-Lint-2.32
on perl 5.33.3, created by CPAN-Reporter-1.2018.

Thank you for uploading your work to CPAN.  Congratulations!
All tests were successful.

Sections of this report:

    * Tester comments
    * Program output
    * Prerequisites
    * Environment and other context

------------------------------
TESTER COMMENTS
------------------------------

Additional comments from tester:

this report is from an automated smoke testing program
and was not reviewed by a human for accuracy

------------------------------
PROGRAM OUTPUT
------------------------------

Output from '/usr/bin/make test':

PERL_DL_NONLAZY=1 "/home/cpan/bin/perl-blead/bin/perl5.33.3" "-MExtUtils::Command::MM" "-MTest::Harness" "-e" "undef *Test::Harness::Switches; test_harness(0, 'blib/lib', 'blib/arch')" t/*.t
# Testing HTML::Lint 2.32, Perl 5.033003, /home/cpan/bin/perl-blead/bin/perl5.33.3
t/00-load.t ..................... ok
t/01-coverage.t ................. ok
t/02-versions.t ................. ok
t/10-test-html-lint.t ........... ok
t/11-test-html-lint-overload.t .. ok
t/12-html_fragment_ok.t ......... ok
t/20-error-types-export.t ....... ok
t/20-error-types-skip.t ......... ok
t/20-error-types.t .............. ok
t/30-test-builder.t ............. ok
t/40-where.t .................... ok
t/50-multiple-files.t ........... ok
t/60-add-tags.t ................. ok
t/api-eof-not-called.t .......... ok
t/api-parse-not-called.t ........ ok
t/attr-invalid-entity.t ......... ok
t/attr-repeated.t ............... ok
t/attr-unclosed-entity.t ........ ok
t/attr-unknown-entity.t ......... ok
t/attr-unknown.t ................ ok
t/attr-use-entity.t ............. ok
t/config-unknown-directive.t .... ok
t/config-unknown-value.t ........ ok
t/doc-tag-required.t ............ ok
t/elem-empty-but-closed.t ....... ok
t/elem-img-alt-missing.t ........ ok
t/elem-img-sizes-missing.t ...... ok
t/elem-input-alt-missing.t ...... ok
t/elem-nonrepeatable.t .......... ok
t/elem-unclosed.t ............... ok
t/elem-unknown.t ................ ok
t/elem-unopened.t ............... ok
t/embed-extensions.t ............ ok
t/nolint.t ...................... ok
t/parse_file.t .................. ok
t/pod-coverage.t ................ ok
t/pod.t ......................... ok
t/random-nobr.t ................. ok
t/strong-id.t ................... ok
t/text-invalid-entity.t ......... ok
t/text-unclosed-entity.t ........ ok
t/text-unknown-entity.t ......... ok
t/text-use-entity.t ............. ok
t/xhtml-html.t .................. ok
All tests successful.
Files=44, Tests=357,  5 wallclock secs ( 0.19 usr  0.02 sys +  4.00 cusr  0.45 csys =  4.66 CPU)
Result: PASS

------------------------------
PREREQUISITES
------------------------------

Prerequisite modules loaded:

requires:

    Module                Need  Have    
    --------------------- ----- --------
    Exporter              0     5.76    
    File::Find            0     1.37    
    HTML::Entities        0     3.75    
    HTML::Parser          3.47  3.75    
    HTML::Tagset          3.03  3.20    
    perl                  5.006 5.033003
    Test::Builder         0     1.302182
    Test::Builder::Tester 0     1.302182
    Test::More            0     1.302182

build_requires:

    Module                Need  Have    
    --------------------- ----- --------
    ExtUtils::MakeMaker   0     7.48    

configure_requires:

    Module                Need  Have    
    --------------------- ----- --------
    ExtUtils::MakeMaker   0     7.48    


------------------------------
ENVIRONMENT AND OTHER CONTEXT
------------------------------

Environment variables:

    AUTOMATED_TESTING = 1
    DATE_MANIP_TEST_DM5 = 1
    LANG = en_US.UTF-8
    LC_ALL = C
    NONINTERACTIVE_TESTING = 1
    PATH = /home/cpan/bin/perl-blead/bin:/home/cpan/bin:/home/cpan/bin:/home/cpan/bin:/usr/local/sbin:/usr/local/bin:/usr/sbin:/usr/bin:/sbin:/bin:/usr/games:/usr/local/games
    PERL5LIB = 
    PERL5OPT = 
    PERL5_CPANPLUS_IS_RUNNING = 9687
    PERL5_CPAN_IS_RUNNING = 9687
    PERL_MM_USE_DEFAULT = 1
    PERL_USE_UNSAFE_INC = 1
    PERL_VERSION = blead
    SHELL = /bin/bash
    TERM = screen.xterm-256color
    TMPDIR = /home/cpan/tmp

Perl special variables (and OS-specific diagnostics, for MSWin32):

    $^X = /home/cpan/bin/perl-blead/bin/perl5.33.3
    $UID/$EUID = 1002 / 1002
    $GID = 1002 1002
    $EGID = 1002 1002

Perl module toolchain versions installed:

    Module              Have    
    ------------------- --------
    CPAN                2.28    
    CPAN::Meta          2.150010
    Cwd                 3.78    
    ExtUtils::CBuilder  0.280234
    ExtUtils::Command   7.48    
    ExtUtils::Install   2.18    
    ExtUtils::MakeMaker 7.48    
    ExtUtils::Manifest  1.72    
    ExtUtils::ParseXS   3.41    
    File::Spec          3.78    
    JSON                4.02    
    JSON::PP            4.05    
    Module::Build       0.4231  
    Module::Signature   0.87    
    Parse::CPAN::Meta   2.150010
    Test::Harness       3.42    
    Test::More          1.302182
    YAML                1.30    
    YAML::Syck          1.32    
    version             0.9928  


--

Summary of my perl5 (revision 5 version 33 subversion 3) configuration:
  Commit id: e84e5a4c05d0d50ccc06ab87ff9d81b44a40d353
  Platform:
    osname=linux
    osvers=4.4.0-190-generic
    archname=x86_64-linux
    uname='linux cjg-trusty 4.4.0-190-generic #220~14.04.1-ubuntu smp tue sep 1 16:57:49 utc 2020 x86_64 x86_64 x86_64 gnulinux '
    config_args='-des -Dprefix=~/bin/perl-blead -Dscriptdir=~/bin/perl-blead/bin -Dusedevel -Duse64bitall'
    hint=recommended
    useposix=true
    d_sigaction=define
    useithreads=undef
    usemultiplicity=undef
    use64bitint=define
    use64bitall=define
    uselongdouble=undef
    usemymalloc=n
    default_inc_excludes_dot=define
  Compiler:
    cc='cc'
    ccflags ='-fwrapv -fno-strict-aliasing -pipe -fstack-protector -I/usr/local/include -D_LARGEFILE_SOURCE -D_FILE_OFFSET_BITS=64'
    optimize='-O2'
    cppflags='-fwrapv -fno-strict-aliasing -pipe -fstack-protector -I/usr/local/include'
    ccversion=''
    gccversion='4.8.4'
    gccosandvers=''
    intsize=4
    longsize=8
    ptrsize=8
    doublesize=8
    byteorder=12345678
    doublekind=3
    d_longlong=define
    longlongsize=8
    d_longdbl=define
    longdblsize=16
    longdblkind=3
    ivtype='long'
    ivsize=8
    nvtype='double'
    nvsize=8
    Off_t='off_t'
    lseeksize=8
    alignbytes=8
    prototype=define
  Linker and Libraries:
    ld='cc'
    ldflags =' -fstack-protector -L/usr/local/lib'
    libpth=/usr/local/lib /usr/lib/gcc/x86_64-linux-gnu/4.8/include-fixed /usr/include/x86_64-linux-gnu /usr/lib /lib/x86_64-linux-gnu /lib/../lib /usr/lib/x86_64-linux-gnu /usr/lib/../lib /lib
    libs=-lpthread -lnsl -ldl -lm -lcrypt -lutil -lc
    perllibs=-lpthread -lnsl -ldl -lm -lcrypt -lutil -lc
    libc=libc-2.19.so
    so=so
    useshrplib=false
    libperl=libperl.a
    gnulibc_version='2.19'
  Dynamic Linking:
    dlsrc=dl_dlopen.xs
    dlext=so
    d_dlsymun=undef
    ccdlflags='-Wl,-E'
    cccdlflags='-fPIC'
    lddlflags='-shared -O2 -L/usr/local/lib -fstack-protector'


Characteristics of this binary (from libperl): 
  Compile-time options:
    HAS_TIMES
    PERLIO_LAYERS
    PERL_COPY_ON_WRITE
    PERL_DONT_CREATE_GVSV
    PERL_MALLOC_WRAP
    PERL_OP_PARENT
    PERL_PRESERVE_IVUV
    PERL_USE_DEVEL
    USE_64_BIT_ALL
    USE_64_BIT_INT
    USE_LARGE_FILES
    USE_LOCALE
    USE_LOCALE_COLLATE
    USE_LOCALE_CTYPE
    USE_LOCALE_NUMERIC
    USE_LOCALE_TIME
    USE_PERLIO
    USE_PERL_ATOF
  Built under linux
  Compiled at Oct 14 2020 17:00:24
  %ENV:
    PERL5LIB=""
    PERL5OPT=""
    PERL5_CPANPLUS_IS_RUNNING="9687"
    PERL5_CPAN_IS_RUNNING="9687"
    PERL_MM_USE_DEFAULT="1"
    PERL_USE_UNSAFE_INC="1"
    PERL_VERSION="blead"
  @INC:
    /home/cpan/bin/perl-blead/lib/site_perl/5.33.3/x86_64-linux
    /home/cpan/bin/perl-blead/lib/site_perl/5.33.3
    /home/cpan/bin/perl-blead/lib/5.33.3/x86_64-linux
    /home/cpan/bin/perl-blead/lib/5.33.3
    .