Getopt-Euclid v0.4.8 Perl 5 v5.32.1 x86_64-linux-thread-multi

Status
Pass
From
Slaven Rezić
Dist
Getopt-Euclid v0.4.8
Platform
Perl 5 v5.32.1 x86_64-linux-thread-multi
Date
2024-10-22 09:01:11
ID
2ef78d76-9054-11ef-9fa7-7b006e8775ea
This distribution has been tested as part of the CPAN Testers
project, supporting the Perl programming language.  See
http://wiki.cpantesters.org/ for more information or email
questions to cpan-testers-discuss@perl.org


--
Dear David Precious,

This is a computer-generated report for Getopt-Euclid-0.4.8
on perl 5.32.1, created by CPAN-Reporter-1.2019.

Thank you for uploading your work to CPAN.  Congratulations!
All tests were successful.

Sections of this report:

    * Tester comments
    * Program output
    * Prerequisites
    * Environment and other context

------------------------------
TESTER COMMENTS
------------------------------

Additional comments from tester:

none provided

------------------------------
PROGRAM OUTPUT
------------------------------

Output from '/usr/bin/make test':

PERL_DL_NONLAZY=1 "/usr/bin/perl" "-MExtUtils::Command::MM" "-MTest::Harness" "-e" "undef *Test::Harness::Switches; test_harness(0, 'blib/lib', 'blib/arch')" t/*.t
# Testing Getopt::Euclid 0.4.5
t/00.load.t ..................... ok
t/any_array.t ................... ok
t/bundle.t ...................... ok
t/compile.t ..................... ok
t/defer.t ....................... ok
t/defer_all.t ................... ok
t/empty_ARGV_array.t ............ ok
t/entity_angles.t ............... ok
t/eval.t ........................ ok
t/excludes.t .................... ok
t/fail_bad_constraint.t ......... ok
t/fail_bad_default.t ............ ok
t/fail_bad_default_ref.t ........ ok
t/fail_bad_excludes.t ........... ok
t/fail_bad_excludes_2.t ......... ok
t/fail_bad_name.t ............... ok
t/fail_bad_name_2.t ............. ok
t/fail_bad_opt_default.t ........ ok
t/fail_bad_opt_default_2.t ...... ok
t/fail_excludes_msg.t ........... ok
t/fail_minimal_clash.t .......... ok
t/fail_misplaced_type.t ......... ok
t/fail_missing_required.t ....... ok
t/fail_missing_var.t ............ ok
t/fail_missing_var_2.t .......... ok
t/fail_no_spec.t ................ ok
t/fail_quoted_args.t ............ ok
t/fail_type.t ................... ok
t/fail_type_msg.t ............... ok
t/fail_type_msg_2.t ............. ok
t/fail_unknown_arg.t ............ ok
t/fail_unknown_mode.t ........... ok
t/fail_unknown_spec.t ........... ok
t/fail_unknown_spec_2.t ......... ok
t/fail_unknown_type.t ........... ok
t/fail_user_constraint.t ........ ok
t/fail_user_constraint_comma.t .. ok
t/fail_user_constraint_type.t ... ok
t/false.t ....................... ok
t/hier.t ........................ ok
t/hier_2.t ...................... ok
t/hier_export.t ................. ok
t/hier_no_pod.t ................. ok
t/ignore_decorations.t .......... ok
t/insert_defaults.t ............. ok
t/minimal.t ..................... ok
t/minimal_2.t ................... ok
t/opt_default.t ................. ok
t/pod.t ......................... skipped: Test::Pod 1.14 required for testing POD
t/pod_cmd_after_cut.t ........... ok
t/pod_coverage.t ................ skipped: Test::Pod::Coverage 1.04 required for testing POD coverage
t/pod_file.t .................... ok
t/quoted_args.t ................. ok
t/quoted_args_2.t ............... ok
t/repeatable.t .................. ok
t/repeated.t .................... ok
t/repeated_2.t .................. ok
t/simple.t ...................... ok
t/simple_alternate.t ............ ok
t/simple_shuffle.t .............. ok
t/std_arguments.t ............... ok
t/substr.t ...................... ok
t/substr_2.t .................... ok
t/types.t ....................... ok
t/types_regex.t ................. ok
t/types_vars.t .................. ok
t/vars_export.t ................. ok
All tests successful.
Files=67, Tests=677,  5 wallclock secs ( 0.17 usr  0.09 sys +  4.56 cusr  1.05 csys =  5.87 CPU)
Result: PASS

------------------------------
PREREQUISITES
------------------------------

Prerequisite modules loaded:

requires:

    Module                Need     Have    
    --------------------- -------- --------
    Carp                  0        1.50    
    File::Basename        0        2.85    
    File::Spec::Functions 0        3.78    
    IO::Page              0        0.02    
    IO::Pager::Page       0        1.04    
    List::Util            0        1.56    
    perl                  5.006001 5.032001
    Pod::PlainText        0        2.07    
    Pod::Select           0        1.67    
    re                    0        0.40    
    strict                0        1.11    
    Symbol                0        1.08    
    Text::Balanced        0        2.04    
    version               0        0.9928  
    warnings              0        1.47    

build_requires:

    Module                Need     Have    
    --------------------- -------- --------
    Data::Dumper          0        2.174   
    ExtUtils::MakeMaker   0        7.60    
    lib                   0        0.65    
    Pod::Checker          0        1.74    
    Test::More            0        1.302183

configure_requires:

    Module                Need     Have    
    --------------------- -------- --------
    ExtUtils::MakeMaker   0        7.60    


------------------------------
ENVIRONMENT AND OTHER CONTEXT
------------------------------

Environment variables:

    LANG = en_US.UTF-8
    PATH = /usr/local/bin:/usr/bin:/bin:/usr/local/sbin:/usr/sbin:/sbin:/home/cpansand/bin/linux-gnu:/home/cpansand/bin/sh:/home/cpansand/bin:/usr/games:/home/cpansand/devel:/home/eserte/src/srezic-misc/scripts
    PERL5LIB = /home/cpansand/.cpan/build/2024102208/Pod-Parser-1.67-0/blib/arch:/home/cpansand/.cpan/build/2024102208/Pod-Parser-1.67-0/blib/lib:/home/cpansand/.cpan/build/2024102208/IO-Pager-2.10-4/blib/arch:/home/cpansand/.cpan/build/2024102208/IO-Pager-2.10-4/blib/lib:/home/cpansand/.cpan/build/2024102208/io-page-0.02-4/blib/arch:/home/cpansand/.cpan/build/2024102208/io-page-0.02-4/blib/lib
    PERL5OPT = 
    PERL5_CPANPLUS_IS_RUNNING = 2236765
    PERL5_CPAN_IS_RUNNING = 2236765
    PERL5_CPAN_IS_RUNNING_IN_RECURSION = 2236696,2236765
    PERLDOC = -MPod::Perldoc::ToTextOverstrike
    PERL_BATCH = yes
    PERL_CANARY_STABILITY_NOPROMPT = 1
    PERL_CPAN_REPORTER_CONFIG = /var/tmp/cpansmoker-1023/2024102208/cpanreporter_000_config.ini
    PERL_EXTUTILS_AUTOINSTALL = --defaultdeps
    PERL_USE_UNSAFE_INC = 1
    SHELL = /usr/bin/zsh
    TERM = screen
    TMPDIR = /var/tmp/cpansmoker-1023/2024102208

Perl special variables (and OS-specific diagnostics, for MSWin32):

    $^X = /usr/bin/perl
    $UID/$EUID = 1023 / 1023
    $GID = 1023 1023
    $EGID = 1023 1023

Perl module toolchain versions installed:

    Module              Have    
    ------------------- --------
    CPAN                2.29    
    CPAN::Meta          2.150010
    Cwd                 3.78    
    ExtUtils::CBuilder  0.280236
    ExtUtils::Command   7.60    
    ExtUtils::Install   2.20    
    ExtUtils::MakeMaker 7.60    
    ExtUtils::Manifest  1.73    
    ExtUtils::ParseXS   3.40    
    File::Spec          3.78    
    JSON                n/a     
    JSON::PP            4.06    
    Module::Build       0.4231  
    Module::Signature   0.88    
    Parse::CPAN::Meta   2.150010
    Test2               1.302183
    Test::Harness       3.42    
    Test::More          1.302183
    YAML                n/a     
    YAML::Syck          1.34    
    version             0.9928  


--

Summary of my perl5 (revision 5 version 32 subversion 1) configuration:
   
  Platform:
    osname=linux
    osvers=5.4.188-104.359.amzn2.x86_64
    archname=x86_64-linux-thread-multi
    uname='linux pb-8ea2f44d-17eb-421d-964f-396bc542e816-b-x86-64 5.4.188-104.359.amzn2.x86_64 #1 smp thu apr 14 20:53:13 utc 2022 x86_64 x86_64 x86_64 gnulinux '
    config_args='-des -Doptimize=none -Dccflags=-O2 -flto=auto -ffat-lto-objects -fexceptions -g -grecord-gcc-switches -pipe -Wall -Werror=format-security -Wp,-D_FORTIFY_SOURCE=2 -Wp,-D_GLIBCXX_ASSERTIONS -specs=/usr/lib/rpm/redhat/redhat-hardened-cc1 -fstack-protector-strong -specs=/usr/lib/rpm/redhat/redhat-annobin-cc1  -m64 -march=x86-64-v2 -mtune=generic -fasynchronous-unwind-tables -fstack-clash-protection -fcf-protection -Dldflags=-Wl,-z,relro -Wl,--as-needed  -Wl,-z,now -specs=/usr/lib/rpm/redhat/redhat-hardened-ld -specs=/usr/lib/rpm/redhat/redhat-annobin-cc1  -Dccdlflags=-Wl,--enable-new-dtags -Wl,-z,relro -Wl,--as-needed  -Wl,-z,now -specs=/usr/lib/rpm/redhat/redhat-hardened-ld -specs=/usr/lib/rpm/redhat/redhat-annobin-cc1  -Dlddlflags=-shared -Wl,-z,relro -Wl,--as-needed  -Wl,-z,now -specs=/usr/lib/rpm/redhat/redhat-hardened-ld -specs=/usr/lib/rpm/redhat/redhat-annobin-cc1  -Dshrpdir=/usr/lib64 -DDEBUGGING=-g -Dversion=5.32.1 -Dmyhostname=localhost -Dperladmin=root@localhost -Dcc=gcc -Dcf_by=Red Hat, Inc. -Dprefix=/usr -Dvendorprefix=/usr -Dsiteprefix=/usr/local -Dsitelib=/usr/local/share/perl5/5.32 -Dsitearch=/usr/local/lib64/perl5/5.32 -Dprivlib=/usr/share/perl5 -Dvendorlib=/usr/share/perl5/vendor_perl -Darchlib=/usr/lib64/perl5 -Dvendorarch=/usr/lib64/perl5/vendor_perl -Darchname=x86_64-linux-thread-multi -Dlibpth=/usr/local/lib64 /lib64 /usr/lib64 -Duseshrplib -Dusethreads -Duseithreads -Dusedtrace=/usr/bin/dtrace -Duselargefiles -Dd_semctl_semun -Di_db -Ui_ndbm -Di_gdbm -Di_shadow -Di_syslog -Dman3ext=3pm -Duseperlio -Dinstallusrbinperl=n -Ubincompat5005 -Uversiononly -Dpager=/usr/bin/less -isr -Dd_gethostent_r_proto -Ud_endhostent_r_proto -Ud_sethostent_r_proto -Ud_endprotoent_r_proto -Ud_setprotoent_r_proto -Ud_endservent_r_proto -Ud_setservent_r_proto -Dscriptdir=/usr/bin -Dusesitecustomize -Duse64bitint'
    hint=recommended
    useposix=true
    d_sigaction=define
    useithreads=define
    usemultiplicity=define
    use64bitint=define
    use64bitall=define
    uselongdouble=undef
    usemymalloc=n
    default_inc_excludes_dot=define
    bincompat5005=undef
  Compiler:
    cc='gcc'
    ccflags ='-D_REENTRANT -D_GNU_SOURCE -O2 -flto=auto -ffat-lto-objects -fexceptions -g -grecord-gcc-switches -pipe -Wall -Werror=format-security -Wp,-D_FORTIFY_SOURCE=2 -Wp,-D_GLIBCXX_ASSERTIONS -specs=/usr/lib/rpm/redhat/redhat-hardened-cc1 -fstack-protector-strong -specs=/usr/lib/rpm/redhat/redhat-annobin-cc1 -m64 -march=x86-64-v2 -mtune=generic -fasynchronous-unwind-tables -fstack-clash-protection -fcf-protection -fwrapv -fno-strict-aliasing -I/usr/local/include -D_LARGEFILE_SOURCE -D_FILE_OFFSET_BITS=64'
    optimize='  -g'
    cppflags='-D_REENTRANT -D_GNU_SOURCE -O2 -flto=auto -ffat-lto-objects -fexceptions -g -grecord-gcc-switches -pipe -Wall -Werror=format-security -Wp,-D_FORTIFY_SOURCE=2 -Wp,-D_GLIBCXX_ASSERTIONS -specs=/usr/lib/rpm/redhat/redhat-hardened-cc1 -fstack-protector-strong -specs=/usr/lib/rpm/redhat/redhat-annobin-cc1 -m64 -march=x86-64-v2 -mtune=generic -fasynchronous-unwind-tables -fstack-clash-protection -fcf-protection -fwrapv -fno-strict-aliasing -I/usr/local/include'
    ccversion=''
    gccversion='11.4.1 20231218 (Red Hat 11.4.1-3)'
    gccosandvers=''
    intsize=4
    longsize=8
    ptrsize=8
    doublesize=8
    byteorder=12345678
    doublekind=3
    d_longlong=define
    longlongsize=8
    d_longdbl=define
    longdblsize=16
    longdblkind=3
    ivtype='long'
    ivsize=8
    nvtype='double'
    nvsize=8
    Off_t='off_t'
    lseeksize=8
    alignbytes=8
    prototype=define
  Linker and Libraries:
    ld='gcc'
    ldflags ='-Wl,-z,relro -Wl,--as-needed -Wl,-z,now -specs=/usr/lib/rpm/redhat/redhat-hardened-ld -specs=/usr/lib/rpm/redhat/redhat-annobin-cc1  -fstack-protector-strong -L/usr/local/lib'
    libpth=/usr/local/lib64 /lib64 /usr/lib64 /usr/local/lib /usr/lib /lib/../lib64 /usr/lib/../lib64 /lib
    libs=-lpthread -lresolv -lgdbm -ldb -ldl -lm -lcrypt -lutil -lc -lgdbm_compat
    perllibs=-lpthread -lresolv -ldl -lm -lcrypt -lutil -lc
    libc=/lib/../lib64/libc.so.6
    so=so
    useshrplib=true
    libperl=libperl.so
    gnulibc_version='2.34'
  Dynamic Linking:
    dlsrc=dl_dlopen.xs
    dlext=so
    d_dlsymun=undef
    ccdlflags='-Wl,--enable-new-dtags -Wl,-z,relro -Wl,--as-needed -Wl,-z,now -specs=/usr/lib/rpm/redhat/redhat-hardened-ld -specs=/usr/lib/rpm/redhat/redhat-annobin-cc1 '
    cccdlflags='-fPIC'
    lddlflags='-lpthread -shared -Wl,-z,relro -Wl,--as-needed -Wl,-z,now -specs=/usr/lib/rpm/redhat/redhat-hardened-ld -specs=/usr/lib/rpm/redhat/redhat-annobin-cc1  -L/usr/local/lib -fstack-protector-strong'


Characteristics of this binary (from libperl): 
  Compile-time options:
    HAS_TIMES
    MULTIPLICITY
    PERLIO_LAYERS
    PERL_COPY_ON_WRITE
    PERL_DONT_CREATE_GVSV
    PERL_IMPLICIT_CONTEXT
    PERL_MALLOC_WRAP
    PERL_OP_PARENT
    PERL_PRESERVE_IVUV
    USE_64_BIT_ALL
    USE_64_BIT_INT
    USE_ITHREADS
    USE_LARGE_FILES
    USE_LOCALE
    USE_LOCALE_COLLATE
    USE_LOCALE_CTYPE
    USE_LOCALE_NUMERIC
    USE_LOCALE_TIME
    USE_PERLIO
    USE_PERL_ATOF
    USE_REENTRANT_API
    USE_SITECUSTOMIZE
    USE_THREAD_SAFE_LOCALE
  Locally applied patches:
    Fedora Patch1: Removes date check, Fedora/RHEL specific
    Fedora Patch2: support for libdir64
    Fedora Patch3: use libresolv instead of libbind
    Fedora Patch4: USE_MM_LD_RUN_PATH
    Fedora Patch5: Provide MM::maybe_command independently (bug #1129443)
    Fedora Patch6: Dont run one io test due to random builder failures
    Fedora Patch8: Define SONAME for libperl.so
    Fedora Patch9: Install libperl.so to -Dshrpdir value
    Fedora Patch10: Make *DBM_File desctructors thread-safe (RT#61912)
    Fedora Patch11: Replace EU::MakeMaker dependency with EU::MM::Utils in IPC::Cmd (bug #1129443)
    Fedora Patch12: Link XS modules to pthread library to fix linking with -z defs
    Fedora Patch13: Pass the correct CFLAGS to dtrace
    Fedora Patch14: Do not use C compiler reserved identifiers
    Fedora Patch15: Fix SvUV_nomg() macro definition
    Fedora Patch16: Fix SvTRUE() documentation
    Fedora Patch17: Fix ext/XS-APItest/t/utf8_warn_base.pl tests
    Fedora Patch18: Fix IO::Handle::error() to report write errors (GH#6799)
    Fedora Patch19: Fix IO::Handle::error() to report write errors (GH#6799)
    Fedora Patch21: Fix setting a non-blocking mode in IO::Socket::UNIX (GH#17787)
    Fedora Patch22: Fix running actions after stepping in a debugger (GH#17901)
    Fedora Patch23: Fix running actions after stepping in a debugger (GH#17901)
    Fedora Patch24: Fix running actions after stepping in a debugger (GH#17901)
    Fedora Patch25: Fix a buffer size for asctime_r() and ctime_r() functions
    Fedora Patch26: Prevent from an integer overflow in RenewDouble() macro
    Fedora Patch28: Fix a number of arguments passed to a BOOT XS subroutine (GH#17755)
    Fedora Patch29: Fix an IO::Handle spurious error reported for regular file handles (GH#18019)
    Fedora Patch30: Fix inheritance resolution of lexial objects in a debugger (GH#17661)
    Fedora Patch35: Fix sorting with a block that calls return (GH#18081)
    Fedora Patch38: Fix sv_collxfrm macro to respect locale
    Fedora Patch39: Fix an iterator signedness in handling an mro exception (GH#18155)
    Fedora Patch40: Fix a code flow in Perl_sv_inc_nomg()
    Fedora Patch41: Fix an undefined behavior in Perl_custom_op_get_field()
    Fedora Patch42: Fix Config variable names in in t/op tests
    Fedora Patch43: Fix fetching a magic on the stacked file test operators
    Fedora Patch44: Fix a crash in optimizing split() (GH#18232)
    Fedora Patch45: Fix a crash in optimizing split() (GH#18232)
    Fedora Patch46: Fix a crash in optimizing split() (GH#18232)
    Fedora Patch47: Fix a crash in optimizing split() (GH#18232)
    Fedora Patch48: Make accessing environment by DynaLoader thread-safe
    Fedora Patch49: Use duplocale() if available
    Fedora Patch50: Fix fc() in Turkish locale
    Fedora Patch51: Fix croaking on "my $_" when "use utf8" is in effect (GH#18449)
    Fedora Patch52: Fix PERL_UNUSED_ARG() definition in XSUB.h
    Fedora Patch53: Add missing entries to perldiag (GH#18276)
    Fedora Patch54: Protect locale tests from LANGUAGE environment variable
    Fedora Patch55: Prevent the number of buckets in a hash from getting too large
    Fedora Patch56: Fix a memory leak when compiling a regular expression (GH#18604)
    Fedora Patch57: Fix dumping a hash entry of PL_strtab type
    Fedora Patch58: Fix an arithmetic left shift of a minimal integer value (GH#18639)
    RHEL Patch59: Fix write past buffer end via illegal user-defined Unicode property (CVE-2023-47038)
    Fedora Patch200: Link XS modules to libperl.so with EU::CBuilder on Linux
    Fedora Patch201: Link XS modules to libperl.so with EU::MM on Linux
    Fedora Patch202: Add definition of OPTIMIZE to .ph files (bug #2159759)
  Built under linux
  Compiled at Nov 27 2023 00:00:00
  %ENV:
    PERL5LIB="/home/cpansand/.cpan/build/2024102208/Pod-Parser-1.67-0/blib/arch:/home/cpansand/.cpan/build/2024102208/Pod-Parser-1.67-0/blib/lib:/home/cpansand/.cpan/build/2024102208/IO-Pager-2.10-4/blib/arch:/home/cpansand/.cpan/build/2024102208/IO-Pager-2.10-4/blib/lib:/home/cpansand/.cpan/build/2024102208/io-page-0.02-4/blib/arch:/home/cpansand/.cpan/build/2024102208/io-page-0.02-4/blib/lib"
    PERL5OPT=""
    PERL5_CPANPLUS_IS_RUNNING="2236765"
    PERL5_CPAN_IS_RUNNING="2236765"
    PERL5_CPAN_IS_RUNNING_IN_RECURSION="2236696,2236765"
    PERLDOC="-MPod::Perldoc::ToTextOverstrike"
    PERL_BATCH="yes"
    PERL_CANARY_STABILITY_NOPROMPT="1"
    PERL_CPAN_REPORTER_CONFIG="/var/tmp/cpansmoker-1023/2024102208/cpanreporter_000_config.ini"
    PERL_EXTUTILS_AUTOINSTALL="--defaultdeps"
    PERL_USE_UNSAFE_INC="1"
  @INC:
    /home/cpansand/.cpan/build/2024102208/Pod-Parser-1.67-0/blib/arch
    /home/cpansand/.cpan/build/2024102208/Pod-Parser-1.67-0/blib/lib
    /home/cpansand/.cpan/build/2024102208/IO-Pager-2.10-4/blib/arch
    /home/cpansand/.cpan/build/2024102208/IO-Pager-2.10-4/blib/lib
    /home/cpansand/.cpan/build/2024102208/io-page-0.02-4/blib/arch
    /home/cpansand/.cpan/build/2024102208/io-page-0.02-4/blib/lib
    /usr/local/lib64/perl5/5.32
    /usr/local/share/perl5/5.32
    /usr/lib64/perl5/vendor_perl
    /usr/share/perl5/vendor_perl
    /usr/lib64/perl5
    /usr/share/perl5
    .