Back
From: metabase:user:634ccbb4-104e-11e3-ad87-6b7a21d35fec
Subject: PASS File-CheckTree-4.42 v5.18.1 Mac OS X
Date: 2013-09-16T16:15:20Z
This distribution has been tested as part of the CPAN Testers
project, supporting the Perl programming language. See
http://wiki.cpantesters.org/ for more information or email
questions to cpan-testers-discuss@perl.org
--
Dear Ricardo SIGNES,
This is a computer-generated report for File-CheckTree-4.42
on perl 5.18.1, created by CPAN-Reporter-1.2010.
Thank you for uploading your work to CPAN. Congratulations!
All tests were successful.
Sections of this report:
* Tester comments
* Program output
* Prerequisites
* Environment and other context
------------------------------
TESTER COMMENTS
------------------------------
Additional comments from tester:
none provided
------------------------------
PROGRAM OUTPUT
------------------------------
Output from '/usr/bin/make test':
PERL_DL_NONLAZY=1 /usr/local/perl64/bin/perl "-MExtUtils::Command::MM" "-e" "test_harness(0, 'blib/lib', 'blib/arch')" t/*.t
t/CheckTree.t ........... ok
t/release-eol.t ......... skipped: these tests are for release candidate testing
t/release-pod-syntax.t .. skipped: these tests are for release candidate testing
All tests successful.
Files=3, Tests=23, 1 wallclock secs ( 0.06 usr 0.01 sys + 0.17 cusr 0.09 csys = 0.33 CPU)
Result: PASS
------------------------------
PREREQUISITES
------------------------------
Prerequisite modules loaded:
requires:
Module Need Have
------------------- ---- ------
Cwd 0 3.40
Exporter 0 5.68
File::Spec 0 3.40
if 0 0.0602
configure_requires:
Module Need Have
------------------- ---- ------
ExtUtils::MakeMaker 6.30 6.76
------------------------------
ENVIRONMENT AND OTHER CONTEXT
------------------------------
Environment variables:
LANG = en_US.UTF-8
LC_ALL = C
PATH = /usr/local/perl64/bin:.:~/bin:/usr/local/bin:/usr/bin:/bin:/usr/local/sbin:/usr/sbin:/sbin:~/bin/servers:/opt/subversion/bin:/usr/local/mysql/bin:/usr/local/pear/bin
PERL5LIB = /Users/leahym/.cpan/build/Config-Tiny-2.19-d5DmuG/blib/arch:/Users/leahym/.cpan/build/Config-Tiny-2.19-d5DmuG/blib/lib
PERL5OPT =
PERL5_CPANPLUS_IS_RUNNING = 42147
PERL5_CPAN_IS_RUNNING = 42147
SHELL = /bin/bash
TERM = xterm-256color
TMPDIR = /var/folders/c0/n2xqh9gn0wggnk__qjl440mm0000gp/T/
Perl special variables (and OS-specific diagnostics, for MSWin32):
$^X = /usr/local/perl64/bin/perl
$UID/$EUID = 502 / 502
$GID = 20 20 402 405 403 12 61 404
$EGID = 20 20 402 405 403 12 61 404
Perl module toolchain versions installed:
Module Have
------------------- --------
CPAN 2.00
CPAN::Meta 2.132510
Cwd 3.40
ExtUtils::CBuilder 0.280212
ExtUtils::Command 1.18
ExtUtils::Install 1.59
ExtUtils::MakeMaker 6.76
ExtUtils::Manifest 1.63
ExtUtils::ParseXS 3.22
File::Spec 3.40
JSON 2.59
JSON::PP 2.27202
Module::Build 0.4003
Module::Signature n/a
Parse::CPAN::Meta 1.4405
Test::Harness 3.26
Test::More 0.98
YAML 0.84
YAML::Syck 1.27
version 0.9902
--
Summary of my perl5 (revision 5 version 18 subversion 1) configuration:
Platform:
osname=darwin, osvers=11.4.2, archname=darwin-thread-multi-2level
uname='darwin satyagraha 11.4.2 darwin kernel version 11.4.2: thu aug 23 16:26:45 pdt 2012; root:xnu-1699.32.7~1release_i386 i386 '
config_args='-ds -e -Dprefix=/usr/local/perl64 -Dcc=clang -Doptimize=-O3 -Dcflags=-I/usr/local/zlib/include -arch x86_64 -O3 -DL_ENDIAN -Wall -no-cpp-precomp -Qunused-arguments -Dccflags=-I/usr/local/zlib/include -arch x86_64 -O3 -DL_ENDIAN -Wall -Qunused-arguments -Uldflags= -Dlibpth=/usr/local/ssl-clang/lib /usr/local/zlib/lib /usr/local/lib /usr/lib -Dman3ext=3pm -Duseithreads -Duseshrplib -Dinc_version_list=none -Dperladmin=michael.leahy1@comcast.net'
hint=previous, useposix=true, d_sigaction=define
useithreads=define, usemultiplicity=define
useperlio=define, d_sfio=undef, uselargefiles=define, usesocks=undef
use64bitint=define, use64bitall=define, uselongdouble=undef
usemymalloc=n, bincompat5005=undef
Compiler:
cc='clang', ccflags ='-arch x86_64 -O3 -DL_ENDIAN -Wall -Qunused-arguments -fno-common -DPERL_DARWIN -no-cpp-precomp -fno-strict-aliasing -pipe -fstack-protector -I/usr/local/include',
optimize='-O3',
cppflags='-no-cpp-precomp -arch x86_64 -O3 -DL_ENDIAN -Wall -Qunused-arguments -fno-common -DPERL_DARWIN -no-cpp-precomp -fno-strict-aliasing -pipe -fstack-protector -I/usr/local/include -arch x86_64 -O3 -DL_ENDIAN -Wall -Qunused-arguments -fno-common -DPERL_DARWIN -no-cpp-precomp -fno-strict-aliasing -pipe -fstack-protector -I/usr/local/include'
ccversion='', gccversion='4.2.1 Compatible Apple LLVM 4.2 (clang-425.0.28)', gccosandvers=''
intsize=4, longsize=8, ptrsize=8, doublesize=8, byteorder=12345678
d_longlong=define, longlongsize=8, d_longdbl=define, longdblsize=16
ivtype='long', ivsize=8, nvtype='double', nvsize=8, Off_t='off_t', lseeksize=8
alignbytes=8, prototype=define
Linker and Libraries:
ld='env MACOSX_DEPLOYMENT_TARGET=10.6 clang', ldflags =' -fstack-protector -L/usr/local/lib'
libpth=/usr/local/ssl-clang/lib /usr/local/zlib/lib /usr/local/lib /usr/lib
libs=-ldbm -ldl -lm -lutil -lc
perllibs=-ldl -lm -lutil -lc
libc=, so=dylib, useshrplib=true, libperl=libperl.dylib
gnulibc_version=''
Dynamic Linking:
dlsrc=dl_dlopen.xs, dlext=bundle, d_dlsymun=undef, ccdlflags=' '
cccdlflags=' ', lddlflags=' -bundle -undefined dynamic_lookup -L/usr/local/lib -fstack-protector'
Characteristics of this binary (from libperl):
Compile-time options: HAS_TIMES MULTIPLICITY PERLIO_LAYERS
PERL_DONT_CREATE_GVSV
PERL_HASH_FUNC_ONE_AT_A_TIME_HARD
PERL_IMPLICIT_CONTEXT PERL_MALLOC_WRAP
PERL_PRESERVE_IVUV PERL_SAWAMPERSAND USE_64_BIT_ALL
USE_64_BIT_INT USE_ITHREADS USE_LARGE_FILES
USE_LOCALE USE_LOCALE_COLLATE USE_LOCALE_CTYPE
USE_LOCALE_NUMERIC USE_PERLIO USE_PERL_ATOF
USE_REENTRANT_API
Built under darwin
Compiled at Sep 14 2013 07:16:36
%ENV:
PERL5LIB="/Users/leahym/.cpan/build/Config-Tiny-2.19-d5DmuG/blib/arch:/Users/leahym/.cpan/build/Config-Tiny-2.19-d5DmuG/blib/lib"
PERL5OPT=""
PERL5_CPANPLUS_IS_RUNNING="42147"
PERL5_CPAN_IS_RUNNING="42147"
@INC:
/Users/leahym/.cpan/build/Config-Tiny-2.19-d5DmuG/blib/arch
/Users/leahym/.cpan/build/Config-Tiny-2.19-d5DmuG/blib/lib
/usr/local/perl64/lib/site_perl/5.18.1/darwin-thread-multi-2level
/usr/local/perl64/lib/site_perl/5.18.1
/usr/local/perl64/lib/5.18.1/darwin-thread-multi-2level
/usr/local/perl64/lib/5.18.1
.