Report for IO-Iron-0.11

Back
From: metabase:user:c6677c0d-6d3c-1014-9681-5f43afe32da0
Subject: PASS IO-Iron-0.11 v5.20.1 
Date: 2014-09-22T03:38:02Z

This distribution has been tested as part of the CPAN Testers
project, supporting the Perl programming language.  See
http://wiki.cpantesters.org/ for more information or email
questions to cpan-testers-discuss@perl.org


--
Dear Mikko Koivunalho,

This is a computer-generated report for IO-Iron-0.11
on perl 5.20.1, created by CPAN-Reporter-1.2011.

Thank you for uploading your work to CPAN.  Congratulations!
All tests were successful.

Sections of this report:

    * Tester comments
    * Program output
    * Prerequisites
    * Environment and other context

------------------------------
TESTER COMMENTS
------------------------------

Additional comments from tester:

this report is from an automated smoke testing program
and was not reviewed by a human for accuracy

------------------------------
PROGRAM OUTPUT
------------------------------

Output from 'C:\Smoker\5201x64\c\bin\dmake.exe test':

"C:\Smoker\5201x64\perl\bin\perl.exe" "-MExtUtils::Command::MM" "-MTest::Harness" "-e" "undef *Test::Harness::Switches; test_harness(0, 'blib\lib', 'blib\arch')" t/Iron/*.t t/IronCache/*.t t/IronMQ/*.t t/IronWorker/*.t
# Testing IO::Iron::IronMQ 0.11, Perl 5.020001, C:\Smoker\5201x64\perl\bin\perl.exe
# test ReadIronMQConfig
# Current dir config filename: iron.json
# Extra config filename: t\.IronMQTestConfig.json
t/Iron/client_readconfig.t ... ok
# Testing IO::Iron 0.11, Perl 5.020001, C:\Smoker\5201x64\perl\bin\perl.exe
t/Iron/load.t ................ ok
# Testing IO::Iron::IronCache::Client with policies, Perl 5.020001, C:\Smoker\5201x64\perl\bin\perl.exe
t/IronCache/cache_policy.t ... ok
# Testing IO::Iron::IronCache::Client with policies, Perl 5.020001, C:\Smoker\5201x64\perl\bin\perl.exe
t/IronCache/cache_policy2.t .. ok
# Testing IO::Iron::IronCache, Perl 5.020001, C:\Smoker\5201x64\perl\bin\perl.exe
t/IronCache/load.t ........... ok
# Testing IO::Iron::IronMQ 0.11, Perl 5.020001, C:\Smoker\5201x64\perl\bin\perl.exe
t/IronMQ/load.t .............. ok
# Testing IO::Iron::IronWorker 0.11, Perl 5.020001, C:\Smoker\5201x64\perl\bin\perl.exe
t/IronWorker/load.t .......... ok
All tests successful.
Files=7, Tests=92,  4 wallclock secs ( 0.16 usr +  0.03 sys =  0.19 CPU)
Result: PASS

------------------------------
PREREQUISITES
------------------------------

Prerequisite modules loaded:

requires:

    Module             Need Have    
    ------------------ ---- --------
    Carp               0    1.3301  
    Carp::Assert       0    0.21    
    Carp::Assert::More 0    1.14    
    constant           0    1.31    
    Data::Dumper       0    2.154   
    Data::UUID         0    1.219   
    English            0    1.09    
    Exception::Class   0    1.38    
    Exporter           0    5.71    
    File::HomeDir      0    1.00    
    File::Slurp        0    9999.19 
    File::Spec         0    3.48    
    Hash::Util         0.06 0.16    
    JSON::MaybeXS      0    1.002002
    Log::Any           0    0.15    
    Params::Validate   0    1.13    
    parent             0    0.228   
    REST::Client       0    271     
    Scalar::Util       0    1.41    
    strict             0    1.08    
    Try::Tiny          0    0.22    
    URI::Escape        0    3.31    
    warnings           0    1.23    

build_requires:

    Module             Need Have    
    ------------------ ---- --------
    File::Copy         0    2.30    
    File::Remove       0    1.52    
    lib                0    0.63    
    Log::Any::Test     0    0.15    
    Test::Exception    0    0.35    
    Test::More         0    1.001006


------------------------------
ENVIRONMENT AND OTHER CONTEXT
------------------------------

Environment variables:

    AUTOMATED_TESTING = 1
    COMSPEC = C:\Windows\system32\cmd.exe
    NUMBER_OF_PROCESSORS = 4
    PATH = C:\Windows\system32;C:\Windows;C:\Windows\System32\Wbem;C:\Smoker\5201x64\perl\site\bin;C:\Smoker\5201x64\perl\bin;C:\Smoker\5201x64\c\bin;c:\orainstant64
    PERL5LIB = 
    PERL5OPT = 
    PERL5_CPANPLUS_IS_RUNNING = 3540
    PERL5_CPAN_IS_RUNNING = 3540
    PERL5_CPAN_IS_RUNNING_IN_RECURSION = 4032,3540
    PERL_CR_SMOKER_CURRENT = IO-Iron-0.11
    PERL_EXTUTILS_AUTOINSTALL = --defaultdeps
    PERL_MM_USE_DEFAULT = 1
    PROCESSOR_IDENTIFIER = Intel64 Family 6 Model 13 Stepping 3, GenuineIntel
    TEMP = C:\Users\smoker\AppData\Local\Temp\3

Perl special variables (and OS-specific diagnostics, for MSWin32):

    $^X = C:\Smoker\5201x64\perl\bin\perl.exe
    $UID/$EUID = 0 / 0
    $GID = 0
    $EGID = 0
    Win32::GetOSName = Win2012
    Win32::GetOSVersion = , 6, 2, 9200, 2, 0, 0, 400, 3
    Win32::FsType = NTFS
    Win32::IsAdminUser = 0

Perl module toolchain versions installed:

    Module              Have    
    ------------------- --------
    CPAN                2.05    
    CPAN::Meta          2.142060
    Cwd                 3.48    
    ExtUtils::CBuilder  0.280219
    ExtUtils::Command   1.18    
    ExtUtils::Install   2.04    
    ExtUtils::MakeMaker 6.99_15 
    ExtUtils::Manifest  1.68    
    ExtUtils::ParseXS   3.24    
    File::Spec          3.48    
    JSON                2.90    
    JSON::PP            2.27203 
    Module::Build       0.4210  
    Module::Signature   0.73    
    Parse::CPAN::Meta   1.4414  
    Test::Harness       3.33    
    Test::More          1.001006
    YAML                1.11    
    YAML::Syck          n/a     
    version             0.9909  


--

Summary of my perl5 (revision 5 version 20 subversion 1) configuration:
   
  Platform:
    osname=MSWin32, osvers=6.3, archname=MSWin32-x64-multi-thread
    uname='Win32 strawberry-perl 5.20.1.1 #1 Mon Sep 15 13:26:45 2014 x64'
    config_args='undef'
    hint=recommended, useposix=true, d_sigaction=undef
    useithreads=define, usemultiplicity=define
    use64bitint=define, use64bitall=undef, uselongdouble=undef
    usemymalloc=n, bincompat5005=undef
  Compiler:
    cc='gcc', ccflags =' -s -O2 -DWIN32 -DWIN64 -DCONSERVATIVE  -DPERL_TEXTMODE_SCRIPTS -DPERL_IMPLICIT_CONTEXT -DPERL_IMPLICIT_SYS -DUSE_PERLIO -fwrapv -fno-strict-aliasing -mms-bitfields',
    optimize='-s -O2',
    cppflags='-DWIN32'
    ccversion='', gccversion='4.8.3', gccosandvers=''
    intsize=4, longsize=4, ptrsize=8, doublesize=8, byteorder=12345678
    d_longlong=define, longlongsize=8, d_longdbl=define, longdblsize=12
    ivtype='long long', ivsize=8, nvtype='double', nvsize=8, Off_t='long long', lseeksize=8
    alignbytes=8, prototype=define
  Linker and Libraries:
    ld='g++.exe', ldflags ='-s -L"C:\Smoker\5201x64\perl\lib\CORE" -L"C:\Smoker\5201x64\c\lib"'
    libpth=C:\Smoker\5201x64\c\lib C:\Smoker\5201x64\c\x86_64-w64-mingw32\lib C:\Smoker\5201x64\c\lib\gcc\x86_64-w64-mingw32\4.8.3
    libs=-lmoldname -lkernel32 -luser32 -lgdi32 -lwinspool -lcomdlg32 -ladvapi32 -lshell32 -lole32 -loleaut32 -lnetapi32 -luuid -lws2_32 -lmpr -lwinmm -lversion -lodbc32 -lodbccp32 -lcomctl32
    perllibs=-lmoldname -lkernel32 -luser32 -lgdi32 -lwinspool -lcomdlg32 -ladvapi32 -lshell32 -lole32 -loleaut32 -lnetapi32 -luuid -lws2_32 -lmpr -lwinmm -lversion -lodbc32 -lodbccp32 -lcomctl32
    libc=, so=dll, useshrplib=true, libperl=libperl520.a
    gnulibc_version=''
  Dynamic Linking:
    dlsrc=dl_win32.xs, dlext=xs.dll, d_dlsymun=undef, ccdlflags=' '
    cccdlflags=' ', lddlflags='-mdll -s -L"C:\Smoker\5201x64\perl\lib\CORE" -L"C:\Smoker\5201x64\c\lib"'


Characteristics of this binary (from libperl): 
  Compile-time options: HAS_TIMES HAVE_INTERP_INTERN MULTIPLICITY
                        PERLIO_LAYERS PERL_DONT_CREATE_GVSV
                        PERL_HASH_FUNC_ONE_AT_A_TIME_HARD
                        PERL_IMPLICIT_CONTEXT PERL_IMPLICIT_SYS
                        PERL_MALLOC_WRAP PERL_NEW_COPY_ON_WRITE
                        PERL_PRESERVE_IVUV USE_64_BIT_INT USE_ITHREADS
                        USE_LARGE_FILES USE_LOCALE USE_LOCALE_COLLATE
                        USE_LOCALE_CTYPE USE_LOCALE_NUMERIC USE_PERLIO
                        USE_PERL_ATOF
  Built under MSWin32
  Compiled at Sep 15 2014 13:30:55
  %ENV:
    PERL5_CPANPLUS_IS_RUNNING="3540"
    PERL5_CPAN_IS_RUNNING="3540"
    PERL5_CPAN_IS_RUNNING_IN_RECURSION="4032,3540"
    PERL_CR_SMOKER_CURRENT="IO-Iron-0.11"
    PERL_EXTUTILS_AUTOINSTALL="--defaultdeps"
    PERL_MM_USE_DEFAULT="1"
  @INC:
    C:/Smoker/5201x64/perl/site/lib/MSWin32-x64-multi-thread
    C:/Smoker/5201x64/perl/site/lib
    C:/Smoker/5201x64/perl/vendor/lib
    C:/Smoker/5201x64/perl/lib
    .